Workbook

Sheet บัญชีครุภัณฑ์ 30 ก.ย.64
A1: บัญชีทรัพย์สิน (ครุภัณฑ์)
A2: กรมจังหวัดพังงา
A3: ประจำปีงบประมาณ 2552
A4: 2552 - 1.โครงการผลิตปาล์มน้ำมันจังหวัดพังงา กิจกรรม สร้างศูนย์รวบรวมผลผลิตปาล์มน้ำมัน (ลานเท) 2 ลาน หน่วยดำเนินการ สนง.เกษตร จ.พังงา
A5: ลำดับ | B5: วันที่ได้มา | C5: รหัสสินทรัพย์ใน | E5: ชื่อและรายละเอียดสินทรัพย์ | F5: จำนวน | G5: ราคาต่อหน่วย | H5: มูลค่าทรัพย์สิน | I5: ค่าเสื่อมราคาสะสม | J5: ราคาตามบัญชี | K5: หน่วยงานผู้รับโอน
A6: ที่ | C6: ระบบ GFMIS | I6: ณ 31 ก.ค. 64
A7: 1 | B7: 01.03.2020 | C7: 100000000838 | D7: 0 | E7: เครื่องชั่งขนาด 50 ตัน | F7: 1 เครื่อง | G7: 1296000 | H7: 1296000 | I7: -1295999 | J7: 1
L8: =SUM(H7:H7) -> 1296000
A9: 2552 - 2.โครงการผลิตปาล์มน้ำมันจังหวัดพังงา กิจกรรม ส่งเสริมการเลี้ยงสัตว์ในสวนปาล์มน้ำมัน หน่วยดำเนินการ สนง.ปศุสัตว์ จ.พังงา
A10: ลำดับ | B10: วันที่ได้มา | C10: รหัสสินทรัพย์ใน | E10: ชื่อและรายละเอียดสินทรัพย์ | F10: จำนวน | G10: ราคาต่อหน่วย | H10: มูลค่าทรัพย์สิน | I10: ค่าเสื่อมราคาสะสม | J10: ราคาตามบัญชี | K10: หน่วยงานผู้รับโอน
A11: ที่ | C11: ระบบ GFMIS | I11: ณ 31 ก.ค. 64
A12: 1 | B12: 01.03.2020 | C12: 100000000834 | D12: 0 | E12: เครื่องย่อยพืชสด | F12: 4 เครื่อง | G12: =+H12/4 -> 116000 | H12: 464000 | I12: -463999 | J12: 1
L13: =SUM(H12:H12) -> 464000
A14: 2552 - 3. โครงการพัฒนาเกษตรอินทรีย์ กิจกรรม จัดคลีนิคดินเคลื่อนที่ หน่วยดำเนินการ สนง.เกษตร จ.พังงา
A15: ลำดับ | B15: วันที่ได้มา | C15: รหัสสินทรัพย์ใน | E15: ชื่อและรายละเอียดสินทรัพย์ | F15: จำนวน | G15: ราคาต่อหน่วย | H15: มูลค่าทรัพย์สิน | I15: ค่าเสื่อมราคาสะสม | J15: ราคาตามบัญชี | K15: หน่วยงานผู้รับโอน
A16: ที่ | C16: ระบบ GFMIS | I16: ณ 30 ก.ย. 64
A17: 1 | B17: 10.03.2009 | C17: 100000000002 | D17: 0 | E17: รถยนต์ตู้ ยี่ห้อ TOYOTA | F17: 1 คัน | G17: 1290000 | H17: 1290000 | I17: -1289999 | J17: 1
A18: 2 | B18: 01.03.2020 | C18: 100000000833 | D18: 0 | E18: เครื่องมือวิเคราะห์ดินพร้อมคอมพิวเตอร์ | F18: 1 ชุด | G18: 657000 | H18: 657000 | I18: -656999 | J18: 1
A19: 3 | B19: 01.03.2020 | C19: 100000000836 | D19: 0 | E19: ถังน้ำกลั่นขนาด 50 ลิตร | F19: 1 ถัง | G19: 6800 | H19: 6800 | I19: -6799 | J19: 1
A20: 4 | B20: 01.03.2020 | C20: 100000000837 | D20: 0 | E20: อ่างไฟเบอร์กลาส | F20: 1 ชุด | G20: 19800 | H20: 19800 | I20: -19799 | J20: 1
A21: 5 | B21: 01.03.2020 | C21: 100000000822 | D21: 0 | E21: เครื่องไมโครคอมพิวเตอร์พร้อมอุปกรณ์ | F21: 1 ชุด | G21: 34360 | H21: 34360 | I21: -34359 | J21: 1
A22: 6 | B22: 01.03.2020 | C22: 100000000823 | D22: 0 | E22: เครื่องพิมพ์ Laserjet | F22: 1 เครื่อง | G22: 5190 | H22: 5190 | I22: -5189 | J22: 1
L23: =SUM(H17:H22) -> 2013150
A24: 2552 - 4. โครงการสนับสนุนครัวเรือนยากจนที่มีรายได้ต่ำกว่าเกณฑ์ จปฏ. หน่วยดำเนินการ สนง.พัฒนาชุมชน จ.พังงา
A25: ลำดับ | B25: วันที่ได้มา | C25: รหัสสินทรัพย์ใน | E25: ชื่อและรายละเอียดสินทรัพย์ | F25: จำนวน | G25: ราคาต่อหน่วย | H25: มูลค่าทรัพย์สิน | I25: ค่าเสื่อมราคาสะสม | J25: ราคาตามบัญชี | K25: หน่วยงานผู้รับโอน
A26: ที่ | C26: ระบบ GFMIS | I26: ณ 30 ก.ย. 64
A27: 1 | B27: 27.11.2009 | C27: 100000000045 | D27: 0 | E27: เรือไม้ขนาด 1.5*8 ม. | F27: 2 ลำ | G27: 40000 | H27: 80000 | I27: -79999 | J27: 1
A28: 2 | B28: 27.11.2009 | C28: 100000000046 | D28: 0 | E28: เรือไฟเบอร์คลาสขนาด 1.10*4.90 ม. | F28: 1 ลำ | G28: 30000 | H28: 30000 | I28: -29999 | J28: 1
A29: 3 | B29: 27.11.2009 | C29: 100000000047 | D29: 0 | E29: เรือไม้ขนาด 1*5 ม. | F29: 4 ลำ | G29: =+H29/4 -> 10500 | H29: 42000 | I29: -41999 | J29: 1
A30: 4 | B30: 27.11.2009 | C30: 100000000048 | D30: 0 | E30: เครื่องเรือเบนซินไม่น้อยกว่า 389 ซีซี | F30: 4 เครื่อง | G30: =+H30/4 -> 18500 | H30: 74000 | I30: -73999 | J30: 1
A31: 5 | B31: 27.11.2009 | C31: 100000000049 | D31: 0 | E31: เครื่องเรือเบนซินขนาด 5.5 แรงม้า | F31: 4 เครื่อง | G31: 10000 | H31: 40000 | I31: -39999 | J31: 1
A32: 6 | B32: 27.11.2009 | C32: 100000000050 | D32: 0 | E32: เครื่องยนต์ดีเซลขนาด 85 แรงม้า-สนง.พัฒนาชุมชน | F32: 2 เครื่อง | G32: 5000 | H32: 10000 | I32: -9999 | J32: 1
A33: 7 | B33: 01.03.2020 | C33: 100000000808 | E33: เครื่องเชื่อมไฟฟ้าขนาด 300 แอมป์ | F33: 1 เครื่อง | G33: 13000 | H33: 13000 | I33: -12999 | J33: 1
A34: 8 | B34: 01.03.2020 | C34: 100000000809 | D34: 0 | E34: จักรเย็บผ้าไฟฟ้าชนิดตั้งโต๊ะ | F34: 1 หลัง | G34: 10000 | H34: 10000 | I34: -9999 | J34: 1
A35: 9 | B35: 01.03.2020 | C35: 100000000810 | D35: 0 | E35: จักรโพ้ง (จักรพันริม) | F35: 1 หลัง | G35: 7500 | H35: 7500 | I35: -7499 | J35: 1
A36: 10 | B36: 01.03.2020 | C36: 100000000811 | D36: 0 | E36: ชุดเขี่ยกุญแจพร้อมอุปกรณ์ | F36: 1 ชุด | G36: 21500 | H36: 21500 | I36: -21499 | J36: 1
A37: 11 | B37: 01.03.2020 | C37: 100000000812 | D37: 0 | E37: เครื่องซักผ้าขนาด 15 กก. | F37: 2 เครื่อง | G37: 20000 | H37: 40000 | I37: -39999 | J37: 1
A38: 12 | B38: 01.03.2020 | C38: 100000000813 | D38: 0 | E38: เตาแก๊ส ชนิด 2 หัวเตา | F38: 3 ชุด | G38: 3000 | H38: 9000 | I38: -8999 | J38: 1
A39: 13 | B39: 01.03.2020 | C39: 100000000814 | D39: 0 | E39: ตู้แช่แข็งฝาทึบพร้อมเครื่องกันไฟตกตัด | F39: 1 ตู้ | G39: 11000 | H39: 11000 | I39: -10999 | J39: 1
A40: 14 | B40: 01.03.2020 | C40: 100000000815 | D40: 0 | E40: เตาอบแก๊ส 7 หัว มีถาดได้ไม่น้อยกว่า 2 ชั้น | F40: 1 เครื่อง | G40: 8000 | H40: 8000 | I40: -7999 | J40: 1
A41: 15 | B41: 01.03.2020 | C41: 100000000839 | D41: 0 | E41: กระชังเลี้ยงปลาสำเร็จรูป 3*3 เมตร | F41: 22 กระชัง | G41: 6000 | H41: 132000 | I41: -131999 | J41: 1
A42: 16 | B42: 01.03.2020 | C42: 100000000840 | D42: 0 | E42: เครื่องตัดหญ้าสะพายหลังคอแข็ง | F42: 4 เครื่อง | G42: 7000 | H42: 28000 | I42: -27999 | J42: 1
A43: 17 | B43: 01.03.2020 | C43: 100000000841 | D43: 0 | E43: เครื่องตัดหญ้าแบบสะพายหางแข็ง | F43: 17 เครื่อง | G43: 10000 | H43: 170000 | I43: -169999 | J43: 1
A44: 18 | B44: 01.03.2020 | C44: 100000000842 | D44: 0 | E44: เครื่องพ่นยาชนิดสะพายหลัง | F44: 1 เครื่อง | G44: 11500 | H44: 11500 | I44: -11499 | J44: 1
A45: 19 | B45: 01.03.2020 | C45: 100000000818 | D45: 0 | E45: เครื่องพริ้นเตอร์ HP Laser Jet P1505 | F45: 1 เครื่อง | G45: 10790 | H45: 10790 | I45: -10789 | J45: 1
L46: =SUM(H27:H45) -> 748290
A47: 2552 - 5.โครงการหอสูงชมทิวทัศน์อ่าวพังงา หน่วยดำเนินการ สนง.โยธาธิการและผังเมือง จ.พังงา
A48: ลำดับ | B48: วันที่ได้มา | C48: รหัสสินทรัพย์ใน | E48: ชื่อและรายละเอียดสินทรัพย์ | F48: จำนวน | G48: ราคาต่อหน่วย | H48: มูลค่าทรัพย์สิน | I48: ค่าเสื่อมราคาสะสม | J48: ราคาตามบัญชี | K48: หน่วยงานผู้รับโอน
A49: ที่ | C49: ระบบ GFMIS | I49: ณ 30 ก.ย. 64
A50: 1 | B50: 01.03.2020 | C50: 100000000819 | D50: 0 | E50: คอมพิวเตอร์ HP รุ่น P6182L | F50: 1 เครื่อง | G50: 29900 | H50: 29900 | I50: 29899 | J50: 1 | L50: =+H50 -> 29900
L51: =SUM(L14:L50) -> 2791340
A52: บัญชีทรัพย์สิน (ครุภัณฑ์)
A53: กรมจังหวัดพังงา
A54: ประจำปีงบประมาณ 2553
A55: 2553 - 1.โครงการส่งเสริมการเกษตรตามแนวเศรษฐกิจพอเพียง กิจกรรมศูนย์เรียนรู้การเกษตรตามแนวเศรษฐกิจพอเพียงภูมิปัญญาแห่งแผ่นดินขยายผลสู่ปวงชนชาวไทย หน่วยดำเนินการ สำนักงานเกษตร จ.พังงา
A56: ลำดับ | B56: วันที่ได้มา | C56: รหัสสินทรัพย์ใน | E56: ชื่อและรายละเอียดสินทรัพย์ | F56: จำนวน | G56: ราคาต่อหน่วย | H56: มูลค่าทรัพย์สิน | I56: ค่าเสื่อมราคาสะสม | J56: ราคาตามบัญชี | K56: หน่วยงานผู้รับโอน
A57: ที่ | C57: ระบบ GFMIS | I57: ณ 30 ก.ย. 64
A58: 1 | B58: 01.03.2020 | C58: 100000000826 | D58: 0 | E58: เครื่องคอมพิวเตอร์แม่ข่ายพร้อมอุปกรณ์ | F58: 2 ชุด | G58: =+H58/2 -> 50000 | H58: 100000 | I58: -99999 | J58: 1
A59: 2 | B59: 01.03.2020 | C59: 100000000827 | D59: 0 | E59: คอมพิวเตอร์ โน๊ตบุค | F59: 1 เครื่อง | G59: 29900 | H59: 29900 | I59: -29899 | J59: 1
A60: 3 | B60: 01.03.2020 | C60: 100000000848 | D60: 0 | E60: เครื่องผสมปุ๋ยและเครื่องอัดเม็ด | F60: 1 เครื่อง | G60: 400000 | H60: 400000 | I60: -399999 | J60: 1
A61: 4 | B61: 23.06.2010 | C61: 100000000071 | D61: 0 | E61: เครื่องฉายโปรเจคเตอร์ | F61: 3 เครื่อง | G61: =+H61/3 -> 87000 | H61: 261000 | I61: -260999 | J61: 1
A62: 5 | B62: 23.06.2010 | C62: 100000000075 | D62: 0 | E62: เครื่องปรับกากาศแบบแยกส่วน | F62: 7 เครื่อง | G62: =+H62/7 -> 34000 | H62: 238000 | I62: -223600.46 | J62: 14399.54
A63: 6 | B63: 23.06.2010 | C63: 100000000076 | D63: 0 | E63: โต๊ะประชุมพร้อมเก้าอี้ | F63: 20 ชุด | G63: =+H63/20 -> 12500 | H63: 250000 | I63: -234874.43 | J63: 15125.57
A64: 7 | B64: 23.06.2010 | C64: 100000000072 | D64: 0 | E64: โทรทัศน์สี 33 นิ้ว | F64: 2 เครื่อง | G64: =+H64/2 -> 29900 | H64: 59800 | I64: -59799 | J64: 1
A65: 8 | B65: 23.06.2010 | C65: 100000000073 | D65: 0 | E65: กล้องถ่ายภาพนิ่ง | F65: 1 ตัว | G65: 49900 | H65: 49900 | I65: -49899 | J65: 1
A66: 9 | B66: 23.06.2010 | C66: 100000000074 | D66: 0 | E66: เครื่องถ่ายวีดีโอ | F66: 1 ตัว | G66: 49000 | H66: 49000 | I66: -48999 | J66: 1
A67: 10 | B67: 23.06.2010 | C67: 100000000077 | D67: 0 | E67: เครื่องถ่ายเอกสาร | F67: 1 เครื่อง | G67: 99000 | H67: 99000 | I67: -93010.27 | J67: 5989.73
A68: 11 | B68: 01.03.2020 | C68: 100000000849 | D68: 0 | E68: เครื่องย่อยอาหารสัตว์ | F68: 1 เครื่อง | G68: 200000 | H68: 200000 | I68: -199999 | J68: 1
A69: 12 | B69: 01.03.2020 | C69: 100000000850 | D69: 0 | E69: เครื่องสีข้าวกล้อง | F69: 1 เครื่อง | G69: 50000 | H69: 50000 | I69: -49999 | J69: 1 | L69: =SUM(H58:H69) -> 1786600
A71: 2553 - 2.โครงการส่งเสริมการเกษตรตามแนวเศรษฐกิจพอเพียง กิจกรรมส่งเสริมการเลี้ยงสัตว์ในสวนปาล์มน้ำมัน หน่วยดำเนินการ สำนักงานปศุสัตว์ จ.พังงา
A72: ลำดับ | B72: วันที่ได้มา | C72: รหัสสินทรัพย์ใน | E72: ชื่อและรายละเอียดสินทรัพย์ | F72: จำนวน | G72: ราคาต่อหน่วย | H72: มูลค่าทรัพย์สิน | I72: ค่าเสื่อมราคาสะสม | J72: ราคาตามบัญชี | K72: หน่วยงานผู้รับโอน
A73: ที่ | C73: ระบบ GFMIS | I73: ณ 30 ก.ย. 64
A74: 1 | B74: 01.03.2020 | C74: 100000000843 | D74: 0 | E74: เครื่องย่อยพืชสด | F74: 4 เครื่อง | G74: =+H74/4 -> 171200 | H74: 684800 | I74: -684799 | J74: 1 | L74: =+H74 -> 684800
A76: 2553 - 3.โครงการส่งเสริมการผลิตสินค้าเกษตรที่มีความสำคัญทางเศรษฐกิจของจังหวัด กิจกรรม ส่งเสริมและพัฒนาการผลิตปาล์มน้ำมัน จ.พังงา หน่วยดำเนินการ สำนักงานเกษตร จ.พังงา
A77: ลำดับ | B77: วันที่ได้มา | C77: รหัสสินทรัพย์ใน | E77: ชื่อและรายละเอียดสินทรัพย์ | F77: จำนวน | G77: ราคาต่อหน่วย | H77: มูลค่าทรัพย์สิน | I77: ค่าเสื่อมราคาสะสม | J77: ราคาตามบัญชี | K77: หน่วยงานผู้รับโอน
A78: ที่ | C78: ระบบ GFMIS | I78: ณ 30 ก.ย. 64
A79: 1 | B79: 01.03.2020 | C79: 100000000825 | D79: 0 | E79: โน๊ตบุค Acer รุ่น ASPIRE 4736 | F79: 3 เครื่อง | G79: =+H79/3 -> 34990 | H79: 104970 | I79: -104969 | J79: 1
A80: 2 | B80: 01.03.2020 | C80: 100000000829 | D80: 0 | E80: คอมพิวเตอร์ Acer,พริ้นเตอร์ Samsung | F80: 3 ชุด | G80: =+H80/3 -> 38330 | H80: 114990 | I80: -114989 | J80: 1 | L80: =SUM(H79:H80) -> 219960
A82: 2553 - 4.โครงการส่งเสริมการผลิตสินค้าเกษตรที่มีความสำคัญทางเศรษฐกิจของจังหวัด กิจกรรม ก่อสร้างลานเทปาล์มน้ำมันสหกรณ์กองทุนสวนยางบ้านบ่อแสน หน่วยดำเนินการ สำนักงานสหกรณ์ จ.พังงา
A83: ลำดับ | B83: วันที่ได้มา | C83: รหัสสินทรัพย์ใน | E83: ชื่อและรายละเอียดสินทรัพย์ | F83: จำนวน | G83: ราคาต่อหน่วย | H83: มูลค่าทรัพย์สิน | I83: ค่าเสื่อมราคาสะสม | J83: ราคาตามบัญชี | K83: หน่วยงานผู้รับโอน
A84: ที่ | C84: ระบบ GFMIS | I84: ณ 30 ก.ย. 64
A85: 1 | B85: 08.12.2010 | C85: 100000000124 | D85: 0 | E85: เครื่องชั่งดิจิตอล 50 ตัน | F85: 1 เครื่อง | G85: 730000 | H85: 730000 | I85: -729999 | J85: 1 | L85: =+H85 -> 730000
A87: 2553 - 5.โครงการส่งเสริมการผลิตสินค้าเกษตรที่มีความสำคัญทางเศรษฐกิจของจังหวัด กิจกรรม พัฒนาอาชีพปศุสัตว์ หน่วยดำเนินการ สำนักงานปศุสัตว์ จ.พังงา
A88: ลำดับ | B88: วันที่ได้มา | C88: รหัสสินทรัพย์ใน | E88: ชื่อและรายละเอียดสินทรัพย์ | F88: จำนวน | G88: ราคาต่อหน่วย | H88: มูลค่าทรัพย์สิน | I88: ค่าเสื่อมราคาสะสม | J88: ราคาตามบัญชี | K88: หน่วยงานผู้รับโอน
A89: ที่ | C89: ระบบ GFMIS | I89: ณ 30 ก.ย. 64
A90: 1 | B90: 11.10.2010 | C90: 100000000109 | D90: 0 | E90: ซองบังคับสัตว์ใหญ่ | F90: 1 ชุด | G90: 200000 | H90: 200000 | I90: -199999 | J90: 1
A91: 2 | B91: 11.10.2010 | C91: 100000000110 | D91: 0 | E91: ซองบังคับสัตว์เล็ก | F91: 1 ขุด | G91: 150000 | H91: 150000 | I91: -149999 | J91: 1
A92: 3 | B92: 03.08.2010 | C92: 100000000089 | D92: 0 | E92: รถยนต์ตู้โมบาย ยี่ห้อ TOYOTA | F92: 1 คัน | G92: 1350000 | H92: 1350000 | I92: -1349999 | J92: 1
A93: 4 | B93: 11.10.2010 | C93: 100000000115 | D93: 0 | E93: เครื่องปั่นเลือด(แยกซีรัม) | F93: 1 เครื่อง | G93: 59000 | H93: 59000 | I93: -58999 | J93: 1
A94: 5 | B94: 11.10.2010 | C94: 100000000116 | D94: 0 | E94: กล้องจุลทรรศน์ | F94: 1 ตัว | G94: 30000 | H94: 30000 | I94: -29999 | J94: 1
A95: 6 | B95: 11.10.2010 | C95: 100000000119 | D95: 0 | E95: เครื่องมือผ่าซากสัตว์ | F95: 1 ชุด | G95: 18000 | H95: 18000 | I95: -17999 | J95: 1
A96: 7 | B96: 11.10.2010 | C96: 100000000111 | D96: 0 | E96: คอมพิวเตอร์โน๊ตบุค | F96: 1 เครื่อง | G96: 25000 | H96: 25000 | I96: -24999 | J96: 1
A97: 8 | B97: 11.10.2010 | C97: 100000000114 | D97: 0 | E97: คอมพิวเตอร์ลูกข่าย | F97: 1 ชุด | G97: 29500 | H97: 29500 | I97: -29499 | J97: 1
A98: 9 | B98: 11.10.2010 | C98: 100000000112 | D98: 0 | E98: เครื่องฉายโปรเจคเตอร์ | F98: 1 เครื่อง | G98: 40000 | H98: 40000 | I98: -39999 | J98: 1
A99: 10 | B99: 11.10.2010 | C99: 100000000113 | D99: 0 | E99: กล้องดิจิตอล | F99: 1 เครื่อง | G99: 11900 | H99: 11900 | I99: -11899 | J99: 1
A100: 11 | B100: 11.10.2010 | C100: 100000000120 | D100: 0 | E100: กล้องวีดิโอ | F100: 1 เครื่อง | G100: 43900 | H100: 43900 | I100: -43899 | J100: 1
A101: 12 | B101: 01.03.2020 | C101: 100000000852 | D101: 0 | E101: โต๊ะสแตนเลสโรงฆ่าสัตว์ | F101: 1 ขุด | G101: 30000 | H101: 30000 | I101: -29999 | J101: 1 | L101: =SUM(H90:H101) -> 1987300
A103: 2553 - 6.โครงการอาหารปลอดภัยสู่ครัวอันดามัน กิจกรรม การพัฒนาสินค้าปศุสัตว์ปลอดภัยสู่ครัวอันดามัน หน่วยดำเนินการ สำนักงานปศุสัตว์ จ.พังงา
A104: ลำดับ | B104: วันที่ได้มา | C104: รหัสสินทรัพย์ใน | E104: ชื่อและรายละเอียดสินทรัพย์ | F104: จำนวน | G104: ราคาต่อหน่วย | H104: มูลค่าทรัพย์สิน | I104: ค่าเสื่อมราคาสะสม | J104: ราคาตามบัญชี | K104: หน่วยงานผู้รับโอน
A105: ที่ | C105: ระบบ GFMIS | I105: ณ 30 ก.ย. 64
...

Sheet บัญชีสิ่งก่อสร้าง กย64
A1: บัญชีสินทรัพย์ (ที่ดินและสิ่งก่อสร้าง)
A2: กรมจังหวัดพังงา
A3: ประจำปีงบประมาณ 2552
A4: 2552-1 โครงการผลิดปาล์มน้ำมันจังหวัดพังงา กิจกรรมสร้างศูนย์รวบรวมผลผลิตปาล์มน้ำมัน (ลานเท) 2 ลาน หน่วยดำเนินการ สำนักงานเกษตร จ.พังงา
A5: ลำดับ | B5: รหัสสินทรัพย์ใน | C5: สท.หลัก | D5: วันที่ได้มา | E5: ชื่อและรายละเอียดสินทรัพย์ | F5: มูลค่าทรัพย์สิน | G5: ค่าเสื่อมราคาสะสม | H5: ราคาตามบัญชี | I5: หน่วยงานผู้รับโอน
A6: ที่ | B6: ระบบ GFMIS | C6: สท.ย่อย | G6: ณ 30 ก.ย.64
B7: 100000000520 | C7: 0 | D7: 01.09.2017 | E7: อาคารสำนักงานลานเทปาล์มน้ำมันพร้อมอุปกรณ์ อ.เมือง,อ.ตะกั่วป่า-สนง.เกษตร | F7: 1706666.7 | G7: -870867.58 | H7: 835799.09
B8: 100000000520 | C8: 1 | D8: 01.09.2017 | E8: อาคารสำนักงานลานเทปาล์มน้ำมันพร้อมอุปกรณ์ อ.เมือง,อ.ตะกั่วป่า-สนง.เกษตร | F8: 1493333.3 | G8: -1493332.3 | H8: 1
A9: 1 | B9: 100000000520 | C9: 0 | D9: 01.09.2017 | E9: อาคารสำนักงานลานเทปาล์มน้ำมันพร้อมอุปกรณ์ อ.เมือง,อ.ตะกั่วป่า | F9: =SUM(F7:F8) -> 3200000 | G9: =SUM(G7:G8) -> -2364199.9 | H9: =SUM(H7:H8) -> 835800.09
A11: 2552-2 โครงการผลิดปาล์มน้ำมันจังหวัดพังงา กิจกรรมแปลงเพาะกล้าปาล์มน้ำมันพันธุ์ดี 1 แปลง หน่วยดำเนินการ สำนักงานสหกรณ์ จ.พังงา
A12: ลำดับ | B12: รหัสสินทรัพย์ใน | C12: สท.หลัก | D12: วันที่ได้มา | E12: ชื่อและรายละเอียดสินทรัพย์ | F12: มูลค่าทรัพย์สิน | G12: ค่าเสื่อมราคาสะสม | H12: ราคาตามบัญชี | I12: หน่วยงานผู้รับโอน
A13: ที่ | B13: ระบบ GFMIS | C13: สท.ย่อย | G13: ณ 30 ก.ย.64
A14: 1 | B14: 100000000024 | C14: 0 | D14: 26.08.2009 | E14: โรงเพาะชำกล้าปาล์ม | F14: 1290000 | G14: -1040482.2 | H14: 249517.85
A15: 2 | B15: 100000000026 | C15: 0 | D15: 09.07.2009 | E15: โรงเพาะชำกล้าปาล์ม | F15: 232000 | G15: -189159.37 | H15: 42840.63
A17: 2552-3 โครงการผลิดปาล์มน้ำมันจังหวัดพังงา กิจกรรมขยายพื้นที่ปลูกปาล์มน้ำมันในเขตชลประทาน 1000 ไร่ หน่วยดำเนินการ โครงการชลประทานจังหวัดพังงา
A18: ลำดับ | B18: รหัสสินทรัพย์ใน | C18: สท.หลัก | D18: วันที่ได้มา | E18: ชื่อและรายละเอียดสินทรัพย์ | F18: มูลค่าทรัพย์สิน | G18: ค่าเสื่อมราคาสะสม | H18: ราคาตามบัญชี | I18: หน่วยงานผู้รับโอน
A19: ที่ | B19: ระบบ GFMIS | C19: สท.ย่อย | G19: ณ 30 ก.ย.64
B20: 100000000667 | C20: 0 | D20: 01.03.2019 | E20: ก่อสร้างระบบส่งน้ำโดยระบบท่อ- โครงการชลประทาน พง. | F20: 498674.47 | G20: -234436.61 | H20: 264237.86
B21: 100000000667 | C21: 1 | D21: 01.03.2019 | E21: ก่อสร้างระบบส่งน้ำโดยระบบท่อ- โครงการชลประทาน พง. | F21: 852262.07 | G21: -852261.07 | H21: 1
A22: 1 | B22: 100000000667 | C22: 0 | D22: 01.03.2019 | E22: ก่อสร้างระบบส่งน้ำโดยระบบท่อ | F22: =SUM(F20:F21) -> 1350936.5 | G22: =SUM(G20:G21) -> -1086697.7 | H22: =SUM(H20:H21) -> 264238.86
A24: 2552-4 โครงการโครงการเพิ่มประสิทธิภาพการผลิตยางพารา กิจกรรมพัฒนาวิสาหกิจชุมชนยางพารา หน่วยดำเนินการ สำนักงานเกษตร จ.พังงา
A25: ลำดับ | B25: รหัสสินทรัพย์ใน | C25: สท.หลัก | D25: วันที่ได้มา | E25: ชื่อและรายละเอียดสินทรัพย์ | F25: มูลค่าทรัพย์สิน | G25: ค่าเสื่อมราคาสะสม | H25: ราคาตามบัญชี | I25: หน่วยงานผู้รับโอน
A26: ที่ | B26: ระบบ GFMIS | C26: สท.ย่อย | G26: ณ 30 ก.ย.64
A27: 1 | B27: 100000000023 | C27: 0 | D27: 14.07.2009 | E27: อาคารศูนย์รวบรวมน้ำยางสด | F27: 1000000 | G27: -814429.17 | H27: 185570.83
A29: 2552-5 โครงการสร้างโรงเก็บเรือยนต์เร็วตรวจการ หน่วยดำเนินการ ที่ทำการปกครอง อ.คุระบุรี
A30: ลำดับ | B30: รหัสสินทรัพย์ใน | C30: สท.หลัก | D30: วันที่ได้มา | E30: ชื่อและรายละเอียดสินทรัพย์ | F30: มูลค่าทรัพย์สิน | G30: ค่าเสื่อมราคาสะสม | H30: ราคาตามบัญชี | I30: หน่วยงานผู้รับโอน
A31: ที่ | B31: ระบบ GFMIS | C31: สท.ย่อย | G31: ณ 30 ก.ย.64
A32: 1 | B32: 100000000022 | C32: 0 | D32: 21.08.2009 | E32: โรงเก็บเรือยนต์เร็วตรวจการณ์ อ.คุระบุรี | F32: 69551 | G32: -56161.66 | H32: 13389.34
A34: 2552-6 โครงการอนุรักษ์และพัฒนาแหล่งท่องเที่ยวทางวัฒนธรรมตามเส้นทางแม่น้ำตะกั่วป่า กิจกรรมอนุรักษ์และพัฒนาแหล่งโบราณคดีทุ่งตึก ต.เกาะคอเขา หน่วยดำเนินการ สนง.วัฒนธรรม จ.พังงา
A35: ลำดับ | B35: รหัสสินทรัพย์ใน | C35: สท.หลัก | D35: วันที่ได้มา | E35: ชื่อและรายละเอียดสินทรัพย์ | F35: มูลค่าทรัพย์สิน | G35: ค่าเสื่อมราคาสะสม | H35: ราคาตามบัญชี | I35: หน่วยงานผู้รับโอน
A36: ที่ | B36: ระบบ GFMIS | C36: สท.ย่อย | G36: ณ 30 ก.ย.64
B37: 100000000640 | C37: 0 | D37: 01.03.2019 | E37: อาคารศูนย์ข้อมูลบริการพิพิธภัณฑ์เอเชีย-วัฒนธรรม | F37: 1304109.6 | G37: -518786.11 | H37: 785323.48
B38: 100000000640 | C38: 1 | D38: 01.03.2019 | E38: อาคารศูนย์ข้อมูลบริการพิพิธภัณฑ์เอเชีย-วัฒนธรรม | F38: 1695890.4 | G38: -1695889.4 | H38: 1 | J38: =SUM(F37:F37) -> 1304109.6
B39: 100000000640 | C39: 0 | D39: 01.03.2019 | E39: อาคารศูนย์ข้อมูลบริการพิพิธภัณฑ์เอเชีย | F39: =SUM(F37:F38) -> 3000000 | G39: =SUM(G37:G38) -> -2214675.5 | H39: =SUM(H37:H38) -> 785324.48
A41: 2552-7 โครงการชาวพังงารักษ์ป่าคุ้มครองสิ่งแวดล้อม กิจกรรมเพราะชำกล้าไม้เพื่อเพิ่มพื้นที่สีเขียวจังหวัดพังงา สำนักงานทรัพยากรธรรมชาติและสิ่งแวดล้อม จ.พังงา
A42: ลำดับ | B42: รหัสสินทรัพย์ใน | C42: สท.หลัก | D42: วันที่ได้มา | E42: ชื่อและรายละเอียดสินทรัพย์ | F42: มูลค่าทรัพย์สิน | G42: ค่าเสื่อมราคาสะสม | H42: ราคาตามบัญชี | I42: หน่วยงานผู้รับโอน
A43: ที่ | B43: ระบบ GFMIS | C43: สท.ย่อย | G43: ณ 30 ก.ย.64
A44: 1 | B44: 100000000025 | C44: 0 | D44: 17.02.2009 | E44: โรงเพาะชำกล้าไม้ | F44: 45715.75 | G44: -38459.63 | H44: 7256.12
A46: 2552-8 โครงการการรักษาทรัพยากรธรรมชาติและสิ่งแวดล้อม หน่วยดำเนินการ สำนักงาน โยธาธิการและผังเมือง จ.พังงา
A47: ลำดับ | B47: รหัสสินทรัพย์ใน | C47: สท.หลัก | D47: วันที่ได้มา | E47: ชื่อและรายละเอียดสินทรัพย์ | F47: มูลค่าทรัพย์สิน | G47: ค่าเสื่อมราคาสะสม | H47: ราคาตามบัญชี | I47: หน่วยงานผู้รับโอน
A48: ที่ | B48: ระบบ GFMIS | C48: สท.ย่อย | G48: ณ 30 ก.ย.64
B49: 100000000524 | C49: 0 | D49: 01.09.2017 | E49: ยกระดับถนนบริเวณสะพานศรีสุคต | F49: 573333 | G49: -573332 | H49: 1
B50: 100000000524 | C50: 1 | D50: 01.09.2017 | E50: ยกระดับถนนบริเวณสะพานศรีสุคต | F50: 1026667 | G50: -1026666 | H50: 1
A51: 1 | B51: 100000000524 | C51: 0 | D51: 01.09.2017 | E51: ยกระดับถนนบริเวณสะพานศรีสุคต | F51: =SUM(F49:F50) -> 1600000 | G51: =SUM(G49:G50) -> -1599998 | H51: =SUM(H49:H50) -> 2
B52: 100000000525 | C52: 0 | D52: 01.09.2017 | E52: ระบบน้ำล้นฝายสันมน | F52: 9065333 | G52: -849091.4 | H52: 8216241.6
B53: 100000000525 | C53: 1 | D53: 01.09.2017 | E53: ระบบน้ำล้นฝายสันมน | F53: 1334667 | G53: -1334666 | H53: 1
A54: 2 | B54: 100000000525 | C54: 0 | D54: 01.09.2017 | E54: ระบบน้ำล้นฝายสันมน | F54: =SUM(F52:F53) -> 10400000 | G54: =SUM(G52:G53) -> -2183757.4 | H54: =SUM(H52:H53) -> 8216242.6
B55: 100000000668 | C55: 0 | D55: 01.03.2019 | E55: กำแพงกันดินริมครองปิ | F55: 17322866 | G55: -6891186.4 | H55: 10431679
B56: 100000000668 | C56: 1 | D56: 01.03.2019 | E56: กำแพงกันดินริมครองปิ | F56: 22661405 | G56: -22661404 | H56: 1
A57: 3 | B57: 100000000668 | C57: 0 | D57: 01.03.2019 | E57: กำแพงกันดินริมคลองปิ | F57: =SUM(F55:F56) -> 39984271 | G57: =SUM(G55:G56) -> -29552591 | H57: =SUM(H55:H56) -> 10431680
A59: 2552-9 โครงการก่อสร้างอาคารบังคับน้ำฝายกั้นคลองพังงา หน่วยดำเนินการ สำนักงานโยธาธิการและผังเมือง จ.พังงา
A60: ลำดับ | B60: รหัสสินทรัพย์ใน | C60: สท.หลัก | D60: วันที่ได้มา | E60: ชื่อและรายละเอียดสินทรัพย์ | F60: มูลค่าทรัพย์สิน | G60: ค่าเสื่อมราคาสะสม | H60: ราคาตามบัญชี | I60: หน่วยงานผู้รับโอน
A61: ที่ | B61: ระบบ GFMIS | C61: สท.ย่อย | G61: ณ 30 ก.ย.64
B62: 100000000452 | C62: 0 | D62: 01.12.2016 | E62: อาคารบังคับน้ำฝายกั้นคลองพังงา-โยธา | F62: 44160000 | G62: -4639561.6 | H62: 39520438
B63: 100000000452 | C63: 1 | D63: 01.12.2016 | E63: อาคารบังคับน้ำฝายกั้นคลองพังงา-โยธา | F63: 3840000 | G63: -3839999 | H63: 1
A64: 1 | B64: 100000000452 | C64: 0 | D64: 01.12.2016 | E64: อาคารบังคับน้ำฝายกั้นคลองพังงา | F64: =SUM(F62:F63) -> 48000000 | G64: =SUM(G62:G63) -> -8479560.6 | H64: =SUM(H62:H63) -> 39520439
A67: 2552-10 โครงการ ก่อสร้างระบบท่อส่งน้ำประปาฝายคลองรมณีย์ หน่วยดำเนินการ ที่ทำการปกครอง จ.พังงา
A68: ลำดับ | B68: รหัสสินทรัพย์ใน | C68: สท.หลัก | D68: วันที่ได้มา | E68: ชื่อและรายละเอียดสินทรัพย์ | F68: มูลค่าทรัพย์สิน | G68: ค่าเสื่อมราคาสะสม | H68: ราคาตามบัญชี | I68: หน่วยงานผู้รับโอน
A69: ที่ | B69: ระบบ GFMIS | C69: สท.ย่อย | G69: ณ 30 ก.ย.64
B70: 100000000677 | C70: 0 | D70: 01.03.2019 | E70: ระบบส่งน้ำประปาฝายคลองรมณีย์ | F70: 2330477.5 | G70: -851052.52 | H70: 1479425
B71: 100000000677 | C71: 1 | D71: 01.03.2019 | E71: ระบบส่งน้ำประปาฝายคลองรมณีย์ | F71: 2607357 | G71: -2607356 | H71: 1
A72: 1 | B72: 100000000677 | C72: 0 | D72: 01.03.2019 | E72: ระบบส่งน้ำประปาฝายคลองรมณีย์ | F72: =SUM(F70:F71) -> 4937834.5 | G72: =SUM(G70:G71) -> -3458408.5 | H72: =SUM(H70:H71) -> 1479426
A74: บัญชีสินทรัพย์ (ที่ดินและสิ่งก่อสร้าง)
A75: กรมจังหวัดพังงา
A76: ประจำปีงบประมาณ 2553
A77: 2553 - 1.โครงการส่งเสริมการผลิตสินค้าเกษตรอินทรีย์ กิจกรรม โรงผลิตปุ๋ยอินทรีย์ชีวภาพอำเภอกะปง หน่วยดำเนินการ สนง.เกษตร จ.พังงา
A78: ลำดับ | B78: รหัสสินทรัพย์ใน | C78: สท.หลัก | D78: วันที่ได้มา | E78: ชื่อและรายละเอียดสินทรัพย์ | F78: มูลค่าทรัพย์สิน | G78: ค่าเสื่อมราคาสะสม | H78: ราคาตามบัญชี | I78: หน่วยงานผู้รับโอน
A79: ที่ | B79: ระบบ GFMIS | C79: สท.ย่อย | G79: ณ 30 ก.ย.64
B80: 100000000678 | C80: 0 | D80: 01.03.2019 | E80: โรงผลิตปุ๋ยอินทรีย์ชีวภาพ อ.กะปง | F80: 609776.8 | G80: -222680.57 | H80: 387096.23
B81: 100000000678 | C81: 1 | D81: 01.03.2019 | E81: โรงผลิตปุ๋ยอินทรีย์ชีวภาพ อ.กะปง | F81: 682223.2 | G81: -682222.2 | H81: 1
A82: 1 | B82: 100000000678 | C82: 0 | D82: 01.03.2019 | E82: โรงผลิตปุ๋ยอินทรีย์ชีวภาพ อ.กะปง | F82: =SUM(F80:F81) -> 1292000 | G82: =SUM(G80:G81) -> -904902.77 | H82: =SUM(H80:H81) -> 387097.23
A84: 2553-2 โครงการส่งเสริมการผลิตสินค้าเกษตรอินทรีย์ กิจกรรม โรงผลิตปุ๋ยอินทรีย์ชีวภาพอำเภอเมือง หน่วยดำเนินการ สนง.เกษตร จ.พังงา
A85: ลำดับ | B85: รหัสสินทรัพย์ใน | C85: สท.หลัก | D85: วันที่ได้มา | E85: ชื่อและรายละเอียดสินทรัพย์ | F85: มูลค่าทรัพย์สิน | G85: ค่าเสื่อมราคาสะสม | H85: ราคาตามบัญชี | I85: หน่วยงานผู้รับโอน
A86: ที่ | B86: ระบบ GFMIS | C86: สท.ย่อย | G86: ณ 30 ก.ย.64
B87: 100000000674 | C87: 0 | D87: 01.03.2019 | E87: โรงผลิตปุ๋ย-สนง.เกษตร | F87: 840094.98 | G87: -306789.03 | H87: 533305.95
B88: 100000000674 | C88: 1 | D88: 01.03.2019 | E88: โรงผลิตปุ๋ย-สนง.เกษตร | F88: 939905.02 | G88: -939904.02 | H88: 1
A89: 1 | B89: 100000000674 | C89: 0 | D89: 01.03.2019 | E89: โรงผลิตปุ๋ยอินทรีย์ชีวภาพ | F89: =SUM(F87:F88) -> 1780000 | G89: =SUM(G87:G88) -> -1246693.1 | H89: =SUM(H87:H88) -> 533306.95
A91: 2553-3 โครงการส่งเสริมการผลิตสินค้าเกษตรอินทรีย์ กิจกรรม โรงผลิตปุ๋ยอินทรีย์ชีวภาพอำเภอท้ายเหมือง หน่วยดำเนินการ สนง.เกษตร จ.พังงา
A92: ลำดับ | B92: รหัสสินทรัพย์ใน | C92: สท.หลัก | D92: วันที่ได้มา | E92: ชื่อและรายละเอียดสินทรัพย์ | F92: มูลค่าทรัพย์สิน | G92: ค่าเสื่อมราคาสะสม | H92: ราคาตามบัญชี | I92: หน่วยงานผู้รับโอน
A93: ที่ | B93: ระบบ GFMIS | C93: สท.ย่อย | G93: ณ 30 ก.ย.64
A94: 1 | B94: 100000000081 | C94: 0 | D94: 03.06.2010 | E94: โรงผลิตปุ๋ยและโกดังเก็บปุ๋ยอินทรีย์ชีวภาพ | F94: 250000 | G94: -188812.79 | H94: 61187.21
A96: 2553 - 4.โครงการส่งเสริมการผลิตสินค้าเกษตรอินทรีย์ กิจกรรม โครงการเกษตรอินทรีย์ปุ๋ยอัดเม็ดและเครื่องผสมปุ๋ย หน่วยดำเนินการ สนง.สหกรณ์ จ.พังงา
A97: ลำดับ | B97: รหัสสินทรัพย์ใน | C97: สท.หลัก | D97: วันที่ได้มา | E97: ชื่อและรายละเอียดสินทรัพย์ | F97: มูลค่าทรัพย์สิน | G97: ค่าเสื่อมราคาสะสม | H97: ราคาตามบัญชี | I97: หน่วยงานผู้รับโอน
A98: ที่ | B98: ระบบ GFMIS | C98: สท.ย่อย | G98: ณ 30 ก.ย.64
B99: 100000000639 | C99: 0 | D99: 01.03.2019 | E99: อาคารโรงปุ๋ยอินทรีย์อัดเม็ด อ.ตะกั่วป่า | F99: 505139.73 | G99: -209053.88 | H99: 296085.85
B100: 100000000639 | C100: 1 | D100: 01.03.2019 | E100: อาคารโรงปุ๋ยอินทรีย์อัดเม็ด อ.ตะกั่วป่า | F100: 707860.27 | G100: -707859.27 | H100: 1
A101: 1 | B101: 100000000639 | C101: 0 | D101: 01.03.2019 | E101: อาคารโรงปุ๋ยอินทรีย์อัดเม็ด | F101: =SUM(F99:F100) -> 1213000 | G101: =SUM(G99:G100) -> -916913.15 | H101: =SUM(H99:H100) -> 296086.85
A103: ไทยเข็มแข็ง 2553 -1 โครงการส่งเสริมและพัฒนาแหล่งท่องเที่ยวและกิจกรรมการท่องเที่ยวที่หลากหลาย หน่วยดำเนินการ ที่ทำการปกครองอำเภอ
A104: ลำดับ | B104: รหัสสินทรัพย์ใน | C104: สท.หลัก | D104: วันที่ได้มา | E104: ชื่อและรายละเอียดสินทรัพย์ | F104: มูลค่าทรัพย์สิน | G104: ค่าเสื่อมราคาสะสม | H104: ราคาตามบัญชี | I104: หน่วยงานผู้รับโอน
A105: ที่ | B105: ระบบ GFMIS | C105: สท.ย่อย | G105: ณ 30 ก.ย.64
B106: 100000000697 | C106: 0 | D106: 01.03.2019 | E106: ปรับภูมิทัศน์น้ำตกวัดเขา- อ.ตะกั่วทุ่ง | F106: 789547.69 | G106: -288329.98 | H106: 501217.71
B107: 100000000697 | C107: 1 | D107: 01.03.2019 | E107: ปรับภูมิทัศน์น้ำตกวัดเขา- อ.ตะกั่วทุ่ง | F107: 883352.31 | G107: -883351.31 | H107: 1
A108: 1 | B108: 100000000697 | C108: 0 | D108: 01.03.2019 | E108: ปรับภูมิทัศน์น้ำตกวัดเขา- อ.ตะกั่วทุ่ง | F108: =SUM(F106:F107) -> 1672900 | G108: =SUM(G106:G107) -> -1171681.3 | H108: =SUM(H106:H107) -> 501218.71 | I108: หาเอกสารเบิก | J108: หาเอกสารเบิก
B109: 100000000698 | C109: 0 | D109: 01.03.2019 | E109: ปรับภูมิทัศน์คลองสังเหม่- อ.ตะกั่วป่า | F109: 404850.26 | G109: -147844.73 | H109: 257005.53
B110: 100000000698 | C110: 1 | D110: 01.03.2019 | E110: ปรับภูมิทัศน์คลองสังเหม่- อ.ตะกั่วป่า | F110: 452949.74 | G110: -452948.74 | H110: 1
A111: 2 | B111: 100000000698 | C111: 0 | D111: 01.03.2019 | E111: ปรับภูมิทัศน์คลองสังเหม่- อ.ตะกั่วป่า | F111: =SUM(F109:F110) -> 857800 | G111: =SUM(G109:G110) -> -600793.47 | H111: =SUM(H109:H110) -> 257006.53
B112: 100000000694 | C112: 0 | D112: 01.03.2019 | E112: ปรับปรุงภูมิทัศน์บ่อน้ำร้อนรมณีย์- อ.กะปง | F112: 2621369.9 | G112: -1029784.9 | H112: 1591584.9
B113: 100000000694 | C113: 1 | D113: 01.03.2019 | E113: ปรับปรุงภูมิทัศน์บ่อน้ำร้อนรมณีย์- อ.กะปง | F113: 3358630.1 | G113: -3358629.1 | H113: 1
A114: 3 | B114: 100000000694 | C114: 0 | D114: 01.03.2019 | E114: ปรับปรุงภูมิทัศน์บ่อน้ำร้อนรมณีย์- อ.กะปง | F114: =SUM(F112:F113) -> 5980000 | G114: =SUM(G112:G113) -> -4388414 | H114: =SUM(H112:H113) -> 1591585.9
B115: 100000000695 | C115: 0 | D115: 01.03.2019 | E115: ปรับปรุงภูมิทัศน์ถ้ำซำ- อ.เมือง | F115: 740410.59 | G115: -294541.76 | H115: 445868.83
...

Sheet กลุ่มจังหวัด
A1: บัญชีสินทรัพย์ (ที่ดินและสิ่งก่อสร้าง)
A2: งบกลุ่มจังหวัด
A3: ประจำปีงบประมาณ 2553
A4: ไทยเข้มแข็ง 2553 -โครงการศึกษาและดำเนินการสร้างมูลค่าเพิ่มจากการท่องเที่ยวเชิงนิเวศน์ของกลุ่มจังหวัด หน่วยดำเนินการ สำนักงานโยธาธิการและผังเมือง จ.พังงา
A5: ลำดับ | B5: รหัสสินทรัพย์ใน | C5: สท.หลัก | D5: วันที่ได้มา | E5: ชื่อและรายละเอียดสินทรัพย์ | F5: มูลค่าทรัพย์สิน | G5: ค่าเสื่อมราคาสะสม | H5: ราคาตามบัญชี | I5: หน่วยงานผู้รับโอน
A6: ที่ | B6: ระบบ GFMIS | C6: สท.ย่อย | G6: ณ 30 ก.ย.64
B7: 100000000649 | C7: 0 | D7: 01.03.2019 | E7: อาคารศูนย์กลางการท่องเที่ยวเชิงนิเวศน์-โยธา | F7: 3387861.4 | G7: -982531.83 | H7: 2405329.5
B8: 100000000649 | C8: 1 | D8: 01.03.2019 | E8: อาคารศูนย์กลางการท่องเที่ยวเชิงนิเวศน์-โยธา | F8: 2321138.6 | G8: -2321137.6 | H8: 1
A9: 1 | B9: 100000000649 | C9: 0 | D9: 01.03.2019 | E9: อาคารศูนย์กลางการท่องเที่ยวเชิงนิเวศน์ | F9: =SUM(F7:F8) -> 5709000 | G9: =SUM(G7:G8) -> -3303669.5 | H9: =SUM(H7:H8) -> 2405330.5
A11: ไทยเข้มแข็ง 2553 - โครงการก่อสร้างอาคารหอช่วยเหลือผู้ประสบภัยสึนามิจังหวัดพังงา หน่วยดำเนินการ สนง.ป้องกันและบรรเทาสาธารณภัยจังหวัดพังงา
A12: ลำดับ | B12: รหัสสินทรัพย์ใน | C12: สท.หลัก | D12: วันที่ได้มา | E12: ชื่อและรายละเอียดสินทรัพย์ | F12: มูลค่าทรัพย์สิน | G12: ค่าเสื่อมราคาสะสม | H12: ราคาตามบัญชี | I12: หน่วยงานผู้รับโอน
A13: ที่ | B13: ระบบ GFMIS | C13: สท.ย่อย | G13: ณ 30 ก.ย.64
B14: 100000000644 | C14: 0 | D14: 01.03.2019 | E14: อาคารหอช่วยเหลือผู้ประสบภัยสึนามิ-ปพ. | F14: 4815318.2 | G14: -1698042.7 | H14: 3117275.5
B15: 100000000644 | C15: 1 | D15: 01.03.2019 | E15: อาคารหอช่วยเหลือผู้ประสบภัยสึนามิ-ปพ. | F15: 4999971.1 | G15: -4999970.1 | H15: 1
A16: 1 | B16: 100000000644 | C16: 0 | D16: 01.03.2019 | E16: อาคารหอช่วยเหลือผู้ประสบภัยสึนามิ | F16: =SUM(F14:F15) -> 9815289.3 | G16: =SUM(G14:G15) -> -6698012.9 | H16: =SUM(H14:H15) -> 3117276.5
A18: บัญชีสินทรัพย์ (ที่ดินและสิ่งก่อสร้าง)
A19: งบกลุ่มจังหวัด
A20: ประจำปีงบประมาณ 2562
A21: โครงการแหล่งเรียนรู้ประมงเพื่อการท่องเที่ยว หน่วยดำเนินการ ศูนย์วิจัยและพัฒนาการเพาะเลี้ยงสัตว์น้ำชายฝั่งพังงา
A22: ลำดับ | B22: รหัสสินทรัพย์ใน | C22: สท.หลัก | D22: วันที่ได้มา | E22: ชื่อและรายละเอียดสินทรัพย์ | F22: มูลค่าทรัพย์สิน | G22: ค่าเสื่อมราคาสะสม | H22: ราคาตามบัญชี | I22: หน่วยงานผู้รับโอน
A23: ที่ | B23: ระบบ GFMIS | C23: สท.ย่อย | G23: ณ 30 ก.ย.64
A24: 1 | B24: 100000000801 | C24: 0 | D24: 03.02.2020 | E24: บ่อคอนกรีตพร้อมหลังคาคลุม | F24: 878000 | G24: -72810.93 | H24: 805189.07
A27: บัญชีสินทรัพย์ (ที่ดินและสิ่งก่อสร้าง)
A28: งบกลุ่มจังหวัด
A29: ประจำปีงบประมาณ 2564
A30: โครงการยกระดับและพัฒนาด้านการท่องเที่ยวคุณภาพสูงฝั่งอันดามัน (Premium Tourism Andaman) พัฒนาแหล่งท่องเที่ยวเขาหลัก (หนองมูลตะกั่ว) หน่วยดำเนินการ สำนักงานโยธาธิการและผังเมือง จ.พังงา
A31: ลำดับ | B31: รหัสสินทรัพย์ใน | C31: สท.หลัก | D31: วันที่ได้มา | E31: ชื่อและรายละเอียดสินทรัพย์ | F31: มูลค่าทรัพย์สิน | G31: ค่าเสื่อมราคาสะสม | H31: ราคาตามบัญชี | I31: หน่วยงานผู้รับโอน
A32: ที่ | B32: ระบบ GFMIS | C32: สท.ย่อย | G32: ณ 30 ก.ย.64
A33: 1 | B33: 100000001696 | C33: 0 | D33: 21.06.2021 | E33: เขื่อนป้องกันตลิ่ง ต.คึกคัก อ.ตะกั่วป่า จ.พังงา | F33: 4530000 | G33: -63295.89 | H33: 4466704.1

Sheet สิ่งก่อสร้าง ที่จะโอน (2)
B1: รายการที่ดินและสิ่งก่อสร้างคงค้างที่ประสงค์จะโอน
A3: รายการ | B3: หมวดสินทรัพย์ | C3: รายการสินทรัพย์ | D3: วันที่บันทึก | E3: มูลค่าสินทรัพย์ | F3: ปีงบประมาณ | G3: โครงการ
B4: ปี 2009 (พ.ศ.2552)
A5: 1 | B5: อาคารเพื่อประโยชน์อื่น | C5: อาคารศูนย์รวบรวมน้ำยางสด-สนง.เกษตร | D5: 14.07.2009 | E5: 1000000 | F5: 2552 | G5: โครงการเพิ่มประสิทธิภาพการผลิตยางพารา กิจกรรมพัฒนาวิสาหกิจชุมชนยางพารา | H5: สนง.เกษตร จ.พังงา
A6: 2 | B6: สิ่งปลูกสร้าง | C6: โรงเก็บเรือยนต์เร็วตรวจการณ์ อ.คุระบุรี | D6: 21.08.2009 | E6: 69551 | F6: เหลือจ่าย 2552 | G6: โครงการสร้างโรงเก็บเรือยนต์เร็วตรวจการ | H6: อ.คุระบุรี
A7: 3 | B7: สิ่งปลูกสร้าง | C7: โรงเพาะชำกล้าปาล์ม-สนง.สหกรณ์ | D7: 26.08.2009 | E7: 1290000 | F7: 2552 | G7: โครงการผลิดปาล์มน้ำมันจังหวัดพังงา กิจกรรมแปลงเพาะกล้าปาล์มน้ำมันพันธุ์ดี 1 แปลง | H7: สำนักงานสหกรณ์จังหวัดพังงา
A8: 4 | B8: สิ่งปลูกสร้าง | C8: โรงเพาะชำกล้าปาล์ม-สนง.สหกรณ์ | D8: 09.07.2009 | E8: 232000 | F8: 2552 | G8: โครงการผลิดปาล์มน้ำมันจังหวัดพังงา กิจกรรมแปลงเพาะกล้าปาล์มน้ำมันพันธุ์ดี 1 แปลง | H8: สำนักงานสหกรณ์จังหวัดพังงา
A9: 5 | B9: สิ่งปลูกสร้าง | C9: โรงเพาะชำกล้าไม้-สนง.ทสจ. | D9: 17.02.2009 | E9: 45715.75 | F9: 2552 | G9: โครงการชาวพังงารักษ์ป่าคุ้มครองสิ่งแวดล้อม กิจกรรมเพราะชำกล้าไม้เพื่อเพิ่มพื้นที่สีเขียวจังหวัดพังงา | H9: สนง.ทรัพยากรธรรมชาติและสิ่งแวดล้อม จ.พังงา
C10: รวม 4 โครงการ | E10: =SUM(E5:E9) -> 2637266.8
B11: ปี 2010 (พ.ศ.2553)
A12: 1 | B12: สิ่งปลูกสร้าง | C12: เตาเผาขยะ รพ.ท้ายเหมือง-สนง.สาธารณสุข | D12: 08.06.2010 | E12: 997000 | F12: ไทยเข้มแข็ง 2553 | G12: โครงการก่อสร้างเตาเผาขยะติดเชื้อพร้อมโรงเรือน | H12: สนง.สาธารณสุข จ.พังงา
A13: 2 | B13: สิ่งปลูกสร้าง | C13: เตาเผาขยะ รพ.บางไทร-สนง.สาธารณสุข | D13: 08.06.2010 | E13: 997000 | F13: ไทยเข้มแข็ง 2553 | G13: โครงการก่อสร้างเตาเผาขยะติดเชื้อพร้อมโรงเรือน | H13: สนง.สาธารณสุข จ.พังงา
A14: 3 | B14: สิ่งปลูกสร้าง | C14: โรงผลิตปุ๋ยและโกดังเก็บปุ๋ยอินทรีย์-อ.ท้ายเหมือง | D14: 03.06.2010 | E14: 250000 | F14: 2553 | G14: โครงการส่งเสริมการผลิตสินค้าเกษตรอินทรีย์ | H14: สนง.เกษตร จ.พังงา
C15: รวม 2 โครงการ | E15: =SUM(E12:E14) -> 2244000
B16: ปี 2012 (พ.ศ.2555)
A17: 1 | B17: สิ่งปลูกสร้าง | C17: เสาไฟแสงสว่าง สูง 25 ม. หน้า อ.คุระบุรี-สนง.โยธาฯ | D17: 06.07.2012 | E17: 820000 | F17: 2555 | G17: โครงการปรับปรุงระบบแสงสว่างในแหล่งท่องเที่ยวสำคัญ | H17: สนง.โยธา
A18: 2 | B18: สิ่งปลูกสร้าง | C18: เสาไฟแสงสว่าง สูง 25 ม. ปากทางทับละมุ-สนง.โยธาฯ | D18: 06.07.2012 | E18: 830000 | F18: 2555 | G18: โครงการปรับปรุงระบบแสงสว่างในแหล่งท่องเที่ยวสำคัญ | H18: สนง.โยธา
A19: 3 | B19: สิ่งปลูกสร้าง | C19: เสาไฟแสงสว่าง สูง 25 ม. เกาะกลางทางโค้ง ต.หล่อยูง | D19: 06.07.2012 | E19: 830000 | F19: 2555 | G19: โครงการปรับปรุงระบบแสงสว่างในแหล่งท่องเที่ยวสำคัญ | H19: สนง.โยธา
A20: 4 | B20: สิ่งปลูกสร้าง | C20: เสาไฟแสงสว่าง สูง 25 ม. ตรงข้ามเรือสำเภาวังหม้อแกง | D20: 06.07.2012 | E20: 830000 | F20: 2555 | G20: โครงการปรับปรุงระบบแสงสว่างในแหล่งท่องเที่ยวสำคัญ | H20: สนง.โยธา
A21: 5 | B21: สิ่งปลูกสร้าง | C21: เสาไฟแสงสว่าง สูง 25 ม. ตลาดเก่าโคกกลอย-สนง.โยธาฯ | D21: 06.07.2012 | E21: 830000 | F21: 2555 | G21: โครงการปรับปรุงระบบแสงสว่างในแหล่งท่องเที่ยวสำคัญ | H21: สนง.โยธา
A22: 6 | B22: สิ่งปลูกสร้าง | C22: เสาไฟแสงสว่าง สูง 25 ม. บขส.โคกกลอย-สนง.โยธาฯ | D22: 06.07.2012 | E22: 830000 | F22: 2555 | G22: โครงการปรับปรุงระบบแสงสว่างในแหล่งท่องเที่ยวสำคัญ | H22: สนง.โยธา
A23: 7 | B23: สิ่งปลูกสร้าง | C23: ก่อสร้างห้องน้ำ-ห้องสุขา ของศูนย์เรียนรู้การเกษตร | D23: 18.10.2012 | E23: 432000 | F23: 2555 | G23: โครงการพัฒนาเกษตรกรรมตามแนวเศรษฐกิจพอเพียง กิจกรรมศูนย์เรียนรู้การเกษตรตามแนวเศรษฐกิจพอเพียงจังหวัดพังงา | H23: สนง.เกษตร จ.พังงา
C24: รวม 2 โครงการ | E24: =SUM(E17:E23) -> 5402000
B25: ปี 2013 (พ.ศ.2556)
A26: 1 | B26: สินทรัพย์โครงสร้างพื้นฐาน | C26: ป้ายจราจรและป้ายแนะนำสถานที่ท่องเที่ยว-บำรุงทาง | D26: 04.01.2013 | E26: 1861347 | F26: 2555 | G26: ติดตั้งป้ายแนะนำสถานที่ท่องเที่ยวจังหวัดพังงา | H26: สนง.บำรุงทางพังงา
A27: 2 | B27: สินทรัพย์โครงสร้างพื้นฐาน | C27: ปรับปรุงภูมิทัศน์ศาลเจ้าแม่นางหงส์-บำรุงทาง | D27: 24.01.2013 | E27: 2989321 | F27: 2555 | G27: โครงการพัฒนาแหล่งท่องเที่ยวหลักในพื้นที่จังหวัดพังงา | H27: สนง.บำรุงทางพังงา
A28: 3 | B28: สินทรัพย์โครงสร้างพื้นฐาน | C28: ปรับปรุงภูมิทัศน์แหล่งท่องเที่ยวบ้านสามช่อง-อ.ตะกั่วทุ่ง | D28: 09.01.2013 | E28: 1180000 | F28: เหลือจ่าย 2555 | G28: พัฒนาแหล่งท่องเที่ยวชุมชนบ้านสามช่อง อ.ตะกั่วทุ่ง | H28: อ.ตะกั่วทุ่ง
A29: 4 | B29: สินทรัพย์โครงสร้างพื้นฐาน | C29: ระบบประปาโคกกลอยระยะที่ 2-อ.ตะกั่วทุ่ง | D29: 12.02.2013 | E29: 8950000 | F29: 2555 | G29: โครงการพัฒนาระบบประปาโคกกลอยระยะที่ 2 | H29: อ.ตะกั่วทุ่ง
A30: 5 | B30: สินทรัพย์โครงสร้างพื้นฐาน | C30: พัฒนาภูมิทัศน์พิพิธภัณฑ์กลางแจ้งเรือเกยตื้นฯ-วัฒนธรรม | D30: 26.02.2013 | E30: 1932128.9 | F30: 2555 | G30: โครงการพัฒนาภูมิทัศน์พิพิธภัณฑ์กลางแจ้งเรือเกยตื้นธรณีพิบัติภัยสึนามิ | H30: สนง.วัฒนธรรม จ.พังงา
A31: 6 | B31: สินทรัพย์โครงสร้างพื้นฐาน | C31: เขาตะปูจำลอง-สนง.เกษตร จ.พังงา | D31: 09.05.2013 | E31: 994000 | F31: 2555 | G31: โครงการพัฒนาขีดความสามารถในการแปรรูปผลผลิตทางการเกษตร กิจกรรมก่อสร้างเขาตะปูและปรับปรุงภูมิทัศน์วังหม้อแกง | H31: สนง.เกษตร จ.พังงา
A32: 7 | B32: สินทรัพย์โครงสร้างพื้นฐาน | C32: ปรับปรุงภูมิทัศน์ทางขึ้น-ลง จุดล่องแก่งสองแพรก | D32: 13.06.2013 | E32: 499000 | F32: 2556 | G32: โครงการพัฒนาแหล่งท่องเที่ยวจังหวัดพังงา | H32: อ.เมืองพังงา
A33: 8 | B33: สินทรัพย์โครงสร้างพื้นฐาน | C33: ปรับปรุงภูมิทัศน์และถนนขึ้นจุดชมวิวเขานางหงส์ | D33: 01.08.2013 | E33: 1895000 | F33: เหลือจ่าย 2556 | G33: โครงการปรับปรุงภูมิทัศน์และถนนขึ้นจุดชมวิวเขานางหงส์ | H33: อ.ทับปุด
A34: 9 | B34: สินทรัพย์โครงสร้างพื้นฐาน | C34: พัฒนาแหล่งท่องเที่ยวหนองน้ำค้างคาว-อ.กะปง | D34: 06.08.2013 | E34: 1975000 | F34: เหลือจ่าย 2556 | G34: โครงการพัฒนาแหล่งท่องเที่ยวหนองน้ำค้างคาว | H34: อ.กะปง
A35: 10 | B35: สินทรัพย์โครงสร้างพื้นฐาน | C35: ปรับปรุงภูมิทัศน์แหล่งท่องเที่ยวน้ำตกวัดเขา-อ.ตะกั่วป่า | D35: 06.08.2013 | E35: 1975000 | F35: 2556 | G35: โครงการพัฒนาแหล่งท่องเที่ยวจังหวัดพังงา | H35: อ.ตะกั่วทุ่ง
A36: 11 | B36: สินทรัพย์โครงสร้างพื้นฐาน | C36: ปรับปรุงทางระบายน้ำแหล่งท่องเที่ยวเรือ ต.813-อ.ตะกั่วป่า | D36: 02.08.2013 | E36: 1500000 | F36: เหลือจ่าย 2556 | G36: โครงการปรับปรุงทางระบายน้ำแหล่งท่องเที่ยวเรือ ต.813 | H36: อ.ตะกั่วป่า
A37: 12 | B37: สินทรัพย์โครงสร้างพื้นฐาน | C37: นิทรรศการถาวรพิพิธภัณฑ์ท้องถิ่นจ.พังงา-วัฒนธรรม | D37: 02.08.2013 | E37: 1965000 | F37: 2556 | G37: โครงการพังงาน่าอยู่คู่วิถีชีวิตวัฒนธรรมสร้างสรรค์จริยธรรมและเศรษฐกิจประชาชน | H37: สนง.วัฒนธรรม จ.พังงา
A38: 13 | B38: สินทรัพย์โครงสร้างพื้นฐาน | C38: ปรับปรุงภูมิทัศน์แหล่งท่องเที่ยวหานป่าสะตอ-อ.ตะกั่วป่า | D38: 10.09.2013 | E38: 1184600 | F38: 2556 | G38: โครงการพัฒนาแหล่งท่องเที่ยวจังหวัดพังงา | H38: อ.ตะกั่วทุ่ง
A39: 14 | B39: สินทรัพย์โครงสร้างพื้นฐาน | C39: พัฒนาแหล่งน้ำหานบัว-อ.ตะกั่วทุ่ง | D39: 11.09.2013 | E39: 1970000 | F39: 2556 | G39: โครงการพัฒนาแหล่งน้ำหานบัว ตำบลโคกกลอย เพื่อการท่องเที่ยวเชิงนิเวศ | H39: อ.ตะกั่วทุ่ง
A40: 15 | B40: สินทรัพย์โครงสร้างพื้นฐาน | C40: ปรับปรุงภูมิทัศน์แหล่งท่องเที่ยวหาดบางสัก-อ.ตะกั่วป่า | D40: 20.09.2013 | E40: 1199100 | F40: เหลือจ่าย 2556 | G40: โครงการปรับปรุงภูมิทัศน์แหล่งท่องเที่ยวหาดบางสักอำเภอตะกั่วป่า | H40: อ.ตะกั่วป่า
A41: 16 | B41: สินทรัพย์โครงสร้างพื้นฐาน | C41: ทางเท้าและคูระบายน้ำตลาดน้ำเค็มวังหม้อแกง-สนจ.พง. | D41: 01.09.2013 | E41: 150000 | F41: เหลือจ่าย 2556 | G41: โครงการบริหารจัดการตลาดน้ำเค็มวังหม้อแกงเมืองพังงา หน่วยดำเนินการ สำนักงานจังหวัดพังงา
A42: 17 | B42: สินทรัพย์โครงสร้างพื้นฐาน | C42: เขื่อนหินทิ้งป้องกันตลิ่งริมคลองพังงา-สนจ.พง. | D42: 13.09.2013 | E42: 4969000 | F42: เหลือจ่าย 2556 | G42: โครงการก่อสร้างเขื่อนป้องกันตลิ่งริมคลองพังงา (บริเวณศูนย์ราชการจังหวัดพังงา) | H42: สำนักงานจังหวัดพังงา
A43: 18 | B43: สิ่งปลูกสร้าง | C43: ป้ายแนะนำสถานที่ท่องเที่ยว - สนง.บำรุงทางพังงา | D43: 11.09.2013 | E43: 1497800 | F43: เหลือจ่าย 2556 | G43: โครงการจัดทำป้ายบอกแหล่งท่องเที่ยว | H43: สนง.บำรุงทางพังงา
A44: 19 | B44: สิ่งปลูกสร้าง | C44: เสาไฟสูงแสงสว่าง 6 ต้น - โยธา | D44: 01.09.2013 | E44: 4000000 | F44: เหลือจ่าย 2556 | G44: โครงการติดตั้งไฟฟ้าเสาสูง เพิ่มเติม (6 ต้น) | H44: สนง.โยธา
A45: 20 | B45: สิ่งปลูกสร้าง | C45: เสาไฟสูงแสงสว่าง 15 ต้น - โยธา | D45: 25.09.2013 | E45: 8800000 | F45: 2556 | G45: โครงการติดตั้งแสงสว่างในแหล่งท่องเที่ยวและชุมชนเมือง | H45: สนง.โยธา
C46: รวม 18 โครงการ | E46: =SUM(E26:E45) -> 51486297
B47: ปี 2014 (พ.ศ.2557)
A48: 1 | B48: สินทรัพย์โครงสร้างพื้นฐาน | C48: ปรับปรุงท่าเทียบเรือบ้านท่าด่าน-สนง.โยธาฯ | D48: 12.03.2014 | E48: 4986000 | F48: 2556 | G48: โครงการปรับปรุงท่าเทียบเรือบ้านท่าด่าน (ลงอ่าวพังงา) | H48: สนง.โยธา
A49: 2 | B49: สินทรัพย์โครงสร้างพื้นฐาน | C49: อาคารจำหน่ายสินค้าโอท็อบลานดนตรีและวัฒนธรรม | D49: 01.03.2014 | E49: 6950000 | F49: 2556 | G49: โครงการพัฒนาศูนย์จำหน่ายสินค้า OTOP ลานดนตรีและวัฒนธรรมจังหวัดพังงา | H49: อ.ตะกั่วทุ่ง
A50: 3 | B50: สินทรัพย์โครงสร้างพื้นฐาน | C50: ปรับปรุงภูมิทัศน์แหล่งท่องเที่ยวบ้านท่าด่าน-โยธา | D50: 30.04.2014 | E50: 1445000 | F50: เหลือจ่าย 2556 | G50: โครงการปรับปรุงและพัฒนาแหล่งท่องเที่ยวบ้านท่าด่าน | H50: สนง.โยธา
A51: 4 | B51: สินทรัพย์โครงสร้างพื้นฐาน | C51: ปรับปรุงภูมิทัศน์แหล่งท่องเที่ยวเขานางหงส์-อ.ทับปุด | D51: 21.04.2014 | E51: 1947000 | F51: 2557 | G51: โครงการพัฒนาแหล่งท่องเที่ยวจังหวัดพังงา
A52: 5 | B52: สินทรัพย์โครงสร้างพื้นฐาน | C52: ก่อสร้างทางเดินเท้าและจุดชมพลับพลึงธาร-อ.คุระบุรี | D52: 28.08.2014 | E52: 800000 | F52: 2557 | G52: โครงการพัฒนาแหล่งท่องเที่ยวจังหวัดพังงา
A53: 6 | B53: สินทรัพย์โครงสร้างพื้นฐาน | C53: ปรับปรุงภูมิทัศน์หนองน้ำค้างคาว-อ.กะปง | D53: 20.11.2014 | E53: 1499000 | F53: 2557 | G53: โครงการพัฒนาแหล่งท่องเที่ยวจังหวัดพังงา
A54: 7 | B54: สิ่งปลูกสร้าง | C54: ป้ายประชาสัมพันธ์ OVERHEAD SIGN-แขวงการทางภูเก็ต | D54: 28.09.2014 | E54: 1899800 | F54: 2557 | G54: โครงการประชาสัมพันธ์การท่องเที่ยวจังหวัดพังงา
A55: 8 | B55: สิ่งปลูกสร้าง | C55: ป้ายประชาสัมพันธ์ OVERHEAD SIGN-บำรุงทางพังงา | D55: 28.10.2014 | E55: 1926933.8 | F55: 2557 | G55: โครงการประชาสัมพันธ์การท่องเที่ยวจังหวัดพังงา
A56: 9 | B56: สิ่งปลูกสร้าง | C56: โรงอบแห้งชนิดกรีนเฮ้าท์ | D56: 04.12.2014 | E56: 1214700 | F56: 2557 | G56: โครงการส่งเสริมเศรษฐกิจพอเพียงโดยใช้พลังงานทดแทนในกลุ่มอาชีพเกษตรกรรม หน่วยดำเนินการ สนง.พลังงาน จ.พังงา
A57: 10 | B57: สิ่งปลูกสร้าง | C57: โรงอบแห้งยางพารา-พลังงาน | D57: 04.12.2014 | E57: 335300 | F57: 2557 | G57: โครงการส่งเสริมเศรษฐกิจพอเพียงโดยใช้พลังงานทดแทนในกลุ่มอาชีพเกษตรกรรม หน่วยดำเนินการ สนง.พลังงาน จ.พังงา
A58: 11 | B58: สิ่งปลูกสร้าง | C58: ระบบผลิตก๊าซชีวภาพ-พลังงาน | D58: 08.12.2014 | E58: 800000 | F58: 2557 | G58: โครงการส่งเสริมเศรษฐกิจพอเพียงโดยใช้พลังงานทดแทนในกลุ่มอาชีพเกษตรกรรม หน่วยดำเนินการ สนง.พลังงาน จ.พังงา
C59: รวม 6 โครงการ | E59: =SUM(E48:E58) -> 23803734
B60: ปี 2015 (พ.ศ.2558)
A61: 1 | B61: สินทรัพย์โครงสร้างพื้นฐาน | C61: ปรับปรุงภูมิทัศน์แหล่งท่องเที่ยวเกาะไข่ อ.เกาะยาว | D61: 02.02.2015 | E61: 1799000 | F61: 2557 | G61: โครงการพัฒนาแหล่งท่องเที่ยวจังหวัดพังงา
A62: 2 | B62: สินทรัพย์โครงสร้างพื้นฐาน | C62: ปรับปรุงภูมิทัศน์ฯ หลวงปู่แช่ม-อ.ทับปุด | D62: 21.01.2015 | E62: 1259999 | F62: 2557 | G62: โครงการพัฒนาแหล่งท่องเที่ยวจังหวัดพังงา
A63: 3 | B63: สินทรัพย์โครงสร้างพื้นฐาน | C63: ปรับปรุงภูมิทัศน์แหลมสนงาม-อ.เกาะยาว | D63: 14.12.2015 | E63: 9950000 | F63: 2558 | G63: โครงการพัฒนาแหล่งท่องเที่ยวเชิงนิเวศจังหวัดพังงาสู่สากล
A64: 4 | B64: อาคารเพื่อประโยชน์อื่น | C64: อาคารศูนย์บริการนักท่องเที่ยวน้ำพุร้อนรมณีย์ | D64: 18.02.2015 | E64: 1899000 | F64: 2557 | G64: โครงการพัฒนาแหล่งท่องเที่ยวจังหวัดพังงา
A65: 5 | B65: อาคารเพื่อประโยชน์อื่น | C65: อาคารบริการนักท่องเที่ยวหาดท้ายเหมือง | D65: 04.08.2015 | E65: 1490000 | F65: 2557 | G65: โครงการพัฒนาแหล่งท่องเที่ยวจังหวัดพังงา
A66: 6 | B66: สิ่งปลูกสร้าง | C66: ก่อสร้างอาคารศูนย์บริการนักท่องเที่ยวคลองสังเน่ห์ | D66: 01.08.2015 | E66: 5255700 | F66: 2558 | G66: โครงการพัฒนาแหล่งท่องเที่ยว อำเภอตะกั่วป่า
A67: 7 | B67: สิ่งปลูกสร้าง | C67: ปรับปรุงภูมิทัศน์บ่อน้ำศักดิ์สิทธิ์-อ.เมืองพังงา | D67: 06.08.2015 | E67: 539000 | F67: 2558 | G67: โครงการพัฒนาแหล่งท่องเที่ยวเชิงนิเวศจังหวัดพังงาสู่สากล
A68: 8 | B68: สิ่งปลูกสร้าง | C68: เสาไฟฟ้าแสงสว่าง - แขวงทางหลวงพังงา | D68: 21.09.2015 | E68: 3981497 | F68: เบิกแทน 2558
C69: รวม 3 โครงการ | E69: =SUM(E61:E68) -> 26174196
B70: ปี 2016 (พ.ศ.2559)
A71: 1 | B71: ส่วนปรับปรุงอาคาร | C71: ปรับปรุงอาคารหลบภัยสึนามิ จ.พังงา บ้านทุ่งตึก-ปพ.พง. | D71: 08.06.2016 | E71: 479000 | F71: 2559 | G71: โครงการปรับปรุงอาคารหลบภัยสึนามิ จังหวัดพังงา
A72: 2 | B72: สะพาน | C72: สะพานท่าเทียบเรือบ้านสามช่อง | D72: 10.10.2016 | E72: 29900000 | F72: 2558 | G72: โครงการพัฒนาแหล่งท่องเที่ยวเชิงนิเวศจังหวัดพังงาสู่สากล
A73: 3 | B73: เขื่อน | C73: อาคารบังคับน้ำฝายกั้นคลองพังงา-โยธา | D73: 01.12.2016 | E73: 48000000 | F73: 2552 | G73: โครงการก่อสร้างอาคารบังคับน้ำฝายกั้นคลองพังงา | H73: สนง.โยธาธิการและผังเมือง จ.พังงา
A74: 4 | B74: สิ่งปลูกสร้าง | C74: ป้ายประชาสัมพันธ์ประเภทเคลื่อนไหวบนจอภาพไฟฟ้า-สนจ. | D74: 15.01.2016 | E74: 1845000 | F74: 2558 - 4.โครงการสนับสนุนกิจกรรมเพื่อกระตุ้นตลาดด้านการท่องเที่ยวจังหวัดพังงา กิจกรรม ติดตั้งป้ายประชาสัมพันธ์ประเภทภาพเคลื่อนไหวบนจอภาพไฟฟ้า (LED FULL) หน่วยดำเนินการ สำนักงานจังหวัดพังงา
A75: 5 | B75: สิ่งปลูกสร้าง | C75: ติดตั้งพลังงานแสงอาทิตย์เกาะพระทอง อ.คุระบุรี | D75: 02.10.2016 | E75: 3961500 | F75: 2559 | G75: โครงการติดตั้งพลังงานแสงอาทิตย์ศูนย์การท่องเที่ยวเกาะพระทอง
C76: รวม 5 โครงการ | E76: =SUM(E71:E75) -> 84185500
B77: ปี 2017 (พ.ศ.2560)
A78: 1 | B78: เขื่อน | C78: ระบบน้ำล้นฝายสันมน | D78: 01.09.2017 | E78: 10400000 | F78: 2552 | G78: โครงการการรักษาทรัพยากรธรรมชาติและสิ่งแวดล้อม | H78: สนง.โยธาธิการและผังเมือง จ.พังงา
A79: 2 | B79: เขื่อน | C79: เขื่อนหินทิ้งป้องกันตลิ่งริมคลองปากหรา | D79: 01.09.2017 | E79: 800000 | F79: 2554 | G79: โครงการก่อสร้างเขื่อนหินทิ้งคลองปากหรา
A80: 3 | B80: เขื่อน | C80: เขื่อนหินทิ้งป้องกันตลิ่งริมคลองพังงา ระยะที่ 2 | D80: 01.09.2017 | E80: 400000 | F80: 2554 | G80: โครงการก่อสร้างเขื่อนหินทิ้งป้องกันตลิ่งริมคลองพังงา ระยะที่ 2
A81: 4 | B81: ถนน | C81: เสริมผิวลาดยาง AC สาย พง.5015 | D81: 01.09.2017 | E81: 6750000 | F81: 2560 | G81: ตัดเป็น คชจ.
A82: 5 | B82: ถนน | C82: ปรับปรุงจุดบกพร่องทางวิศวกรรมจราจรเขาหลัก | D82: 01.09.2017 | E82: 2997600 | F82: 2553 | G82: โครงการเพิ่มประสิทธิภาพการรักษาความปลอดภัยให้แก่นักท่องเที่ยว | H82: แขวงการทางภูเก็ต
A83: 6 | B83: ถนน | C83: ยกระดับถนนบริเวณสะพานศรีสุคต | D83: 01.09.2017 | E83: 1600000 | F83: 2552 | G83: โครงการการรักษาทรัพยากรธรรมชาติและสิ่งแวดล้อม | H83: สนง.โยธาธิการและผังเมือง จ.พังงา
A84: 7 | B84: อาคารเพื่อประโยชน์อื่น | C84: อาคารสำนักงานลานเทปาล์มน้ำมันพร้อมอุปกรณ์ อ.เมือง,อ.ตะกั่วป่า-สนง.เกษตร | D84: 01.09.2017 | E84: 3200000 | F84: 2552 | G84: โครงการผลิดปาล์มน้ำมันจังหวัดพังงา กิจกรรมสร้างศูนย์รวบรวมผลผลิตปาล์มน้ำมัน (ลานเท) 2 ลาน | H84: สนง.เกษตร จ.พังงา
A85: 8 | B85: อาคารเพื่อประโยชน์อื่น | C85: อาคารสำนักงาน ลานเทปาล์มน้ำมัน อ.คุระบุรี | D85: 01.09.2017 | E85: 3284000 | F85: ไทยเข้มแข็ง 2553 | G85: โครงการส่งเสริมการผลิตสินค้าเกษตรที่มีความสำคัญทางเศรษฐกิจของจังหวัด กิจกรรม สร้างศูนย์รวบรวมผลผลิตปาล์มน้ำมัน (ลานเท) อ.คุระบุรี หน่วยดำเนินการ สนง.เกษตร จ.พังงา
A86: 9 | B86: สิ่งปลูกสร้าง | C86: หลังคาคลุมอัฒจันทร์ - สนจ.พง. | D86: 01.02.2017 | E86: 7560000 | F86: 2559 | G86: โครงการส่งเสริมและพัฒนาเด็กและเยาวชนด้วยการกีฬา | H86: สำนักงานจังหวัดพังงา
A87: 10 | B87: สิ่งปลูกสร้าง | C87: สัญลักษณ์หมู่บ้านรูปหอยมุก ม.2 ต.เกาะปันหยี-สนง.พช | D87: 01.03.2017 | E87: 300000 | F87: 2560-1 โครงการพัฒนาหมู่บ้าน OTOP เพื่อการท่องเที่ยว หน่วยดำเนินการ สำนักงานพัฒนาชุมชน จ.พังงา
A88: 11 | B88: สิ่งปลูกสร้าง | C88: สัญลักษณ์หมู่บ้านรูปเรือมอแกน บ้านทุ่งรัก -พช. | D88: 01.03.2017 | E88: 300000 | F88: 2560-1 โครงการพัฒนาหมู่บ้าน OTOP เพื่อการท่องเที่ยว หน่วยดำเนินการ สำนักงานพัฒนาชุมชน จ.พังงา
A89: 12 | B89: สิ่งปลูกสร้าง | C89: สัญลักษณ์หมู่บ้านรูปเต่า บ้านในไร่ ม.7 นาเตย-พช. | D89: 03.04.2017 | E89: 300000 | F89: 2560-1 โครงการพัฒนาหมู่บ้าน OTOP เพื่อการท่องเที่ยว หน่วยดำเนินการ สำนักงานพัฒนาชุมชน จ.พังงา
A90: 13 | B90: สิ่งปลูกสร้าง | C90: ท่าเทียบเรือหางยาวบ้านปากเกาะ-อ.ตะกั่วป่า | D90: 23.08.2017 | E90: 3508030 | F90: 2559 | G90: โครงการก่อสร้างท่าเทียบเรือหางยาวข้ามฟากบ้านปากเกาะ
A91: 14 | B91: สิ่งปลูกสร้าง | C91: ศาลาที่พักท่าเทียบเรือบ้านปากเกาะ ต.เกาะคอเขา อ.ตะ | D91: 23.08.2017 | E91: 2886700 | F91: 2559 | G91: โครงการก่อสร้างท่าเทียบเรือหางยาวข้ามฟากบ้านปากเกาะ
C92: รวม 11 โครงการ | E92: =SUM(E78:E91) -> 44286330
B93: ปี 2018 (พ.ศ.2561)
A94: 1 | B94: สินทรัพย์โครงสร้างพื้นฐาน | C94: โป๊ะพร้อมสะพานท่าเทียบเรือ ต.เกาะปันหยี-อ.เมือง | D94: 10.09.2018 | E94: 10363100 | F94: 2561 | G94: โครงการก่อสร้างโป๊ะพร้อมสะพานท่าเทียบเรือ ตำบลเกาะปันหยี
A95: 2 | B95: สิ่งปลูกสร้าง | C95: สะพานบ้านท่าเขา-อ.เกาะยาว | D95: 14.02.2018 | E95: 1807630 | F95: 2560-โครงการก่อสร้างสะพานพบ้านท่าเขา หมู่ที่ 4 ตำบลเกาะยาวน้อย อำเภอเกาะยาวน้อย จังหวัดพังงา
A96: 3 | B96: สิ่งปลูกสร้าง | C96: ป้ายบอกทางและป้ายบอกแหล่งท่องเที่ยว-แขวงทางหลวงพังงา | D96: 28.09.2018 | E96: 12238200 | F96: 2561 | G96: โครงการ Phangnga Smart Travel เพื่อยกระดับการอำนวยความสะดวกในการเดินทาง และการท่องเที่ยวในกลุ่มจังหวัดอันดามัน ตามกรอบยุทธศาสตร์ประเทศไทย 4.0 หน่วยดำเนินการ แขวงทางหลวงพังงา
C97: รวม 3 โครการ | E97: =SUM(E94:E96) -> 24408930
B98: ปี 2019 (พ.ศ.2562)
A99: 1 | B99: ถนน | C99: ถนนทางเข้าอ่างเก็บน้ำบางปุย อ.ทับปุด | D99: 01.11.2019 | E99: 5151054.4 | F99: 2562 - 5 โครงการพัฒนาแหล่งท่องเที่ยวอ่างเก็บน้ำบางปุย หน่วยดำเนินการ ที่ทำการปกครอง อ.ทับปุด
A100: 2 | B100: สินทรัพย์โครงสร้างพื้นฐาน | C100: ปรับปรุงภมิทัศน์สวนสาธารณะทุ่งพระโพธิ์-อ.ตะกั่วป่า | D100: 01.06.2019 | E100: 4054172.5 | F100: 2561 | G100: โครงการปรับปรุงภูมิทัศน์สวนสาธารณะทุ่งพระโพธิ์ เมืองตะกั่วป่าอำเภอตะกั่วป่า จังหวัดพังงา หน่วยดำเนินการ ที่ทำการปกครอง อ.ตะกั่วป่า
A101: 3 | B101: สินทรัพย์โครงสร้างพื้นฐาน | C101: ปรับปรุงภูมิทัศน์บ่อน้ำร้อนรมณีย์-ปกครอง | D101: 01.03.2019 | E101: 5980000 | F101: ไทยเข้มแข็ง 2553 | G101: โครงการส่งเสริมและพัฒนาแหล่งท่องเที่ยวและกิจกรรมการท่องเที่ยวที่หลากหลาย | H101: ที่ทำการปกครอง จ.พังงา
...

Sheet ไม่โอน
B1: บัญชีสินทรัพย์ที่จังหวัดบริหารจัดการเอง (ไม่โอน)
A2: ที่ดินสิ่งก่อสร้าง
A3: รายการ | B3: หมวดสินทรัพย์ | C3: รายการสินทรัพย์ | D3: วันที่บันทึก | E3: มูลค่าสินทรัพย์
A4: 1 | B4: สิ่งปลูกสร้าง | C4: โรงจอดรถยนต์ประจำจวน ผวจ. | D4: 17.11.2009 | E4: 350000
A5: 2 | B5: สินทรัพย์พื้นฐานอื่น | C5: ปรับปรุงภูมิทัศน์บ้านพักหัวหน้าสำนักงานจังหวัด | D5: 01.11.2012 | E5: 295000
A6: 3 | B6: ส่วนปรับปรุงอาคาร | C6: ปรับปรุงอาคารจวน ผวจ.พง. หลังเก่า | D6: 25.12.2012 | E6: 320000
A7: 4 | B7: ส่วนปรับปรุงอาคาร | C7: ปรับปรุงบ้านพักผู้ว่าราชการจังหวัดพังงา | D7: 10.05.2019 | E7: 201000
A8: 5 | B8: สินทรัพย์โครงสร้างพื้นฐาน | C8: ปรับปรุงภูมิทัศน์หน้าศาลากลางจังหวัดพังงาหลังเก่า | D8: 01.03.2019 | E8: 1700000
A9: 6 | B9: สินทรัพย์โครงสร้างพื้นฐาน | C9: ปรับปรุงภูมิทัศน์บริเวณศูนย์ราชการ จ.พังงา | D9: 05.06.2019 | E9: 34500000
A10: 7 | B10: สิ่งปลูกสร้าง | C10: ก่อสร้างรางระบายน้ำ คสล.พร้อมบ่อพัก-สนจ.พง. | D10: 01.03.2019 | E10: 125000
C11: รวม | E11: =SUM(E4:E10) -> 37491000 | H11: 0
A12: ครุภัณฑ์
A13: รายการ | B13: ประเภทสินทรัพย์ | C13: รายการสินทรัพย์ | D13: วันที่บันทึก | E13: มูลค่าสินทรัพย์
B14: ปี 2009 (พ.ศ.2552)
A15: 1 | B15: ครุภัณฑ์ยานพาหนะ | C15: รถยนต์ตู้ ยี่ห้อ TOYOTA-สนจ.พง. | D15: 14.09.2009 | E15: 1210000
A16: 2 | B16: ครุภัณฑ์โฆษณา | C16: กล้อง Syber-shot Sony รุ่น DSC-HX1 สนจ.พง. | D16: 28.09.2009 | E16: 19990
C17: รวม | E17: =SUM(E15:E16) -> 1229990
B18: ปี 2010 (พ.ศ.2553)
A19: 1 | B19: ครุภัณฑ์สำนักงาน | C19: ชั้นวางหนังสือ-สนจ.พง. | D19: 13.09.2010 | E19: 34500
C20: รวม | E20: =+E19 -> 34500
B21: ปี 2011 (พ.ศ.2554)
A22: 1 | B22: ครุภัณฑ์สำนักงาน | C22: ตู้เหล็กบานเลื่อนทรงสูง 4 ฟุต - สนง.จ.พังงา | D22: 10.11.2011 | E22: 27600
C23: รวม | E23: =SUM(E22) -> 27600
B24: ปี 2012 (พ.ศ.2555)
A25: 1 | B25: ครุภัณฑ์คอมพิวเตอร์ | C25: เครื่องพิมพ์ Printer Inkjet รุ่น EPSON STYLUS T60 | D25: 25.06.2012 | E25: 6000
A26: 2 | B26: ครุภัณฑ์คอมพิวเตอร์ | C26: เครื่องพิมพ์เลเซอร์ LED ขาวดำ Brother HL-2240D-ยธ | D26: 21.09.2012 | E26: 8400
C27: รวม | E27: =SUM(E25:E26) -> 14400
B28: ปี 2013 (พ.ศ.2556)
A29: 1 | B29: ครุภัณฑ์สำนักงาน | C29: ตู้ลอยติดผนังห้องปฏิบัิติการ-สนจ.พง. | D29: 08.01.2013 | E29: 76000
A30: 2 | B30: ครุภัณฑ์สำนักงาน | C30: โต๊ะประชุมขนาด 120*2.1 - สนจ.พง. | D30: 28.01.2013 | E30: 7900
A31: 3 | B31: ครุภัณฑ์คอมพิวเตอร์ | C31: Tablet (7.9") Mini Ipad wifi 4G 32GB-สนจ.พง. | D31: 21.06.2013 | E31: 99500
A32: 4 | B32: ครุภัณฑ์คอมพิวเตอร์ | C32: คอมพิวเตอร์ LENOVO ThinkCentre E72z-สนจ.พง. | D32: 21.06.2013 | E32: 52500
C33: รวม | E33: =SUM(E29:E32) -> 235900
B34: ปี 2014 (พ.ศ.2557)
A35: 1 | B35: ครุภัณฑ์โฆษณา | C35: ไมโครโฟน ทีวี โต๊ะ เก้าอี้ ชั้นวาง เคาท์เตอร์. | D35: 01.03.2014 | E35: 225900
A36: 2 | B36: ครุภัณฑ์โฆษณา | C36: Smart LED TV 55 นิ้ว-สนง.จ.พังงา | D36: 28.05.2014 | E36: 130000
A37: 3 | B37: ครุภัณฑ์คอมพิวเตอร์ | C37: คอมพิวเตอร์ตั้งโต๊ะ ยี่ห้อ LENOVO สีขาว-สนจ.พง. | D37: 28.03.2014 | E37: 60000
A38: 4 | B38: ครุภัณฑ์คอมพิวเตอร์ | C38: Notebook พร้อมโปรแกรมจัดการภาพเคลื่อนไหว-สนจ.พง. | D38: 28.05.2014 | E38: 81000
A39: 5 | B39: ครุภัณฑ์คอมพิวเตอร์ | C39: คอมพิวเตอร์ LENOVO พร้อมเครื่องพิมพ์-ศูนย์ดำรงธรรม | D39: 23.09.2014 | E39: 18590
A40: 6 | B40: ครุภัณฑ์คอมพิวเตอร์ | C40: Notebook ASUS X550DP-XX075D-สนจ.พง. | D40: 26.09.2014 | E40: 25000
A41: 7 | B41: ครุภัณฑ์คอมพิวเตอร์ | C41: คอมพิวเตอร์ DELL Inpiron 3847MT-สนจ.พง.ยธ | D41: 20.11.2014 | E41: 30000
A42: 8 | B42: ครุภัณฑ์คอมพิวเตอร์ | C42: คอมพิวเตอร์ Lenove IdeaCentre C360-สนจ.พง. | D42: 28.11.2014 | E42: 28100
C43: รวม | E43: =SUM(E35:E42) -> 598590
B44: ปี 2015 (พ.ศ.2558)
A45: 1 | B45: ครุภัณฑ์สำนักงาน | C45: เครื่องปรับอากาศ ทาซากิ FUGE-25A-สนจ.พง.(ดรธ) | D45: 27.02.2015 | E45: 33000
A46: 2 | B46: ครุภัณฑ์คอมพิวเตอร์ | C46: คอมพิวเตอร์ LENOVO IdeaCentre C460-สนจ.พง. | D46: 13.01.2015 | E46: 27200
A47: 3 | B47: ครุภัณฑ์คอมพิวเตอร์ | C47: คอมพิวเตอร์ตั้งโต๊ะ LENOVO IdeaCentre C460 สีขาว | D47: 08.06.2015 | E47: 23000
A48: 4 | B48: ครุภัณฑ์คอมพิวเตอร์ | C48: คอมพิวเตอร์ตั้งโต๊ะ LENOVO IdeaCentre C460 สีขาว | D48: 08.06.2015 | E48: 22000
A49: 5 | B49: ครุภัณฑ์คอมพิวเตอร์ | C49: คอมพิวเตอร์ตั้งโต๊ะ,โน๊ตบุค,ปริ้นเตอร์ - สนจ.พง. | D49: 05.10.2015 | E49: 490000
C50: รวม | E50: =SUM(E45:E49) -> 595200
B51: ปี 2016 (พ.ศ.2559)
A52: 1 | B52: ครุภัณฑ์โฆษณา | C52: โทรทัศน์ D-LED 42" Panasonic-สนจ.พง. | D52: 22.06.2016 | E52: 13041
A53: 2 | B53: ครุภัณฑ์คอมพิวเตอร์ | C53: เครื่องพิมพ์ HP Laserjet Pro M127fn-สนจ.พง. | D53: 01.01.2016 | E53: 9000
A54: 3 | B54: ครุภัณฑ์คอมพิวเตอร์ | C54: คอมพิวเตอร์ตั้งโต๊ะ lenove Idea Centre C460- สนจ.พ | D54: 01.01.2016 | E54: 22000
A55: 4 | B55: ครุภัณฑ์คอมพิวเตอร์ | C55: เครื่องพิมพ์ - สนจ.พง. | D55: 02.05.2016 | E55: 15000
A56: 5 | B56: ครุภัณฑ์คอมพิวเตอร์ | C56: เครื่องพิมพ์ Multifunction แบบฉีดหมึก EPSONL365 | D56: 02.05.2016 | E56: 7600
A57: 6 | B57: ครุภัณฑ์คอมพิวเตอร์ | C57: เครื่องพิมพ์ HP officeJet 7510-สนจ.พง.(ผวจ.) | D57: 01.09.2016 | E57: 7900
C58: รวม | E58: =SUM(E52:E57) -> 74541
B59: ปี 2018 (พ.ศ.2561)
A60: 1 | B60: ครุภัณฑ์โฆษณา | C60: จอภาพ LED พร้อมอุปกรณ์-ห้องประชุม ศลก. สนจ.พง. | D60: 12.12.2018 | E60: 306000
C61: รวม | E61: =+E60 -> 306000
B62: ปี 2020 (พ.ศ.2563)
A63: 1 | B63: ครุภัณฑ์โฆษณา | C63: เครื่องเสียงพร้อมอุปกรณ์สำหรับห้องประชุม | D63: 01.03.2020 | E63: 225000
A64: 2 | B64: ครุภัณฑ์โฆษณา | C64: อุปกรณ์ในการติดตั้งเครื่องเสียงพร้อมโปรเจคเตอร์ | D64: 01.03.2020 | E64: 25000
A65: 3 | B65: ครุภัณฑ์โฆษณา | C65: เครื่องรับโทรทัศน์ขนาด 85 นิ้ว-สนจ.พง. | D65: 27.10.2020 | E65: 170000
A66: 4 | B66: ครุภัณฑ์โฆษณา | C66: เครื่องรับโทรทัศน์ขนาด 100 นิ้ว-สนจ.พง. | D66: 25.11.2020 | E66: 249000
A67: 5 | B67: ครุภัณฑ์โฆษณา | C67: เครื่องรับโทรทัศน์ขนาด 100 นิ้ว-สนจ.พง. | D67: 25.11.2020 | E67: 249000
A68: 6 | B68: ครุภัณฑ์สำนักงาน | C68: โซฟาลายหลุยส์โครงไม้สักแท้-ห้อง ผวจ. | D68: 09.12.2020 | E68: 104800
A69: 7 | B69: ครุภัณฑ์สำนักงาน | C69: พรมปูพื้น-ห้อง ผวจ. | D69: 09.12.2020 | E69: 16200
A70: 8 | B70: ครุภัณฑ์คอมพิวเตอร์ | C70: เครื่องพริ้นเตอร์ HP Laser Jet P1505 | D70: 01.03.2020 | E70: 10790
A71: 9 | B71: ครุภัณฑ์คอมพิวเตอร์ | C71: คอมพิวเตอร์ HP รุ่น P6182L | D71: 01.03.2020 | E71: 29900
A72: 10 | B72: ครุภัณฑ์คอมพิวเตอร์ | C72: คอมพิวเตอร์ โน๊ตบุค Acer AS2920Z | D72: 01.03.2020 | E72: 81900
A73: 11 | B73: ครุภัณฑ์คอมพิวเตอร์ | C73: Printer Samsung ML-2571N | D73: 01.03.2020 | E73: 8000
A74: 12 | B74: ครุภัณฑ์คอมพิวเตอร์ | C74: เครื่องไมโครคอมพิวเตอร์พร้อมอุปกรณ์ | D74: 01.03.2020 | E74: 34360
... A85: 23 | B85: ครุภัณฑ์อื่น | C85: โต๊ะหมู่บูชา หมู่ 9 หน้า 10 ไม้เบญจพรรณ ปิดทอง | D85: 14.04.2020 | E85: 26500
C86: รวม | E86: =SUM(E63:E85) -> 1817165
B87: ปี 2021 (พ.ศ.2564)
A88: 1 | B88: ครุภัณฑ์โฆษณา | C88: ชุดควบคุมไมค์ประชุม Central Units-สนจ.พง. | D88: 06.09.2021 | E88: 11000
A89: 2 | B89: ครุภัณฑ์โฆษณา | C89: ไมค์โครโฟนไร้สาย แบบคู่-สนจ.พง. | D89: 06.09.2021 | E89: 24000
A90: 3 | B90: ครุภัณฑ์โฆษณา | C90: เครื่องผสมสัญญาณเสียงแบบมีกำลังขยาย-สนจ.พง. | D90: 06.09.2021 | E90: 36000
A91: 4 | B91: ครุภัณฑ์โฆษณา | C91: ลำโพงติดผนัง-สนจ.พง. | D91: 06.09.2021 | E91: 16500
A92: 5 | B92: ครุภัณฑ์โฆษณา | C92: ลำโพงติดผนัง-สนจ.พง. | D92: 06.09.2021 | E92: 16500
A93: 6 | B93: ครุภัณฑ์โฆษณา | C93: ลำโพงติดผนัง-สนจ.พง. | D93: 06.09.2021 | E93: 16500
A94: 7 | B94: ครุภัณฑ์โฆษณา | C94: จอภาพ LED ขนาด 65 นิ้ว - สนจ.พง. | D94: 06.09.2021 | E94: 26000
A95: 8 | B95: ครุภัณฑ์โฆษณา | C95: จอภาพ LED ขนาด 65 นิ้ว - สนจ.พง. | D95: 06.09.2021 | E95: 26000
A96: 9 | B96: ครุภัณฑ์โฆษณา | C96: จอภาพ LED ขนาด 65 นิ้ว - สนจ.พง. | D96: 06.09.2021 | E96: 26000
A97: 10 | B97: ครุภัณฑ์โฆษณา | C97: จอภาพ LED ขนาด 65 นิ้ว - สนจ.พง. | D97: 06.09.2021 | E97: 26000
A98: 11 | B98: ครุภัณฑ์สำนักงาน | C98: พรมปูพื้น-ห้อง ผวจ. | D98: 28.09.2021 | E98: 36300
A99: 12 | B99: ครุภัณฑ์คอมพิวเตอร์ | C99: เครื่องพิมพ์ Multifunction เลเซอร์สี -สนจ.พง. | D99: 01.03.2021 | E99: 15000
... A116: 29 | B116: ครุภัณฑ์อื่น | C116: โต๊ะหมู่บูชา-สนจ.พง. | D116: 25.08.2021 | E116: 18000
C117: รวม | E117: =SUM(E88:E116) -> 781973

Sheet สิ่งก่อสร้าง ที่จะโอน
B1: รายการที่ดินและสิ่งก่อสร้างคงค้างที่ประสงค์จะโอน
A3: รายการ | B3: หมวดสินทรัพย์ | C3: รายการสินทรัพย์ | D3: วันที่บันทึก | E3: มูลค่าสินทรัพย์
B4: ปี 2009 (พ.ศ.2552)
A5: 1 | B5: อาคารเพื่อประโยชน์อื่น | C5: อาคารศูนย์รวบรวมน้ำยางสด-สนง.เกษตร | D5: 14.07.2009 | E5: 1000000
A6: 2 | B6: สิ่งปลูกสร้าง | C6: โรงเก็บเรือยนต์เร็วตรวจการณ์ อ.คุระบุรี | D6: 21.08.2009 | E6: 69551
A7: 3 | B7: สิ่งปลูกสร้าง | C7: โรงเพาะชำกล้าปาล์ม-สนง.สหกรณ์ | D7: 26.08.2009 | E7: 1290000
A8: 4 | B8: สิ่งปลูกสร้าง | C8: โรงเพาะชำกล้าไม้-สนง.ทสจ. | D8: 17.02.2009 | E8: 45715.75
A9: 5 | B9: สิ่งปลูกสร้าง | C9: โรงเพาะชำกล้าปาล์ม-สนง.สหกรณ์ | D9: 09.07.2009 | E9: 232000
C10: รวม | E10: =SUM(E5:E9) -> 2637266.8
B11: ปี 2010 (พ.ศ.2553)
A12: 1 | B12: สิ่งปลูกสร้าง | C12: เตาเผาขยะ รพ.ท้ายเหมือง-สนง.สาธารณสุข | D12: 08.06.2010 | E12: 997000
A13: 2 | B13: สิ่งปลูกสร้าง | C13: เตาเผาขยะ รพ.บางไทร-สนง.สาธารณสุข | D13: 08.06.2010 | E13: 997000
A14: 3 | B14: สิ่งปลูกสร้าง | C14: โรงผลิตปุ๋ยและโกดังเก็บปุ๋ยอินทรีย์-อ.ท้ายเหมือง | D14: 03.06.2010 | E14: 250000
C15: รวม | E15: =SUM(E12:E14) -> 2244000
B16: ปี 2012 (พ.ศ.2555)
A17: 1 | B17: สิ่งปลูกสร้าง | C17: เสาไฟแสงสว่าง สูง 25 ม. หน้า อ.คุระบุรี-สนง.โยธาฯ | D17: 06.07.2012 | E17: 820000
A18: 2 | B18: สิ่งปลูกสร้าง | C18: เสาไฟแสงสว่าง สูง 25 ม. ปากทางทับละมุ-สนง.โยธาฯ | D18: 06.07.2012 | E18: 830000
A19: 3 | B19: สิ่งปลูกสร้าง | C19: เสาไฟแสงสว่าง สูง 25 ม. เกาะกลางทางโค้ง ต.หล่อยูง | D19: 06.07.2012 | E19: 830000
A20: 4 | B20: สิ่งปลูกสร้าง | C20: เสาไฟแสงสว่าง สูง 25 ม. ตรงข้ามเรือสำเภาวังหม้อแกง | D20: 06.07.2012 | E20: 830000
A21: 5 | B21: สิ่งปลูกสร้าง | C21: เสาไฟแสงสว่าง สูง 25 ม. ตลาดเก่าโคกกลอย-สนง.โยธาฯ | D21: 06.07.2012 | E21: 830000
A22: 6 | B22: สิ่งปลูกสร้าง | C22: เสาไฟแสงสว่าง สูง 25 ม. บขส.โคกกลอย-สนง.โยธาฯ | D22: 06.07.2012 | E22: 830000
A23: 7 | B23: สิ่งปลูกสร้าง | C23: ก่อสร้างห้องน้ำ-ห้องสุขา ของศูนย์เรียนรู้การเกษตร | D23: 18.10.2012 | E23: 432000
C24: รวม | E24: =SUM(E17:E23) -> 5402000
B25: ปี 2013 (พ.ศ.2556)
A26: 1 | B26: สินทรัพย์โครงสร้างพื้นฐาน | C26: ป้ายจราจรและป้ายแนะนำสถานที่ท่องเที่ยว-บำรุงทาง | D26: 04.01.2013 | E26: 1861347
A27: 2 | B27: สินทรัพย์โครงสร้างพื้นฐาน | C27: ปรับปรุงภูมิทัศน์ศาลเจ้าแม่นางหงส์-บำรุงทาง | D27: 24.01.2013 | E27: 2989321
A28: 3 | B28: สินทรัพย์โครงสร้างพื้นฐาน | C28: ปรับปรุงภูมิทัศน์แหล่งท่องเที่ยวบ้านสามช่อง-อ.ตะกั | D28: 09.01.2013 | E28: 1180000
A29: 4 | B29: สินทรัพย์โครงสร้างพื้นฐาน | C29: ระบบประปาโคกกลอยระยะที่ 2-อ.ตะกั่วทุ่ง | D29: 12.02.2013 | E29: 8950000
A30: 5 | B30: สินทรัพย์โครงสร้างพื้นฐาน | C30: พัฒนาภูมิทัศน์พิพิธภัณฑ์กลางแจ้งเรือเกยตื้นฯ-วัฒนธ | D30: 26.02.2013 | E30: 1932128.9
A31: 6 | B31: สินทรัพย์โครงสร้างพื้นฐาน | C31: เขาตะปูจำลอง-สนง.เกษตร จ.พังงา | D31: 09.05.2013 | E31: 994000
A32: 7 | B32: สินทรัพย์โครงสร้างพื้นฐาน | C32: ปรับปรุงภูมิทัศน์ทางขึ้น-ลง จุดล่องแก่งสองแพรก | D32: 13.06.2013 | E32: 499000
A33: 8 | B33: สินทรัพย์โครงสร้างพื้นฐาน | C33: ปรับปรุงภูมิทัศน์และถนนขึ้นจุดชมวิวเขานางหงส์ | D33: 01.08.2013 | E33: 1895000
A34: 9 | B34: สินทรัพย์โครงสร้างพื้นฐาน | C34: พัฒนาแหล่งท่องเที่ยวหนองน้ำค้างคาว-อ.กะปง | D34: 06.08.2013 | E34: 1975000
A35: 10 | B35: สินทรัพย์โครงสร้างพื้นฐาน | C35: ปรับปรุงภูมิทัศน์แหล่งท่องเที่ยวน้ำตกวัดเขา-อ.ตะกั | D35: 06.08.2013 | E35: 1975000
A36: 11 | B36: สินทรัพย์โครงสร้างพื้นฐาน | C36: ปรับปรุงทางระบายน้ำแหล่งท่องเที่ยวเรือ ต.813-อ.ตะก | D36: 02.08.2013 | E36: 1500000
A37: 12 | B37: สินทรัพย์โครงสร้างพื้นฐาน | C37: นิทรรศการถาวรพิพิธภัณฑ์ท้องถิ่นจ.พังงา-วัฒนธรรม | D37: 02.08.2013 | E37: 1965000
... A45: 20 | B45: สิ่งปลูกสร้าง | C45: เสาไฟสูงแสงสว่าง 15 ต้น - โยธา | D45: 25.09.2013 | E45: 8800000
C46: รวม | E46: =SUM(E26:E45) -> 51486297
B47: ปี 2014 (พ.ศ.2557)
A48: 1 | B48: สินทรัพย์โครงสร้างพื้นฐาน | C48: ปรับปรุงท่าเทียบเรือบ้านท่าด่าน-สนง.โยธาฯ | D48: 12.03.2014 | E48: 4986000
A49: 2 | B49: สินทรัพย์โครงสร้างพื้นฐาน | C49: อาคารจำหน่ายสินค้าโอท็อบลานดนตรีและวัฒนธรรม | D49: 01.03.2014 | E49: 6950000
A50: 3 | B50: สินทรัพย์โครงสร้างพื้นฐาน | C50: ปรับปรุงภูมิทัศน์แหล่งท่องเที่ยวบ้านท่าด่าน-โยธา | D50: 30.04.2014 | E50: 1445000
A51: 4 | B51: สินทรัพย์โครงสร้างพื้นฐาน | C51: ปรับปรุงภูมิทัศน์แหล่งท่องเที่ยวเขานางหงส์-อ.ทับปุ | D51: 21.04.2014 | E51: 1947000
A52: 5 | B52: สินทรัพย์โครงสร้างพื้นฐาน | C52: ก่อสร้างทางเดินเท้าและจุดชมพลับพลึงธาร-อ.คุระบุรี | D52: 28.08.2014 | E52: 800000
A53: 6 | B53: สินทรัพย์โครงสร้างพื้นฐาน | C53: ปรับปรุงภูมิทัศน์หนองน้ำค้างคาว-อ.กะปง | D53: 20.11.2014 | E53: 1499000
A54: 7 | B54: สิ่งปลูกสร้าง | C54: ป้ายประชาสัมพันธ์ OVERHEAD SIGN-แขวงการทางภูเก็ต | D54: 28.09.2014 | E54: 1899800
A55: 8 | B55: สิ่งปลูกสร้าง | C55: ป้ายประชาสัมพันธ์ OVERHEAD SIGN-บำรุงทางพังงา | D55: 28.10.2014 | E55: 1926933.8
A56: 9 | B56: สิ่งปลูกสร้าง | C56: โรงอบแห้งชนิดกรีนเฮ้าท์ | D56: 04.12.2014 | E56: 1214700
A57: 10 | B57: สิ่งปลูกสร้าง | C57: โรงอบแห้งยางพารา-พลังงาน | D57: 04.12.2014 | E57: 335300
A58: 11 | B58: สิ่งปลูกสร้าง | C58: ระบบผลิตก๊าซชีวภาพ-พลังงาน | D58: 08.12.2014 | E58: 800000
C59: รวม | E59: =SUM(E48:E58) -> 23803734
B60: ปี 2015 (พ.ศ.2558)
A61: 1 | B61: สินทรัพย์โครงสร้างพื้นฐาน | C61: ปรับปรุงภูมิทัศน์แหล่งท่องเที่ยวเกาะไข่ อ.เกาะยาว | D61: 02.02.2015 | E61: 1799000
A62: 2 | B62: สินทรัพย์โครงสร้างพื้นฐาน | C62: ปรับปรุงภูมิทัศน์ฯ หลวงปู่แช่ม-อ.ทับปุด | D62: 21.01.2015 | E62: 1259999
A63: 3 | B63: สินทรัพย์โครงสร้างพื้นฐาน | C63: ปรับปรุงภูมิทัศน์แหลมสนงาม-อ.เกาะยาว | D63: 14.12.2015 | E63: 9950000
A64: 4 | B64: อาคารเพื่อประโยชน์อื่น | C64: อาคารศูนย์บริการนักท่องเที่ยวน้ำพุร้อนรมณีย์ | D64: 18.02.2015 | E64: 1899000
A65: 5 | B65: อาคารเพื่อประโยชน์อื่น | C65: อาคารบริการนักท่องเที่ยวหาดท้ายเหมือง | D65: 04.08.2015 | E65: 1490000
A66: 6 | B66: สิ่งปลูกสร้าง | C66: ก่อสร้างอาคารศูนย์บริการนักท่องเที่ยวคลองสังเน่ห์ | D66: 01.08.2015 | E66: 5255700
A67: 7 | B67: สิ่งปลูกสร้าง | C67: ปรับปรุงภูมิทัศน์บ่อน้ำศักดิ์สิทธิ์-อ.เมืองพังงา | D67: 06.08.2015 | E67: 539000
A68: 8 | B68: สิ่งปลูกสร้าง | C68: เสาไฟฟ้าแสงสว่าง - แขวงทางหลวงพังงา | D68: 21.09.2015 | E68: 3981497
C69: รวม | E69: =SUM(E61:E68) -> 26174196
B70: ปี 2016 (พ.ศ.2559)
A71: 1 | B71: ส่วนปรับปรุงอาคาร | C71: ปรับปรุงอาคารหลบภัยสึนามิ จ.พังงา บ้านทุ่งตึก-ปพ.พง. | D71: 08.06.2016 | E71: 479000
A72: 2 | B72: สะพาน | C72: สะพานท่าเทียบเรือบ้านสามช่อง | D72: 10.10.2016 | E72: 29900000
A73: 3 | B73: เขื่อน | C73: อาคารบังคับน้ำฝายกั้นคลองพังงา-โยธา | D73: 01.12.2016 | E73: 48000000
A74: 4 | B74: สิ่งปลูกสร้าง | C74: ป้ายประชาสัมพันธ์ประเภทเคลื่อนไหวบนจอภาพไฟฟ้า-สนจ. | D74: 15.01.2016 | E74: 1845000
A75: 5 | B75: สิ่งปลูกสร้าง | C75: ติดตั้งพลังงานแสงอาทิตย์เกาะพระทอง อ.คุระบุรี | D75: 02.10.2016 | E75: 3961500
C76: รวม | E76: =SUM(E71:E75) -> 84185500
B77: ปี 2017 (พ.ศ.2560)
A78: 1 | B78: เขื่อน | C78: ระบบน้ำล้นฝายสันมน | D78: 01.09.2017 | E78: 10400000
A79: 2 | B79: เขื่อน | C79: เขื่อนหินทิ้งป้องกันตลิ่งริมคลองปากนรา | D79: 01.09.2017 | E79: 800000
A80: 3 | B80: เขื่อน | C80: เขื่อนหินทิ้งป้องกันตลิ่งริมคลองพังงา | D80: 01.09.2017 | E80: 400000
A81: 4 | B81: ถนน | C81: เสริมผิวลาดยาง AC สาย พง.5015 | D81: 01.09.2017 | E81: 6750000
A82: 5 | B82: ถนน | C82: ปรับปรุงจุดบกพร่องทางวิศวกรรมจราจรเขาหลัก | D82: 01.09.2017 | E82: 2997600
A83: 6 | B83: ถนน | C83: ยกระดับถนนบริเวณสะพานศรีสุคต | D83: 01.09.2017 | E83: 1600000
A84: 7 | B84: อาคารเพื่อประโยชน์อื่น | C84: อาคารลานเทปาล์มน้ำมัน-สนง.เกษตร | D84: 01.09.2017 | E84: 3200000
A85: 8 | B85: อาคารเพื่อประโยชน์อื่น | C85: อาคารสำนักงาน ลานเทปาล์มน้ำมัน อ.คุระบุรี | D85: 01.09.2017 | E85: 3284000
A86: 9 | B86: สิ่งปลูกสร้าง | C86: หลังคาคลุมอัฒจันทร์ - สนจ.พง. | D86: 01.02.2017 | E86: 7560000
A87: 10 | B87: สิ่งปลูกสร้าง | C87: สัญลักษณ์หมู่บ้านรูปหอยมุก ม.2 ต.เกาะปันหยี-สนง.พช | D87: 01.03.2017 | E87: 300000
A88: 11 | B88: สิ่งปลูกสร้าง | C88: สัญลักษณ์หมู่บ้านรูปเรือมอแกน บ้านทุ่งรัก -พช. | D88: 01.03.2017 | E88: 300000
A89: 12 | B89: สิ่งปลูกสร้าง | C89: สัญลักษณ์หมู่บ้านรูปเต่า บ้านในไร่ ม.7 นาเตย-พช. | D89: 03.04.2017 | E89: 300000
... A91: 14 | B91: สิ่งปลูกสร้าง | C91: ศาลาที่พักท่าเทียบเรือบ้านปากเกาะ ต.เกาะคอเขา อ.ตะ | D91: 23.08.2017 | E91: 2886700
C92: รวม | E92: =SUM(E78:E91) -> 44286330
B93: ปี 2018 (พ.ศ.2561)
B94: สินทรัพย์โครงสร้างพื้นฐาน | C94: โป๊ะพร้อมสะพานท่าเทียบเรือ ต.เกาะปันหยี-อ.เมือง | D94: 10.09.2018 | E94: 10363100
A95: 1 | B95: สิ่งปลูกสร้าง | C95: สะพานบ้านท่าเขา-อ.เกาะยาว | D95: 14.02.2018 | E95: 1807630
A96: 2 | B96: สิ่งปลูกสร้าง | C96: ป้ายบอกทางและป้ายบอกแหล่งท่องเที่ยว-แขวงทางหลวงพัง | D96: 28.09.2018 | E96: 12238200
C97: รวม | E97: =SUM(E94:E96) -> 24408930
B98: ปี 2019 (พ.ศ.2562)
A99: 1 | B99: ถนน | C99: ถนนทางเข้าอ่างเก็บน้ำบางปุย อ.ทับปุด | D99: 01.11.2019 | E99: 5151054.4
A100: 2 | B100: สินทรัพย์โครงสร้างพื้นฐาน | C100: ปรับปรุงภมิทัศน์สวนสาธารณะทุ่งพระโพธิ์-อ.ตะกั่วป่า | D100: 01.06.2019 | E100: 4054172.5
A101: 3 | B101: สินทรัพย์โครงสร้างพื้นฐาน | C101: ปรับปรุงภูมิทัศน์บ่อน้ำร้อนรมณีย์-ปกครอง | D101: 01.03.2019 | E101: 5980000
A102: 4 | B102: สินทรัพย์โครงสร้างพื้นฐาน | C102: ปรับปรุงภูมิทัศน์ถ้ำซำ-ปกครอง | D102: 01.03.2019 | E102: 1709000
A103: 5 | B103: สินทรัพย์โครงสร้างพื้นฐาน | C103: ปรับภูมิทัศน์จุดชมวิวบ้านท่าเขา-ปกครอง อ.เกาะยาว | D103: 01.03.2019 | E103: 11561041
A104: 6 | B104: สินทรัพย์โครงสร้างพื้นฐาน | C104: ปรับภูมิทัศน์น้ำตกวัดเขา-ปกครอง อ.ตะกั่วทุ่ง | D104: 01.03.2019 | E104: 1672900
A105: 7 | B105: สินทรัพย์โครงสร้างพื้นฐาน | C105: ปรับภูมิทัศน์คลองสังเหม่-ปกครอง อ.ตะกั่วป่า | D105: 01.03.2019 | E105: 857800
A106: 8 | B106: สินทรัพย์โครงสร้างพื้นฐาน | C106: ปรับปรุงภูมิทัศน์และจัดทำป้ายชื่อหน่วยทดสอบวัสดุ | D106: 01.03.2019 | E106: 72200
A107: 9 | B107: สินทรัพย์โครงสร้างพื้นฐาน | C107: ปรับปรุงภูมิทัศน์บริเวณน้ำพุร้อนรมณีย์-อ.กะปง | D107: 01.03.2019 | E107: 1293000
A108: 10 | B108: สินทรัพย์โครงสร้างพื้นฐาน | C108: ปรับปรุงภูมิทัศน์ศาลเจ้าแม่นางหงส์-บำรุงทาง | D108: 01.03.2019 | E108: 2984867.4
A109: 11 | B109: สินทรัพย์โครงสร้างพื้นฐาน | C109: ปรับปรุงภูมิทัศน์แหล่งท่องเที่ยว ต.สองแพรก-อ.เมือง | D109: 01.03.2019 | E109: 399000
...

Sheet สะพาน
A1: 22.10.2021 การแสดงรายการไดนามิก 1
A3: 22.10.2021 | D3: ยอดสินทรัพย์คงเหลือ | J3: 1
A5: วันที่รายงาน : | D5: 30.09.2021 | F5: ยอดสินทรัพย์คงเหลือ - 01 คส.ตามบัญชี
A6: สร้างเมื่อ : | D6: 22.10.2021 | K6: 1
A8: รหัสหน่วยงาน | G8: รายการงบดุล | H8: บัญชีงบดุลAPC | I8: หมวดสินทรัพย์
A9: G072 | G9: ?????????? | H9: 1208020101 | I9: 12080200
C11: สินทรัพย์ | E11: Cap.date | F11: คำอธิบายของสินทรัพย์ | G11: มูลค่าการได้มา | H11: ค่าเสื่อมสะสม | I11: มูลค่าตามบัญชี
C13: 100000000449 | E13: 10.10.2016 | F13: สะพานท่าเทียบเรือบ้านสามช่อง-สนจ.พง. | G13: 29900000 | H13: -5950509.6 | I13: 23949490 | J13: 2558 - 1.โครงการพัฒนาแหล่งท่องเที่ยวเชิงนิเวศจังหวัดพังงาสู่สากล กิจกรรม ก่อสร้างสะพานท่าเทียบเรือ พร้อมปรับภูมิทัศน์โดยรอบ พร้อมสิ่งก่อสร้างประกอบ แหล่งท่องเที่ยวบ้านสามช่องเหนือหมู่ที่ 9 ตำบลกะไหล อำเภอตะกั่วทุ่ง จังหวัดพังงา หน่วยดำเนินการ สำนักงานจังหวัดพังงา
B15: * | C15: หมวดสินทรัพย์ 12080200 สะพาน | G15: 29900000 | H15: -5950509.6 | I15: 23949490
B17: ** | C17: บัญชี: APC 1208020101 สะพาน | G17: 29900000 | H17: -5950509.6 | I17: 23949490
B19: *** | C19: รายการงบดุล ?????????? | G19: 29900000 | H19: -5950509.6 | I19: 23949490
B21: **** | C21: รหัสจังหวัด 8200 พังงา | G21: 29900000 | H21: -5950509.6 | I21: 23949490
B23: ***** | C23: รหัสหน่วยงาน G072 งบจังหวัดพังงา | G23: 29900000 | H23: -5950509.6 | I23: 23949490

Sheet สิ่งปลูกสร้าง
A1: 22.10.2021 การแสดงรายการไดนามิก 1
A3: 22.10.2021
A5: วันที่รายงาน : | C5: 30.09.2021 | E5: ยอดสินทรัพย์คงเหลือ - 01 คส.ตามบัญชี
A6: สร้างเมื่อ : | C6: 22.10.2021 | J6: 1
A8: รหัสหน่วยงาน | B8: รหัสจังหวัด | D8: รายการงบดุล | E8: บัญชีงบดุลAPC | G8: หมวดสินทรัพย์
A9: G072 | B9: 8200 | D9: ?????????? | F9: 1205040101 | G9: 12050400
B11: สินทรัพย์ | C11: SNo. | D11: Cap.date | E11: คำอธิบายของสินทรัพย์ | F11: มูลค่าการได้มา | G11: ค่าเสื่อมสะสม | H11: มูลค่าตามบัญชี
B13: 100000000022 | C13: 0 | D13: 21.08.2009 | E13: โรงเก็บเรือยนต์เร็วตรวจการณ์ อ.คุระบุรี | F13: 69551 | G13: -56161.66 | H13: 13389.34 | J13: 2552-5 โครงการสร้างโรงเก็บเรือยนต์เร็วตรวจการ หน่วยดำเนินการ ที่ทำการปกครอง อ.คุระบุรี
B14: 100000000024 | C14: 0 | D14: 26.08.2009 | E14: โรงเพาะชำกล้าปาล์ม-สนง.สหกรณ์ | F14: 1290000 | G14: -1040482.2 | H14: 249517.85 | J14: 2552-2 โครงการผลิดปาล์มน้ำมันจังหวัดพังงา กิจกรรมแปลงเพาะกล้าปาล์มน้ำมันพันธุ์ดี 1 แปลง หน่วยดำเนินการ สำนักงานสหกรณ์ จ.พังงา
B15: 100000000026 | C15: 0 | D15: 09.07.2009 | E15: โรงเพาะชำกล้าปาล์ม-สนง.สหกรณ์ | F15: 232000 | G15: -189159.37 | H15: 42840.63 | J15: 2552-2 โครงการผลิดปาล์มน้ำมันจังหวัดพังงา กิจกรรมแปลงเพาะกล้าปาล์มน้ำมันพันธุ์ดี 1 แปลง หน่วยดำเนินการ สำนักงานสหกรณ์ จ.พังงา
B16: 100000000025 | C16: 0 | D16: 17.02.2009 | E16: โรงเพาะชำกล้าไม้-สนง.ทสจ. | F16: 45715.75 | G16: -38459.63 | H16: 7256.12 | J16: 2552-7 โครงการชาวพังงารักษ์ป่าคุ้มครองสิ่งแวดล้อม กิจกรรมเพราะชำกล้าไม้เพื่อเพิ่มพื้นที่สีเขียวจังหวัดพังงา สำนักงานทรัพยากรธรรมชาติและสิ่งแวดล้อม จ.พังงา
A17: ไม่โอน | B17: 100000000030 | C17: 0 | D17: 17.11.2009 | E17: โรงจอดรถยนต์ประจำจวน ผวจ .-สนจ.พง. | F17: 350000 | G17: -276995.43 | H17: 73004.57 | J17: ไม่โอน
B19: 100000000079 | C19: 0 | D19: 08.06.2010 | E19: เตาเผาขยะ รพ.ท้ายเหมือง-สนง.สาธารณสุข | F19: 997000 | G19: -752074.89 | H19: 244925.11 | J19: ไทยเข็มแข็ง 2553 โครงการก่อสร้างเตาเผาขยะติดเชื้อพร้อมโรงเรือน หน่วยดำเนินการ สนง.สาธารณสุข จ.พังงา
B20: 100000000080 | C20: 0 | D20: 08.06.2010 | E20: เตาเผาขยะ รพ.บางไทร-สนง.สาธารณสุข | F20: 997000 | G20: -752074.89 | H20: 244925.11 | J20: ไทยเข็มแข็ง 2553 โครงการก่อสร้างเตาเผาขยะติดเชื้อพร้อมโรงเรือน หน่วยดำเนินการ สนง.สาธารณสุข จ.พังงา
B21: 100000000081 | C21: 0 | D21: 03.06.2010 | E21: โรงผลิตปุ๋ยและโกดังเก็บปุ๋ยอินทรีย์-อ.ท้ายเหมือง | F21: 250000 | G21: -188812.79 | H21: 61187.21 | J21: 2553 โครงการส่งเสริมการผลิตสินค้าเกษตรอินทรีย์ กิจกรรม โรงผลิตปุ๋ยอินทรีย์ชีวภาพอำเภอท้ายเหมือง หน่วยดำเนินการ สนง.เกษตร จ.พังงา
B23: 100000000243 | C23: 0 | D23: 06.07.2012 | E23: เสาไฟแสงสว่าง สูง 25 ม. หน้า อ.คุระบุรี-สนง.โยธาฯ | F23: 820000 | G23: -505016.26 | H23: 314983.74 | J23: 2555-โครงการปรับปรุงระบบแสงสว่างในแหล่งท่องเที่ยวสำคัญ หน่วยดำเนินการ สนง.โยธาธิการและผังเมือง จ.พังงา
B24: 100000000244 | C24: 0 | D24: 06.07.2012 | E24: เสาไฟแสงสว่าง สูง 25 ม. ปากทางทับละมุ-สนง.โยธาฯ | F24: 830000 | G24: -511174.97 | H24: 318825.03 | J24: 2555-โครงการปรับปรุงระบบแสงสว่างในแหล่งท่องเที่ยวสำคัญ หน่วยดำเนินการ สนง.โยธาธิการและผังเมือง จ.พังงา
B25: 100000000245 | C25: 0 | D25: 06.07.2012 | E25: เสาไฟแสงสว่าง สูง 25 ม. เกาะกลางทางโค้ง ต.หล่อยูง | F25: 830000 | G25: -511174.97 | H25: 318825.03 | J25: 2555-โครงการปรับปรุงระบบแสงสว่างในแหล่งท่องเที่ยวสำคัญ หน่วยดำเนินการ สนง.โยธาธิการและผังเมือง จ.พังงา
B26: 100000000246 | C26: 0 | D26: 06.07.2012 | E26: เสาไฟแสงสว่าง สูง 25 ม. ตรงข้ามเรือสำเภาวังหม้อแกง | F26: 830000 | G26: -511174.97 | H26: 318825.03 | J26: 2555-โครงการปรับปรุงระบบแสงสว่างในแหล่งท่องเที่ยวสำคัญ หน่วยดำเนินการ สนง.โยธาธิการและผังเมือง จ.พังงา
B27: 100000000247 | C27: 0 | D27: 06.07.2012 | E27: เสาไฟแสงสว่าง สูง 25 ม. ตลาดเก่าโคกกลอย-สนง.โยธาฯ | F27: 830000 | G27: -511174.97 | H27: 318825.03 | J27: 2555-โครงการปรับปรุงระบบแสงสว่างในแหล่งท่องเที่ยวสำคัญ หน่วยดำเนินการ สนง.โยธาธิการและผังเมือง จ.พังงา
B28: 100000000248 | C28: 0 | D28: 06.07.2012 | E28: เสาไฟแสงสว่าง สูง 25 ม. บขส.โคกกลอย-สนง.โยธาฯ | F28: 830000 | G28: -511174.97 | H28: 318825.03 | J28: 2555-โครงการปรับปรุงระบบแสงสว่างในแหล่งท่องเที่ยวสำคัญ หน่วยดำเนินการ สนง.โยธาธิการและผังเมือง จ.พังงา
B29: 100000000267 | C29: 0 | D29: 18.10.2012 | E29: ก่อสร้างห้องน้ำ-ห้องสุขา ของศูนย์เรียนรู้การเกษตร | F29: 432000 | G29: -257858.63 | H29: 174141.37 | J29: 2555-โครงการพัฒนาเกษตรกรรมตามแนวเศรษฐกิจพอเพียง กิจกรรมศูนย์เรียนรู้การเกษตรตามแนวเศรษฐกิจพอเพียงจังหวัดพังงา
B31: 100000000311 | C31: 0 | D31: 11.09.2013 | E31: ป้ายแนะนำสถานที่ท่องเที่ยว - สนง.บำรุงทางพังงา | F31: 1497800 | G31: -804298.07 | H31: 693501.93 | J31: เหลือจ่าย 2556 | K31: โครงการจัดทำป้ายบอกแหล่งท่องเที่ยว
B32: 100000000313 | C32: 0 | D32: 01.09.2013 | E32: เสาไฟสูงแสงสว่าง 6 ต้น - โยธา | F32: 4000000 | G32: -2155251.1 | H32: 1844748.9 | J32: เหลือจ่าย 2556 | K32: โครงการติดตั้งไฟฟ้าเสาสูง เพิ่มเติม (6 ต้น)
B33: 100000000314 | C33: 0 | D33: 25.09.2013 | E33: เสาไฟสูงแสงสว่าง 15 ต้น - โยธา | F33: 8800000 | G33: -4702977.2 | H33: 4097022.8 | J33: 2556 | K33: โครงการติดตั้งแสงสว่างในแหล่งท่องเที่ยวและชุมชนเมือง
B35: 100000000344 | C35: 0 | D35: 28.09.2014 | E35: ป้ายประชาสัมพันธ์ OVERHEAD SIGN-แขวงการทางภูเก็ต | F35: 1899800 | G35: -887614.31 | H35: 1012185.7 | J35: 2557 | K35: ค.ประชาสัมพันธ์แหล่งท่องเที่ยว
B36: 100000000348 | C36: 0 | D36: 28.10.2014 | E36: ป้ายประชาสัมพันธ์ OVERHEAD SIGN-บำรุงทางพังงา | F36: 1926933.8 | G36: -889733.11 | H36: 1037200.7 | J36: 2557 | K36: ค.ประชาสัมพันธ์แหล่งท่องเที่ยว
B37: 100000000356 | C37: 0 | D37: 04.12.2014 | E37: โรงอบแห้งชนิดกรีนเฮ้าท์ | F37: 1214700 | G37: -331596.46 | H37: 883103.54 | J37: 2557 | K37: โครงการส่งเสริมเศรษฐกิจพอเพียงโดยใช้พลังงานทดแทนในกลุ่มอาชีพเกษตรกรรม หน่วยดำเนินการ สนง.พลังงาน จ.พังงา
B38: 100000000357 | C38: 0 | D38: 04.12.2014 | E38: โรงอบแห้งยางพารา-พลังงาน | F38: 335300 | G38: -91532.31 | H38: 243767.69 | J38: 2557 | K38: โครงการส่งเสริมเศรษฐกิจพอเพียงโดยใช้พลังงานทดแทนในกลุ่มอาชีพเกษตรกรรม หน่วยดำเนินการ สนง.พลังงาน จ.พังงา
B39: 100000000358 | C39: 0 | D39: 08.12.2014 | E39: ระบบผลิตก๊าซชีวภาพ-พลังงาน | F39: 800000 | G39: -218038.36 | H39: 581961.64 | J39: 2557 | K39: โครงการส่งเสริมเศรษฐกิจพอเพียงโดยใช้พลังงานทดแทนในกลุ่มอาชีพเกษตรกรรม หน่วยดำเนินการ สนง.พลังงาน จ.พังงา
B41: 100000000386 | C41: 0 | D41: 01.08.2015 | E41: ก่อสร้างอาคารศูนย์บริการนักท่องเที่ยวคลองสังเน่ห์ | F41: 5255700 | G41: -2160836.7 | H41: 3094863.3 | J41: 2558 | K41: โครงการพัฒนาแหล่งท่องเที่ยว อำเภอตะกั่วป่า
B42: 100000000387 | C42: 0 | D42: 06.08.2015 | E42: ปรับปรุงภูมิทัศน์บ่อน้ำศักดิ์สิทธิ์-อ.เมืองพังงา | F42: 539000 | G42: -331669.59 | H42: 207330.41 | J42: 2558 | K42: โครงการพัฒนาแหล่งท่องเที่ยวเชิงนิเวศจังหวัดพังงาสู่สากล
B43: 100000000391 | C43: 0 | D43: 21.09.2015 | E43: เสาไฟฟ้าแสงสว่าง - แขวงทางหลวงพังงา | F43: 3981497 | G43: -1599870.9 | H43: 2381626.1 | J43: เบิกแทน 2558 | K43: 2558-5 โครงการพัฒนาแหล่งท่องเที่ยว หน่วยดำเนินการ แขวงทางหลวงพังงา
B45: 100000000402 | C45: 0 | D45: 15.01.2016 | E45: ป้ายประชาสัมพันธ์ประเภทเคลื่อนไหวบนจอภาพไฟฟ้า-สนจ. | F45: 1845000 | G45: -702460.82 | H45: 1142539.2 | J45: 2558 - 4.โครงการสนับสนุนกิจกรรมเพื่อกระตุ้นตลาดด้านการท่องเที่ยวจังหวัดพังงา กิจกรรม ติดตั้งป้ายประชาสัมพันธ์ประเภทภาพเคลื่อนไหวบนจอภาพไฟฟ้า (LED FULL) หน่วยดำเนินการ สำนักงานจังหวัดพังงา
B46: 100000000451 | C46: 0 | D46: 02.10.2016 | E46: ติดตั้งพลังงานแสงอาทิตย์เกาะพระทอง อ.คุระบุรี | F46: 3961500 | G46: -1320500 | H46: 2641000 | J46: 2559 | K46: โครงการติดตั้งพลังงานแสงอาทิตย์ศูนย์การท่องเที่ยวเกาะพระทอง
B48: 100000000454 | C48: 0 | D48: 01.02.2017 | E48: หลังคาคลุมอัฒจันทร์ - สนจ.พง. | F48: 7560000 | G48: -1410095.3 | H48: 6149904.7 | J48: 2559 | K48: โครงการส่งเสริมและพัฒนาเด็กและเยาวชนด้วยการกีฬา
B49: 100000000456 | C49: 0 | D49: 01.03.2017 | E49: สัญลักษณ์หมู่บ้านรูปหอยมุก ม.2 ต.เกาะปันหยี-สนง.พช | F49: 300000 | G49: -55035.62 | H49: 244964.38 | J49: 2559 | K49: สนง.พัฒนาชุมชน จ.พังงา
B50: 100000000457 | C50: 0 | D50: 01.03.2017 | E50: สัญลักษณ์หมู่บ้านรูปเรือมอแกน บ้านทุ่งรัก -พช. | F50: 300000 | G50: -55035.62 | H50: 244964.38 | J50: 2559 | K50: สนง.พัฒนาชุมชน จ.พังงา
B51: 100000000469 | C51: 0 | D51: 03.04.2017 | E51: สัญลักษณ์หมู่บ้านรูปเต่า บ้านในไร่ ม.7 นาเตย-พช. | F51: 300000 | G51: -53950.68 | H51: 246049.32 | J51: 2559 | K51: สนง.พัฒนาชุมชน จ.พังงา
B52: 100000000505 | C52: 0 | D52: 23.08.2017 | E52: ท่าเทียบเรือหางยาวบ้านปากเกาะ-อ.ตะกั่วป่า | F52: 3508030 | G52: -720347.53 | H52: 2787682.5 | J52: 2559 | K52: โครงการก่อสร้างท่าเทียบเรือหางยาวข้ามฟากบ้านปากเกาะ
B53: 100000000506 | C53: 0 | D53: 23.08.2017 | E53: ศาลาที่พักท่าเทียบเรือบ้านปากเกาะ ต.เกาะคอเขา อ.ตะ | F53: 2886700 | G53: -592762.1 | H53: 2293937.9 | J53: 2559 | K53: โครงการก่อสร้างท่าเทียบเรือหางยาวข้ามฟากบ้านปากเกาะ
B55: 100000000576 | C55: 0 | D55: 14.02.2018 | E55: สะพานบ้านท่าเขา-อ.เกาะยาว | F55: 1807630 | G55: -262279.68 | H55: 1545350.3 | J55: 2560-โครงการก่อสร้างสะพานพบ้านท่าเขา หมู่ที่ 4 ตำบลเกาะยาวน้อย อำเภอเกาะยาวน้อย จังหวัดพังงา
B56: 100000000618 | C56: 0 | D56: 28.09.2018 | E56: ป้ายบอกทางและป้ายบอกแหล่งท่องเที่ยว-แขวงทางหลวงพัง | F56: 12238200 | G56: -1472607.5 | H56: 10765592 | J56: 2561 | K56: โครงการ Phangnga Smart Travel เพื่อยกระดับการอำนวยความสะดวกในการเดินทาง และการท่องเที่ยวในกลุ่มจังหวัดอันดามัน ตามกรอบยุทธศาสตร์ประเทศไทย 4.0 หน่วยดำเนินการ แขวงทางหลวงพังงา
B58: 100000000627 | C58: 0 | D58: 02.01.2019 | E58: ก่อสร้างลานปฏิบัติธรรมวัดนิโครธาราม อ.ทับปุด | F58: 500000 | G58: -68630.14 | H58: 431369.86 | J58: 2561 | K58: โครงการส่งเสริมการปฏิบัติธรรม สร้างความเข้มแข็งทางจิต หน่วยดำเนินการ ที่ทำการปกครอง อ.ทับปุด
B59: 100000000656 | C59: 0 | D59: 01.03.2019 | E59: โรงเรือนคอกเลี้ยงสัตว์ -สนง.เกษตร | F59: 534498.63 | G59: -197482.08 | H59: 337016.55 | J59: ไทยเข็มแข็ง 2553 โครงการส่งเสริมการเกษตรตามแนวเศรษฐกิจพอเพียง กิจกรรมศูนย์การเรียนรู้การเกษตรตามแนวเศรษฐกิจพอเพียงภูมิปัญญาแห่งแผ่นดินขยายผลสู่ปวงชนขาวไทย จังหวัดพังงา หน่วยดำเนินการ สนง.เกษตร จ.พังงา
B60: 100000000656 | C60: 1 | D60: 01.03.2019 | E60: โรงเรือนคอกเลี้ยงสัตว์ -สนง.เกษตร | F60: 605501.37 | G60: -605500.37 | H60: 1 | J60: ไทยเข็มแข็ง 2553 โครงการส่งเสริมการเกษตรตามแนวเศรษฐกิจพอเพียง กิจกรรมศูนย์การเรียนรู้การเกษตรตามแนวเศรษฐกิจพอเพียงภูมิปัญญาแห่งแผ่นดินขยายผลสู่ปวงชนขาวไทย จังหวัดพังงา หน่วยดำเนินการ สนง.เกษตร จ.พังงา
B61: 100000000657 | C61: 0 | D61: 01.03.2019 | E61: โรงเรือนเลี้ยงสุกร อ.กะปง-สนง.เกษตร | F61: 775108.82 | G61: -276531.64 | H61: 498577.18 | J61: ไทยเข็มแข็ง 2553 โครงการส่งเสริมการเกษตรตามแนวเศรษฐกิจพอเพียง กิจกรรมส่งเสริมอาชีพตามแนวเศรษฐกิจพอเพียงไร่นาสวนผสมตำบลเหมาะ หน่วยดำเนินการ สนง.เกษตร จ.พังงา
B62: 100000000657 | C62: 1 | D62: 01.03.2019 | E62: โรงเรือนเลี้ยงสุกร อ.กะปง-สนง.เกษตร | F62: 825691.18 | G62: -825690.18 | H62: 1 | J62: ไทยเข็มแข็ง 2553 โครงการส่งเสริมการเกษตรตามแนวเศรษฐกิจพอเพียง กิจกรรมส่งเสริมอาชีพตามแนวเศรษฐกิจพอเพียงไร่นาสวนผสมตำบลเหมาะ หน่วยดำเนินการ สนง.เกษตร จ.พังงา
B63: 100000000658 | C63: 0 | D63: 01.03.2019 | E63: เสาไฟแสงสว่าง-สนง.โยธา | F63: 4243150.7 | G63: -1531167.5 | H63: 2711983.1 | J63: 2555-โครงการติดตั้งแสงสว่างในแหล่งท่องเที่ยวและชุมชนเมือง
B64: 100000000658 | C64: 1 | D64: 01.03.2019 | E64: เสาไฟแสงสว่าง-สนง.โยธา | F64: 4606849.3 | G64: -4606848.3 | H64: 1 | J64: 2555-โครงการติดตั้งแสงสว่างในแหล่งท่องเที่ยวและชุมชนเมือง
B65: 100000000659 | C65: 0 | D65: 01.03.2019 | E65: เรือนเพาะชำกล้าไม้-สนง.เกษตร | F65: 93448.77 | G65: -34125.97 | H65: 59322.8 | J65: ไทยเข็มแข็ง 2553 โครงการส่งเสริมการเกษตรตามแนวเศรษฐกิจพอเพียง กิจกรรมศูนย์การเรียนรู้การเกษตรตามแนวเศรษฐกิจพอเพียงภูมิปัญญาแห่งแผ่นดินขยายผลสู่ปวงชนขาวไทย จังหวัดพังงา หน่วยดำเนินการ สนง.เกษตร จ.พังงา
B66: 100000000659 | C66: 1 | D66: 01.03.2019 | E66: เรือนเพาะชำกล้าไม้-สนง.เกษตร | F66: 104551.23 | G66: -104550.23 | H66: 1 | J66: ไทยเข็มแข็ง 2553 โครงการส่งเสริมการเกษตรตามแนวเศรษฐกิจพอเพียง กิจกรรมศูนย์การเรียนรู้การเกษตรตามแนวเศรษฐกิจพอเพียงภูมิปัญญาแห่งแผ่นดินขยายผลสู่ปวงชนขาวไทย จังหวัดพังงา หน่วยดำเนินการ สนง.เกษตร จ.พังงา
B67: 100000000660 | C67: 0 | D67: 01.03.2019 | E67: ซุ้มจำหน่ายสินค้าโอท็อป-สนง.พช. | F67: 206736.02 | G67: -67529 | H67: 139207.02 | J67: 2554-โครงการพัฒนาศักยภาพการบริหารจัดการและยกระดับคุณภาพผลิตภัณฑ์ OTOP หน่วยดำเนินการ สำนักงานพัฒนาชุมชน จ.พังงา
B68: 100000000660 | C68: 1 | D68: 01.03.2019 | E68: ซุ้มจำหน่ายสินค้าโอท็อป-สนง.พช. | F68: 183163.98 | G68: -183162.98 | H68: 1 | J68: 2554-โครงการพัฒนาศักยภาพการบริหารจัดการและยกระดับคุณภาพผลิตภัณฑ์ OTOP หน่วยดำเนินการ สำนักงานพัฒนาชุมชน จ.พังงา
B69: 100000000661 | C69: 0 | D69: 01.03.2019 | E69: ศาลาอเนกประสงค์และห้องน้ำแหล่งท่องเที่่ยว ภูตาจอ | F69: 274612.05 | G69: -86095.57 | H69: 188516.48 | J69: 2554-โครงการสนับสนุนกิจกรรมเพื่อกระตุ้นตลาดการท่องเที่ยว หน่วยดำเนินการ ที่ทำการปกครอง อ.ท้ายเหมือง
B70: 100000000661 | C70: 1 | D70: 01.03.2019 | E70: ศาลาอเนกประสงค์และห้องน้ำแหล่งท่องเที่่ยว ภูตาจอ | F70: 226387.95 | G70: -226386.95 | H70: 1 | J70: 2554-โครงการสนับสนุนกิจกรรมเพื่อกระตุ้นตลาดการท่องเที่ยว หน่วยดำเนินการ ที่ทำการปกครอง อ.ท้ายเหมือง
... B72: 100000000662 | C72: 1 | D72: 01.03.2019 | E72: ระบบผลิตไฟฟ้าด้วยเซลล์แสงอาทิตย์และเสาไฟแสงสว่าง | F72: 423283.29 | G72: -423282.29 | H72: 1 | J72: 2555-โครงการพัฒนาแหล่งท่องเที่ยวหลักในพื้นที่จังหวัดพังงา หน่วยดำเนินการ ที่ทำการปกครอง จ.พังงา
B73: 100000000663 | C73: 0 | D73: 01.03.2019 | E73: เสาไฟฟ้าแสงสว่างสูง 25 ม.-โยธา | F73: 4702557.1 | G73: -1459307.6 | H73: 3243249.4 | J73: เหลือจ่าย 2555 | K73: โครงการปรับปรุงแสงสว่างแหล่งท่องเที่ยวและชุมชนเมือง ระยะที่ 2
B74: 100000000663 | C74: 1 | D74: 01.03.2019 | E74: เสาไฟฟ้าแสงสว่างสูง 25 ม.-โยธา | F74: 3797442.9 | G74: -3797441.9 | H74: 1 | J74: เหลือจ่าย 2555 | K74: โครงการปรับปรุงแสงสว่างแหล่งท่องเที่ยวและชุมชนเมือง ระยะที่ 2
B75: 100000000664 | C75: 0 | D75: 01.03.2019 | E75: โรงเรือนจำหน่ายผลผลิตตลาดนัดวังหม้อแกง-เกษตร จ. | F75: 1243412.6 | G75: -338460.65 | H75: 904951.95 | J75: 2554-โครงการส่งเสริมอาชีพการเกษตรตามแนวเศรษฐกิจพอเพียง กิจกรรมสนับสนุนอาคารสถานที่รวบรวมจำหน่ายผลผลิตและผลิตภัณฑ์ด้านการเกษตรตามแนวเศรษฐกิจพอเพียง หน่วยดำเนินการ สำนักงานเกษตร จ.พังงา
B76: 100000000664 | C76: 1 | D76: 01.03.2019 | E76: โรงเรือนจำหน่ายผลผลิตตลาดนัดวังหม้อแกง-เกษตร จ. | F76: 719587.4 | G76: -719586.4 | H76: 1 | J76: 2554-โครงการส่งเสริมอาชีพการเกษตรตามแนวเศรษฐกิจพอเพียง กิจกรรมสนับสนุนอาคารสถานที่รวบรวมจำหน่ายผลผลิตและผลิตภัณฑ์ด้านการเกษตรตามแนวเศรษฐกิจพอเพียง หน่วยดำเนินการ สำนักงานเกษตร จ.พังงา
B77: 100000000665 | C77: 0 | D77: 01.03.2019 | E77: ก่อสร้างราวสแตนเลสและคอนกรีตปูนปั้นและทางเดินเท้า | F77: 319119.34 | G77: -86865.25 | H77: 232254.09 | J77: 2554-โครงการพัฒนาแหล่งท่องเที่ยวและสิ่งอำนวยความสะดวกในแหล่งท่องเที่ยวให้ได้มาตรฐานและปลอดภัย หน่วยดำเนินการ ที่ทำการปกครอง จ.พังงา
B78: 100000000665 | C78: 1 | D78: 01.03.2019 | E78: ก่อสร้างราวสแตนเลสและคอนกรีตปูนปั้นและทางเดินเท้า | F78: 184680.66 | G78: -184679.66 | H78: 1 | J78: 2554-โครงการพัฒนาแหล่งท่องเที่ยวและสิ่งอำนวยความสะดวกในแหล่งท่องเที่ยวให้ได้มาตรฐานและปลอดภัย หน่วยดำเนินการ ที่ทำการปกครอง จ.พังงา
B79: 100000000666 | C79: 0 | D79: 01.03.2019 | E79: นิทรรศการ(ถาวร)ชาวเลบ้านทับปลา ต.ท้ายเหมือง | F79: 190027.4 | G79: -51726.03 | H79: 138301.37 | J79: 2554-โครงการส่งเสริมฟื้นฟูและอนุรักษ์ประเพณีวัฒนธรรมท้องถิ่น (โครงการฟื้นฟูวิถีชีวิตชาวเล) กิจกรรม ปรับปรุงศูนย์วัฒนธรรมและจัดนิทรรศการชาวเล ต.ท้ายเหมือง หน่วยดำเนินการ สำนักงานวัฒนธรรม จ.พังงา
B80: 100000000666 | C80: 1 | D80: 01.03.2019 | E80: นิทรรศการ(ถาวร)ชาวเลบ้านทับปลา ต.ท้ายเหมือง | F80: 109972.6 | G80: -109971.6 | H80: 1 | J80: 2554-โครงการส่งเสริมฟื้นฟูและอนุรักษ์ประเพณีวัฒนธรรมท้องถิ่น (โครงการฟื้นฟูวิถีชีวิตชาวเล) กิจกรรม ปรับปรุงศูนย์วัฒนธรรมและจัดนิทรรศการชาวเล ต.ท้ายเหมือง หน่วยดำเนินการ สำนักงานวัฒนธรรม จ.พังงา
B81: 100000000667 | C81: 0 | D81: 01.03.2019 | E81: ก่อสร้างระบบส่งน้ำโดยระบบท่อ- โครงการชลประทาน พง. | F81: 498674.47 | G81: -234436.61 | H81: 264237.86 | J81: 2552 | K81: โครงการผลิดปาล์มน้ำมันจังหวัดพังงา กิจกรรมขยายพื้นที่ปลูกปาล์มน้ำมันในเขตชลประทาน 1000 ไร่ หน่วยดำเนินการ โครงการชลประทานจังหวัดพังงา
B82: 100000000667 | C82: 1 | D82: 01.03.2019 | E82: ก่อสร้างระบบส่งน้ำโดยระบบท่อ- โครงการชลประทาน พง. | F82: 852262.07 | G82: -852261.07 | H82: 1 | J82: 2552 | K82: โครงการผลิดปาล์มน้ำมันจังหวัดพังงา กิจกรรมขยายพื้นที่ปลูกปาล์มน้ำมันในเขตชลประทาน 1000 ไร่ หน่วยดำเนินการ โครงการชลประทานจังหวัดพังงา
B83: 100000000668 | C83: 0 | D83: 01.03.2019 | E83: กำแพงกันดินริมครองปิ-สนง.โยธา | F83: 17322866 | G83: -6891186.4 | H83: 10431679 | J83: 2552-โครงการการรักษาทรัพยากรธรรมชาติและสิ่งแวดล้อม หน่วยดำเนินการ สำนักงาน โยธาธิการและผังเมือง จ.พังงา
B84: 100000000668 | C84: 1 | D84: 01.03.2019 | E84: กำแพงกันดินริมครองปิ-สนง.โยธา | F84: 22661405 | G84: -22661404 | H84: 1 | J84: 2552-โครงการการรักษาทรัพยากรธรรมชาติและสิ่งแวดล้อม หน่วยดำเนินการ สำนักงาน โยธาธิการและผังเมือง จ.พังงา
B85: 100000000669 | C85: 0 | D85: 01.03.2019 | E85: ถนนคอนกรีตเสริมเหล็กในศูนย์เรียนรู้ | F85: 790843.54 | G85: -292194.25 | H85: 498649.29 | J85: ไทยเข็มแข็ง 2553 โครงการส่งเสริมการเกษตรตามแนวเศรษฐกิจพอเพียง กิจกรรมศูนย์การเรียนรู้การเกษตรตามแนวเศรษฐกิจพอเพียงภูมิปัญญาแห่งแผ่นดินขยายผลสู่ปวงชนขาวไทย จังหวัดพังงา หน่วยดำเนินการ สนง.เกษตร จ.พังงา
B86: 100000000669 | C86: 1 | D86: 01.03.2019 | E86: ถนนคอนกรีตเสริมเหล็กในศูนย์เรียนรู้ | F86: 896556.46 | G86: -896555.46 | H86: 1 | J86: ไทยเข็มแข็ง 2553 โครงการส่งเสริมการเกษตรตามแนวเศรษฐกิจพอเพียง กิจกรรมศูนย์การเรียนรู้การเกษตรตามแนวเศรษฐกิจพอเพียงภูมิปัญญาแห่งแผ่นดินขยายผลสู่ปวงชนขาวไทย จังหวัดพังงา หน่วยดำเนินการ สนง.เกษตร จ.พังงา
B87: 100000000670 | C87: 0 | D87: 01.03.2019 | E87: ลานเทปาล์มน้ำมันสหกรณ์กองทุนสวนยางบ้านบ่อแสน | F87: 1259041.1 | G87: -470706.85 | H87: 788334.25 | J87: ไทยเข็มแข็ง 2553 โครงการส่งเสริมการผลิตสินค้าเกษตรที่มีความสำคัญทางเศรษฐกิจของจังหวัด กิจกรรม ก่อสร้างลานเทปาล์มน้ำมันสหกรณ์กองทุนสวนยางบ้านบ่อแสน หน่วยดำเนินการ สนง.สหกรณ์ จ.พังงา
B88: 100000000670 | C88: 1 | D88: 01.03.2019 | E88: ลานเทปาล์มน้ำมันสหกรณ์กองทุนสวนยางบ้านบ่อแสน | F88: 1470958.9 | G88: -1470957.9 | H88: 1 | J88: ไทยเข็มแข็ง 2553 โครงการส่งเสริมการผลิตสินค้าเกษตรที่มีความสำคัญทางเศรษฐกิจของจังหวัด กิจกรรม ก่อสร้างลานเทปาล์มน้ำมันสหกรณ์กองทุนสวนยางบ้านบ่อแสน หน่วยดำเนินการ สนง.สหกรณ์ จ.พังงา
B89: 100000000671 | C89: 0 | D89: 01.03.2019 | E89: ระบบส่งน้ำเพื่อการเกษตร-ชลประทาน | F89: 1272007.1 | G89: -464516.33 | H89: 807490.8 | J89: ไทยเข็มแข็ง 2553 | K89: โครงการส่งเสริมการเกษตรตามแนวเศรษฐกิจพอเพียง
B90: 100000000671 | C90: 1 | D90: 01.03.2019 | E90: ระบบส่งน้ำเพื่อการเกษตร-ชลประทาน | F90: 1423131.8 | G90: -1423130.8 | H90: 1 | J90: ไทยเข็มแข็ง 2553 | K90: โครงการส่งเสริมการเกษตรตามแนวเศรษฐกิจพอเพียง
B91: 100000000672 | C91: 0 | D91: 01.03.2019 | E91: สร้างทุ่นผูกเรือและท่าเทียบเรือ อ.เกาะยาว | F91: 2410958.9 | G91: -860145.58 | H91: 1550813.3 | J91: 2554-โครงการพัฒนาแหล่งท่องเที่ยวและสิ่งอำนวยความสะดวกในแหล่งท่องเที่ยวให้ได้มาตรฐานและปลอดภัย หน่วยดำเนินการ ที่ทำการปกครอง จ.พังงา
B92: 100000000672 | C92: 1 | D92: 01.03.2019 | E92: สร้างทุ่นผูกเรือและท่าเทียบเรือ อ.เกาะยาว | F92: 2589041.1 | G92: -2589040.1 | H92: 1 | J92: 2554-โครงการพัฒนาแหล่งท่องเที่ยวและสิ่งอำนวยความสะดวกในแหล่งท่องเที่ยวให้ได้มาตรฐานและปลอดภัย หน่วยดำเนินการ ที่ทำการปกครอง จ.พังงา
B93: 100000000673 | C93: 0 | D93: 01.03.2019 | E93: โป๊ะเหล็กท่าเทียบเรือสุระกุล อ.ตะกั่วทุ่ง | F93: 963072.88 | G93: -343590.63 | H93: 619482.25 | J93: 2554-โครงการพัฒนาแหล่งท่องเที่ยวและสิ่งอำนวยความสะดวกในแหล่งท่องเที่ยวให้ได้มาตรฐานและปลอดภัย หน่วยดำเนินการ ที่ทำการปกครอง จ.พังงา
B94: 100000000673 | C94: 1 | D94: 01.03.2019 | E94: โป๊ะเหล็กท่าเทียบเรือสุระกุล อ.ตะกั่วทุ่ง | F94: 1028927.1 | G94: -1028926.1 | H94: 1 | J94: 2554-โครงการพัฒนาแหล่งท่องเที่ยวและสิ่งอำนวยความสะดวกในแหล่งท่องเที่ยวให้ได้มาตรฐานและปลอดภัย หน่วยดำเนินการ ที่ทำการปกครอง จ.พังงา
B95: 100000000674 | C95: 0 | D95: 01.03.2019 | E95: โรงผลิตปุ๋ย-สนง.เกษตร | F95: 840094.98 | G95: -306789.03 | H95: 533305.95 | J95: 2553 โครงการส่งเสริมการผลิตสินค้าเกษตรอินทรีย์ กิจกรรม โรงผลิตปุ๋ยอินทรีย์ชีวภาพอำเภอเมือง หน่วยดำเนินการ สนง.เกษตร จ.พังงา
B96: 100000000674 | C96: 1 | D96: 01.03.2019 | E96: โรงผลิตปุ๋ย-สนง.เกษตร | F96: 939905.02 | G96: -939904.02 | H96: 1 | J96: 2553 โครงการส่งเสริมการผลิตสินค้าเกษตรอินทรีย์ กิจกรรม โรงผลิตปุ๋ยอินทรีย์ชีวภาพอำเภอเมือง หน่วยดำเนินการ สนง.เกษตร จ.พังงา
B97: 100000000675 | C97: 0 | D97: 01.03.2019 | E97: ลานเทคอนกรีตและที่ทำการกลุ่ม อ.กะปง-สนง.เกษตร จ. | F97: 512312.79 | G97: -180658.68 | H97: 331654.11 | J97: ไทยเข็มแข็ง 2553 โครงการส่งเสริมการผลิตสินค้าเกษตรที่มีความสำคัญทางเศรษฐกิจของจังหวัด กิจกรรม สร้างลานคอนกรีตและที่ทำการกลุ่มเพื่อรวบรวมผลผลิตยางพารา อ.กะปง หน่วยดำเนินการ สนง.เกษตร จ.พังงา
B98: 100000000675 | C98: 1 | D98: 01.03.2019 | E98: ลานเทคอนกรีตและที่ทำการกลุ่ม อ.กะปง-สนง.เกษตร จ. | F98: 540187.21 | G98: -540186.21 | H98: 1 | J98: ไทยเข็มแข็ง 2553 โครงการส่งเสริมการผลิตสินค้าเกษตรที่มีความสำคัญทางเศรษฐกิจของจังหวัด กิจกรรม สร้างลานคอนกรีตและที่ทำการกลุ่มเพื่อรวบรวมผลผลิตยางพารา อ.กะปง หน่วยดำเนินการ สนง.เกษตร จ.พังงา
B99: 100000000676 | C99: 0 | D99: 01.03.2019 | E99: ต่อเติมลานเทปาล์มน้ำมัน ต.ท่านา อ.กะปง-สนง.เกษตร จ | F99: 377237.44 | G99: -133026.57 | H99: 244210.87 | J99: ไทยเข็มแข็ง 2553 โครงการส่งเสริมการผลิตสินค้าเกษตรที่มีความสำคัญทางเศรษฐกิจของจังหวัด กิจกรรม ต่อเติมลานเทวิสาหกิจชุมชนปาล์มน้ำมัน อ.กะปง หน่วยดำเนินการ สนง.เกษตร จ.พังงา
B100: 100000000676 | C100: 1 | D100: 01.03.2019 | E100: ต่อเติมลานเทปาล์มน้ำมัน ต.ท่านา อ.กะปง-สนง.เกษตร จ | F100: 397762.56 | G100: -397761.56 | H100: 1 | J100: ไทยเข็มแข็ง 2553 โครงการส่งเสริมการผลิตสินค้าเกษตรที่มีความสำคัญทางเศรษฐกิจของจังหวัด กิจกรรม ต่อเติมลานเทวิสาหกิจชุมชนปาล์มน้ำมัน อ.กะปง หน่วยดำเนินการ สนง.เกษตร จ.พังงา
B101: 100000000677 | C101: 0 | D101: 01.03.2019 | E101: ระบบส่งน้ำประปาฝายคลองรมณีย์-ปกครอง | F101: 2330477.5 | G101: -851052.52 | H101: 1479425 | J101: 2552 | K101: โครงการก่อสร้างระบบท่อส่งน้ำประปาฝายคลองรมณีย์ | L101: ที่ทำการปกครอง จ.พังงา
B102: 100000000677 | C102: 1 | D102: 01.03.2019 | E102: ระบบส่งน้ำประปาฝายคลองรมณีย์-ปกครอง | F102: 2607357 | G102: -2607356 | H102: 1 | J102: 2552 | K102: โครงการก่อสร้างระบบท่อส่งน้ำประปาฝายคลองรมณีย์ | L102: ที่ทำการปกครอง จ.พังงา
B103: 100000000678 | C103: 0 | D103: 01.03.2019 | E103: โรงผลิตปุ๋ยอินทรีย์ชีวภาพ อ.กะปง-สนง.เกษตร | F103: 609776.8 | G103: -222680.57 | H103: 387096.23 | J103: 2553 | K103: โครงการส่งเสริมการผลิตสินค้าเกษตรอินทรีย์
B104: 100000000678 | C104: 1 | D104: 01.03.2019 | E104: โรงผลิตปุ๋ยอินทรีย์ชีวภาพ อ.กะปง-สนง.เกษตร | F104: 682223.2 | G104: -682222.2 | H104: 1 | J104: 2553 | K104: โครงการส่งเสริมการผลิตสินค้าเกษตรอินทรีย์
B105: 100000000679 | C105: 0 | D105: 01.03.2019 | E105: ทางเดินเท้าและสะพานเหล็ก ต.ป่ากอ อ.เมืองพังงา | F105: 1095836.8 | G105: -377819.55 | H105: 718017.25 | J105: 2554-โครงการพัฒนาแหล่งท่องเที่ยวและสิ่งอำนวยความสะดวกในแหล่งท่องเที่ยวให้ได้มาตรฐานและปลอดภัย หน่วยดำเนินการ ที่ทำการปกครอง จ.พังงา
B106: 100000000679 | C106: 1 | D106: 01.03.2019 | E106: ทางเดินเท้าและสะพานเหล็ก ต.ป่ากอ อ.เมืองพังงา | F106: 1102663.2 | G106: -1102662.2 | H106: 1 | J106: 2554-โครงการพัฒนาแหล่งท่องเที่ยวและสิ่งอำนวยความสะดวกในแหล่งท่องเที่ยวให้ได้มาตรฐานและปลอดภัย หน่วยดำเนินการ ที่ทำการปกครอง จ.พังงา
B107: 100000000680 | C107: 0 | D107: 01.03.2019 | E107: เสาไฟฟ้าและระบบแสงสว่าง บริเวณ เรือ ต.813 | F107: 911395.22 | G107: -314228.3 | H107: 597166.92 | J107: โครงการก่อสร้างและปรับปรุงภูมิทัศน์อนุสรณ์สถานเรือ ต.813 หน่วยดำเนินการ สำนักงานโยธาธิการและผังเมือง จ.พังงา
B108: 100000000680 | C108: 1 | D108: 01.03.2019 | E108: เสาไฟฟ้าและระบบแสงสว่าง บริเวณ เรือ ต.813 | F108: 916402.88 | G108: -916401.88 | H108: 1 | J108: โครงการก่อสร้างและปรับปรุงภูมิทัศน์อนุสรณ์สถานเรือ ต.813 หน่วยดำเนินการ สำนักงานโยธาธิการและผังเมือง จ.พังงา
B109: 100000000681 | C109: 0 | D109: 01.03.2019 | E109: ถนนคอนกรีตเสริมเหล็ก ซ.เมืองโบราณ - อ. ตะกั่วป่า | F109: 1559029.9 | G109: -543673.51 | H109: 1015356.3 | J109: 2554-โครงการพัฒนาแหล่งท่องเที่ยวและสิ่งอำนวยความสะดวกในแหล่งท่องเที่ยวให้ได้มาตรฐานและปลอดภัย หน่วยดำเนินการ ที่ทำการปกครอง จ.พังงา
B110: 100000000681 | C110: 1 | D110: 01.03.2019 | E110: ถนนคอนกรีตเสริมเหล็ก ซ.เมืองโบราณ - อ. ตะกั่วป่า | F110: 1584870.1 | G110: -1584869.1 | H110: 1 | J110: 2554-โครงการพัฒนาแหล่งท่องเที่ยวและสิ่งอำนวยความสะดวกในแหล่งท่องเที่ยวให้ได้มาตรฐานและปลอดภัย หน่วยดำเนินการ ที่ทำการปกครอง จ.พังงา
B111: 100000000682 | C111: 0 | D111: 01.03.2019 | E111: รั้วคอนกรีตและประตูสแตนเลสบริเวณศูนย์เรียนรู้-เกษต | F111: 80715.98 | G111: -27527.42 | H111: 53188.56 | J111: ไทยเข็มแข็ง 2553 โครงการส่งเสริมการเกษตรตามแนวเศรษฐกิจพอเพียง กิจกรรมศูนย์การเรียนรู้การเกษตรตามแนวเศรษฐกิจพอเพียงภูมิปัญญาแห่งแผ่นดินขยายผลสู่ปวงชนขาวไทย จังหวัดพังงา หน่วยดำเนินการ สนง.เกษตร จ.พังงา
B112: 100000000682 | C112: 1 | D112: 01.03.2019 | E112: รั้วคอนกรีตและประตูสแตนเลสบริเวณศูนย์เรียนรู้-เกษต | F112: 79284.02 | G112: -79283.02 | H112: 1 | J112: ไทยเข็มแข็ง 2553 โครงการส่งเสริมการเกษตรตามแนวเศรษฐกิจพอเพียง กิจกรรมศูนย์การเรียนรู้การเกษตรตามแนวเศรษฐกิจพอเพียงภูมิปัญญาแห่งแผ่นดินขยายผลสู่ปวงชนขาวไทย จังหวัดพังงา หน่วยดำเนินการ สนง.เกษตร จ.พังงา
B113: 100000000683 | C113: 0 | D113: 01.03.2019 | E113: เขื่อนหินทิ้งป้องกันตลิ่งริมคลองพังงา ระยะ 1-ปพ. | F113: 1536986.3 | G113: -518554.36 | H113: 1018431.9 | J113: 2554-โครงการก่อสร้างเขื่อนหินทิ้งป้องกันตลิ่งริมคลองพังงา สนง.ปพ.พง.
B114: 100000000683 | C114: 1 | D114: 01.03.2019 | E114: เขื่อนหินทิ้งป้องกันตลิ่งริมคลองพังงา ระยะ 1-ปพ. | F114: 1463013.7 | G114: -1463012.7 | H114: 1 | J114: 2554-โครงการก่อสร้างเขื่อนหินทิ้งป้องกันตลิ่งริมคลองพังงา สนง.ปพ.พง.
B115: 100000000684 | C115: 0 | D115: 01.03.2019 | E115: ท่าเทียบเรือ โป๊ะและศูนย์บริการนักท่องเที่ยว-อ.ทับปุด | F115: 1575890.4 | G115: -514754.51 | H115: 1061135.9 | J115: 2554-โครงการพัฒนาแหล่งท่องเที่ยวและสิ่งอำนวยความสะดวกในแหล่งท่องเที่ยวให้ได้มาตรฐานและปลอดภัย หน่วยดำเนินการ ที่ทำการปกครอง จ.พังงา
...

Sheet ส่วนปรับปรุงอาคาร
A1: 22.10.2021 การแสดงรายการไดนามิก 1
A3: 22.10.2021 | D3: ยอดสินทรัพย์คงเหลือ | P3: 1
A5: วันที่รายงาน : | E5: 30.09.2021 | H5: ยอดสินทรัพย์คงเหลือ - 01 คส.ตามบัญชี
A6: สร้างเมื่อ : | E6: 22.10.2021 | Q6: 1
A8: รหัสหน่วยงาน | F8: รหัสจังหวัด | J8: รายการงบดุล | K8: บัญชีงบดุลAPC | L8: หมวดสินทรัพย์
A9: G072 | F9: 8200 | J9: ?????????? | K9: 1205030106 | L9: 12050800
C11: สินทรัพย์ | E11: SNo. | G11: Cap.date | I11: คำอธิบายของสินทรัพย์ | M11: มูลค่าการได้มา | N11: ค่าเสื่อมสะสม | O11: มูลค่าตามบัญชี
C13: 100000000279 | E13: 0 | G13: 25.12.2012 | I13: ปรับปรุงอาคารจวน ผวจ.พง.-สนจ.พง. | M13: 320000 | N13: -70136.99 | O13: 249863.01
C14: 100000000446 | E14: 0 | G14: 08.06.2016 | I14: ปรับปรุงอาคารหลบภัยสึนามิ จ.พังงา บ้านทุ่งตึก-ปพ.พ | M14: 479000 | N14: -254571.85 | O14: 224428.15 | Q14: ตัดเป็น คชจ.
C15: 100000000716 | E15: 0 | G15: 10.05.2019 | I15: ปรับปรุงบ้านพักผู้ว่าราชการจังหวัดพังงา-สนจ.พง. | M15: 201000 | N15: -48129.86 | O15: 152870.14
B17: * | C17: หมวดสินทรัพย์ 12050800 ส่วนปรับปรุงอาคาร | M17: 1000000 | N17: -372838.7 | O17: 627161.3
B19: ** | C19: บัญชีงบดุล APC 1205030106 ส่วนปรับปรุงอาคาร | M19: 1000000 | N19: -372838.7 | O19: 627161.3
B21: *** | C21: รายการงบดุล ?????????? | M21: 1000000 | N21: -372838.7 | O21: 627161.3
B23: **** | C23: รหัสจังหวัด 8200 พังงา | M23: 1000000 | N23: -372838.7 | O23: 627161.3
B25: ***** | C25: รหัสหน่วยงาน G072 งบจังหวัดพังงา | M25: 1000000 | N25: -372838.7 | O25: 627161.3

Sheet เขื่อน
A1: 22.10.2021 การแสดงรายการไดนามิก 1
A3: 22.10.2021 | I3: 1
A5: วันที่รายงาน : | C5: 30.09.2021 | E5: ยอดสินทรัพย์คงเหลือ - 01 คส.ตามบัญชี
A6: สร้างเมื่อ : | C6: 22.10.2021 | J6: 1
A8: รหัสหน่วยงาน | D8: รหัสจังหวัด | F8: รายการงบดุล | G8: บัญชีงบดุลAPC | H8: หมวดสินทรัพย์
A9: G072 | D9: 8200 | F9: ?????????? | G9: 1208030101 | H9: 12080300
B11: สินทรัพย์ | C11: SNo. | D11: Cap.date | E11: คำอธิบายของสินทรัพย์ | F11: มูลค่าการได้มา | G11: ค่าเสื่อมสะสม | H11: มูลค่าตามบัญชี
B13: 100000000452 | C13: 0 | D13: 01.12.2016 | E13: อาคารบังคับน้ำฝายกั้นคลองพังงา-โยธา | F13: 44160000 | G13: -4639561.6 | H13: 39520438 | J13: 2552 | K13: โครงการก่อสร้างอาคารบังคับน้ำฝายกั้นคลองพังงา | L13: สนง.โยธาธิการและผังเมือง จ.พังงา
B14: 100000000452 | C14: 1 | D14: 01.12.2016 | E14: อาคารบังคับน้ำฝายกั้นคลองพังงา-โยธา | F14: 3840000 | G14: -3839999 | H14: 1 | I14: =SUM(F13:F14) -> 48000000 | J14: 2552 | K14: โครงการก่อสร้างอาคารบังคับน้ำฝายกั้นคลองพังงา | L14: สนง.โยธาธิการและผังเมือง จ.พังงา
B16: 100000000525 | C16: 0 | D16: 01.09.2017 | E16: ระบบน้ำล้นฝายสันมน | F16: 9065333 | G16: -849091.4 | H16: 8216241.6 | J16: 2552 โครงการการรักษาทรัพยากรธรรมชาติและสิ่งแวดล้อม หน่วยดำเนินการ สำนักงาน โยธาธิการและผังเมือง จ.พังงา
B17: 100000000525 | C17: 1 | D17: 01.09.2017 | E17: ระบบน้ำล้นฝายสันมน | F17: 1334667 | G17: -1334666 | H17: 1 | J17: 2552 โครงการการรักษาทรัพยากรธรรมชาติและสิ่งแวดล้อม หน่วยดำเนินการ สำนักงาน โยธาธิการและผังเมือง จ.พังงา
B18: 100000000526 | C18: 0 | D18: 01.09.2017 | E18: เขื่อนหินทิ้งป้องกันตลิ่งริมคลองปากหรา | F18: 570000 | G18: -163295.51 | H18: 406704.49 | I18: 2554 - 12 โครงการก่อสร้างเขื่อนหินทิ้งป้องกันตลิ่งริมคลองปากหรา หน่วยดำเนินการ สนง.ป้องกันและบรรเทาสาธารณภัย จ.พังงา
B19: 100000000526 | C19: 1 | D19: 01.09.2017 | E19: เขื่อนหินทิ้งป้องกันตลิ่งริมคลองปากหรา | F19: 230000 | G19: -229999 | H19: 1 | I19: 2554 - 12 โครงการก่อสร้างเขื่อนหินทิ้งป้องกันตลิ่งริมคลองปากหรา หน่วยดำเนินการ สนง.ป้องกันและบรรเทาสาธารณภัย จ.พังงา
B20: 100000000527 | C20: 0 | D20: 01.09.2017 | E20: เขื่อนหินทิ้งป้องกันตลิ่งริมคลองพังงา ระยะที่ 2 | F20: 283333 | G20: -81641.1 | H20: 201691.9 | J20: 2554-11 โครงการก่อสร้างเขื่อนหินทิ้งป้องกันตลิ่งริมคลองพังงา ระยะที่ 1 และระยะที่ 2 หน่วยดำเนินการ สนง.ป้องกันและบรรเทาสาธารณภัย จ.พังงา
B21: 100000000527 | C21: 1 | D21: 01.09.2017 | E21: เขื่อนหินทิ้งป้องกันตลิ่งริมคลองพังงา ระยะที่ 2 | F21: 116667 | G21: -116666 | H21: 1 | I21: =SUM(F16:F21) -> 11600000 | J21: 2554-11 โครงการก่อสร้างเขื่อนหินทิ้งป้องกันตลิ่งริมคลองพังงา ระยะที่ 1 และระยะที่ 2 หน่วยดำเนินการ สนง.ป้องกันและบรรเทาสาธารณภัย จ.พังงา
B23: หมวดสินทรัพย์ 12080300 เขื่อน | F23: 59600000 | G23: -11254920 | H23: 48345080
B25: บัญชีงบดุล APC 1208030101 เขื่อน | F25: 59600000 | G25: -11254920 | H25: 48345080
B27: รายการงบดุล ?????????? | F27: 59600000 | G27: -11254920 | H27: 48345080
B29: รหัสจังหวัด 8200 พังงา | F29: 59600000 | G29: -11254920 | H29: 48345080
B31: รหัสหน่วยงาน G072 งบจังหวัดพังงา | F31: 59600000 | G31: -11254920 | H31: 48345080

Sheet ถนน
A1: 22.10.2021 การแสดงรายการไดนามิก 1
A3: 22.10.2021 | J3: 1
A5: วันที่รายงาน : | D5: 30.09.2021 | F5: ยอดสินทรัพย์คงเหลือ - 01 คส.ตามบัญชี
A6: สร้างเมื่อ : | D6: 22.10.2021 | K6: 1
A8: รหัสหน่วยงาน | E8: รหัสจังหวัด | G8: รายการงบดุล | H8: บัญชีงบดุลAPC | I8: หมวดสินทรัพย์
A9: G072 | E9: 8200 | G9: ?????????? | H9: 1208010101 | I9: 12080100
C11: สินทรัพย์ | D11: SNo. | E11: Cap.date | F11: คำอธิบายของสินทรัพย์ | G11: มูลค่าการได้มา | H11: ค่าเสื่อมสะสม | I11: มูลค่าตามบัญชี
C13: 100000000522 | D13: 0 | E13: 01.09.2017 | F13: เสริมผิวลาดยาง AC สาย พง.5015 | G13: 1293750 | H13: -1293749 | I13: 1 | J13: ตัดเป็น คชจ.
C14: 100000000522 | D14: 1 | E14: 01.09.2017 | F14: เสริมผิวลาดยาง AC สาย พง.5015 | G14: 5456250 | H14: -5456249 | I14: 1 | J14: ตัดเป็น คชจ.
C15: 100000000523 | D15: 0 | E15: 01.09.2017 | F15: ปรับปรุงจุดบกพร่องทางวิศวกรรมจราจรเขาหลัก | G15: 899280 | H15: -899279 | I15: 1 | J15: ตัดเป็น คชจ. | K15: 2553 โครงการเพิ่มประสิทธิภาพการรักษาความปลอดภัยให้แก่นักท่องเที่ยว กิจกรรมจัดระบบจราจรและคมนาคมแหล่งท่องเที่ยวเขาหลัก หน่วยดำเนินการ แขวงการทางภูเก็ต
C16: 100000000523 | D16: 1 | E16: 01.09.2017 | F16: ปรับปรุงจุดบกพร่องทางวิศวกรรมจราจรเขาหลัก | G16: 2098320 | H16: -2098319 | I16: 1 | J16: ตัดเป็น คชจ. | K16: 2553 โครงการเพิ่มประสิทธิภาพการรักษาความปลอดภัยให้แก่นักท่องเที่ยว กิจกรรมจัดระบบจราจรและคมนาคมแหล่งท่องเที่ยวเขาหลัก หน่วยดำเนินการ แขวงการทางภูเก็ต
C17: 100000000524 | D17: 0 | E17: 01.09.2017 | F17: ยกระดับถนนบริเวณสะพานศรีสุคต | G17: 573333 | H17: -573332 | I17: 1 | K17: 2552 โครงการการรักษาทรัพยากรธรรมชาติและสิ่งแวดล้อม หน่วยดำเนินการ สำนักงาน โยธาธิการและผังเมือง จ.พังงา
C18: 100000000524 | D18: 1 | E18: 01.09.2017 | F18: ยกระดับถนนบริเวณสะพานศรีสุคต | G18: 1026667 | H18: -1026666 | I18: 1 | J18: =SUM(G13:G18) -> 11347600 | K18: 2552 โครงการการรักษาทรัพยากรธรรมชาติและสิ่งแวดล้อม หน่วยดำเนินการ สำนักงาน โยธาธิการและผังเมือง จ.พังงา
C20: 100000000771 | D20: 0 | E20: 01.11.2019 | F20: ถนนทางเข้าอ่างเก็บน้ำบางปุย อ.ทับปุด | G20: 5151054.4 | H20: -986723.96 | I20: 4164330.5 | J20: 2562 - 5 โครงการพัฒนาแหล่งท่องเที่ยวอ่างเก็บน้ำบางปุย หน่วยดำเนินการ ที่ทำการปกครอง อ.ทับปุด
C21: 100000000869 | D21: 0 | E21: 23.06.2020 | F21: ถนนคอนกรีตเสริมเหล็กสายต้นยาง-แหลมแบก | G21: 10485000 | H21: -1335056.1 | I21: 9149943.9 | J21: 2562 - 4 โครงการก่อสร้างถนน คอนกรีตเสริมเหล็ก สายการท่องเที่ยวชุมชนสายต้นยาง-แหลมแบก หมู่ที่ 5 ตำบลเกาะยาวน้อยเพื่อ2562 - 3ส่งเสริมการท่องเที่ยวอำเภอเกาะยาว หน่วยดำเนินการ ที่ทำการปกครอง อ.เกาะยาว
B23: * | C23: หมวดสินทรัพย์ 12080100 ถนน | G23: 26983654 | H23: -13669374 | I23: 13314280
B25: ** | C25: บัญชีงบดุล APC 1208010101 ถนน | G25: 26983654 | H25: -13669374 | I25: 13314280
B27: *** | C27: รายการงบดุล ?????????? | G27: 26983654 | H27: -13669374 | I27: 13314280
B29: **** | C29: รหัสจังหวัด 8200 พังงา | G29: 26983654 | H29: -13669374 | I29: 13314280
B31: ***** | C31: รหัสหน่วยงาน G072 งบจังหวัดพังงา | G31: 26983654 | H31: -13669374 | I31: 13314280

Sheet ส.โครงสร้างพื้นฐาน
A1: 22.10.2021 การแสดงรายการไดนามิก 1
A3: 22.10.2021 | I3: 1
A5: วันที่รายงาน : | C5: 30.09.2021 | E5: ยอดสินทรัพย์คงเหลือ - 01 คส.ตามบัญชี
A6: สร้างเมื่อ : | C6: 22.10.2021 | J6: 1
A8: รหัสหน่วยงาน | D8: รหัสจังหวัด | F8: รายการงบดุล | G8: บัญชีงบดุลAPC | H8: หมวดสินทรัพย์
A9: G072 | D9: 8200 | F9: ?????????? | G9: 1208050101 | H9: 12080500
B11: สินทรัพย์ | C11: SNo. | D11: Cap.date | E11: คำอธิบายของสินทรัพย์ | F11: มูลค่าการได้มา | G11: ค่าเสื่อมสะสม | H11: มูลค่าตามบัญชี
B13: 100000000265 | C13: 0 | D13: 01.11.2012 | E13: ปรับปรุงภูมิทัศน์บ้านพักหัวหน้าสำนักงานจังหวัด | F13: 295000 | G13: -131497.26 | H13: 163502.74 | I13: =+F13 -> 295000 | J13: ไม่โอน
B15: 100000000284 | C15: 0 | D15: 04.01.2013 | E15: ป้ายจราจรและป้ายแนะนำสถานที่ท่องเที่ยว-บำรุงทาง | F15: 1861347 | G15: -813383.14 | H15: 1047963.9 | I15: 2555-ติดตั้งป้ายแนะนำสถานที่ท่องเที่ยวจังหวัดพังงา หน่วยดำเนินการ สนง.บำรุงทางพังงา
B16: 100000000285 | C16: 0 | D16: 24.01.2013 | E16: ปรับปรุงภูมิทัศน์ศาลเจ้าแม่นางหงส์-บำรุงทาง | F16: 2989321 | G16: -1298102.4 | H16: 1691218.6 | I16: 2555-7 โครงการพัฒนาแหล่งท่องเที่ยวหลักในพื้นที่จังหวัดพังงา หน่วยดำเนินการ สนง.บำรุงทางพังงา
B17: 100000000287 | C17: 0 | D17: 09.01.2013 | E17: ปรับปรุงภูมิทัศน์แหล่งท่องเที่ยวบ้านสามช่อง-อ.ตะกั | F17: 1180000 | G17: -514835.62 | H17: 665164.38 | I17: 2555-พัฒนาแหล่งท่องเที่ยวชุมชนบ้านสามช่อง อ.ตะกั่วทุ่ง
B18: 100000000290 | C18: 0 | D18: 12.02.2013 | E18: ระบบประปาโคกกลอยระยะที่ 2-อ.ตะกั่วทุ่ง | F18: 8950000 | G18: -3863212.3 | H18: 5086787.7 | I18: 2555-โครงการพัฒนาระบบประปาโคกกลอยระยะที่ 2
B19: 100000000291 | C19: 0 | D19: 26.02.2013 | E19: พัฒนาภูมิทัศน์พิพิธภัณฑ์กลางแจ้งเรือเกยตื้นฯ-วัฒนธ | F19: 1932128.9 | G19: -830286.05 | H19: 1101842.8 | I19: 2555 โครงการพัฒนาภูมิทัศน์พิพิธภัณฑ์กลางแจ้งเรือเกยตื้นธรณีพิบัติภัยสึนามิ
B20: 100000000294 | C20: 0 | D20: 09.05.2013 | E20: เขาตะปูจำลอง-สนง.เกษตร จ.พังงา | F20: 994000 | G20: -417343.84 | H20: 576656.16 | I20: 2555-โครงการพัฒนาขีดความสามารถในการแปรรูปผลผลิตทางการเกษตร กิจกรรมก่อสร้างเขาตะปูและปรับปรุงภูมิทัศน์วังหม้อแกง
B21: 100000000298 | C21: 0 | D21: 13.06.2013 | E21: ปรับปรุงภูมิทัศน์ทางขึ้น-ลง จุดล่องแก่งสองแพรก | F21: 499000 | G21: -207119.18 | H21: 291880.82 | I21: 2556 | J21: โครงการพัฒนาแหล่งท่องเที่ยวจังหวัดพังงา
B22: 100000000301 | C22: 0 | D22: 01.08.2013 | E22: ปรับปรุงภูมิทัศน์และถนนขึ้นจุดชมวิวเขานางหงส์ | F22: 1895000 | G22: -773834.93 | H22: 1121165.1 | I22: เหลือจ่าย 2556 | J22: โครงการปรับปรุงภูมิทัศน์และถนนขึ้นจุดชมวิวเขานางหงส์
B23: 100000000302 | C23: 0 | D23: 06.08.2013 | E23: พัฒนาแหล่งท่องเที่ยวหนองน้ำค้างคาว-อ.กะปง | F23: 1975000 | G23: -805150.68 | H23: 1169849.3 | I23: 2556 | J23: โครงการพัฒนาแหล่งท่องเที่ยวหนองน้ำค้างคาว หน่วยดำเนินการ ที่ทำการปกครอง อ.กะปง
B24: 100000000303 | C24: 0 | D24: 06.08.2013 | E24: ปรับปรุงภูมิทัศน์แหล่งท่องเที่ยวน้ำตกวัดเขา-อ.ตะกั | F24: 1975000 | G24: -805150.68 | H24: 1169849.3 | I24: 2556 | J24: โครงการพัฒนาแหล่งท่องเที่ยวจังหวัดพังงา
B25: 100000000304 | C25: 0 | D25: 02.08.2013 | E25: ปรับปรุงทางระบายน้ำแหล่งท่องเที่ยวเรือ ต.813-อ.ตะก | F25: 1500000 | G25: -612328.77 | H25: 887671.23 | I25: เหลือจ่าย 2556 | J25: โครงการปรับปรุงทางระบายน้ำแหล่งท่องเที่ยวเรือ ต.813
B26: 100000000305 | C26: 0 | D26: 02.08.2013 | E26: นิทรรศการถาวรพิพิธภัณฑ์ท้องถิ่นจ.พังงา-วัฒนธรรม | F26: 1965000 | G26: -802150.68 | H26: 1162849.3 | I26: 2556 | J26: โครงการพังงาน่าอยู่คู่วิถีชีวิตวัฒนธรรมสร้างสรรค์จริยธรรมและเศรษฐกิจประชาชน กิจกรรมพัฒนาแหล่งเรียนรู้ประวัติศาสตร์โบราณคดีและวิถีชีวิตชาวพังงา หน่วยดำเนินการ สนง.วัฒนธรรม จ.พังงา
B27: 100000000307 | C27: 0 | D27: 10.09.2013 | E27: ปรับปรุงภูมิทัศน์แหล่งท่องเที่ยวหานป่าสะตอ-อ.ตะกั่ | F27: 1184600 | G27: -477247.75 | H27: 707352.25 | I27: 2556 | J27: โครงการพัฒนาแหล่งท่องเที่ยวจังหวัดพังงา
B28: 100000000308 | C28: 0 | D28: 11.09.2013 | E28: พัฒนาแหล่งน้ำหานบัว-อ.ตะกั่วทุ่ง | F28: 1970000 | G28: -793397.26 | H28: 1176602.7 | I28: 2556 | J28: โครงการพัฒนาแหล่งน้ำหานบัว ตำบลโคกกลอย เพื่อการท่องเที่ยวเชิงนิเวศ
B29: 100000000309 | C29: 0 | D29: 20.09.2013 | E29: ปรับปรุงภูมิทัศน์แหล่งท่องเที่ยวหาดบางสัก-อ.ตะกั่ว | F29: 1199100 | G29: -481446.86 | H29: 717653.14 | J29: เหลือจ่าย 2556 | K29: โครงการปรับปรุงภูมิทัศน์แหล่งท่องเที่ยวหาดบางสักอำเภอตะกั่วป่า
B30: 100000000310 | C30: 0 | D30: 01.09.2013 | E30: ทางเท้าและคูระบายน้ำตลาดน้ำเค็มวังหม้อแกง-สนจ.พง. | F30: 150000 | G30: -60616.44 | H30: 89383.56 | J30: เหลือจ่าย 2556 | K30: โครงการบริหารจัดการตลาดน้ำเค็มวังหม้อแกงเมืองพังงา หน่วยดำเนินการ สำนักงานจังหวัดพังงา
B31: 100000000312 | C31: 0 | D31: 13.09.2013 | E31: เขื่อนหินทิ้งป้องกันตลิ่งริมคลองพังงา-สนจ.พง. | F31: 4969000 | G31: -1999852.3 | H31: 2969147.7 | I31: =SUM(F15:F31) -> 37188497 | J31: เหลือจ่าย 2556 | K31: โครงการก่อสร้างเขื่อนป้องกันตลิ่งริมคลองพังงา (บริเวณศูนย์ราชการจังหวัดพังงา)
B33: 100000000320 | C33: 0 | D33: 12.03.2014 | E33: ปรับปรุงท่าเทียบเรือบ้านท่าด่าน-สนง.โยธาฯ | F33: 4986000 | G33: -1883751.8 | H33: 3102248.2 | J33: 2556 | K33: โครงการปรับปรุงท่าเทียบเรือบ้านท่าด่าน (ลงอ่าวพังงา)
B34: 100000000321 | C34: 0 | D34: 01.03.2014 | E34: อาคารจำหน่ายสินค้าโอท็อบลานดนตรีและวัฒนธรรม | F34: 6950000 | G34: -2636239.7 | H34: 4313760.3 | J34: 2556 | K34: โครงการพัฒนาศูนย์จำหน่ายสินค้า OTOP ลานดนตรีและวัฒนธรรมจังหวัดพังงา
B35: 100000000324 | C35: 0 | D35: 30.04.2014 | E35: ปรับปรุงภูมิทัศน์แหล่งท่องเที่ยวบ้านท่าด่าน-โยธา | F35: 1445000 | G35: -536233.56 | H35: 908766.44 | J35: เหลือจ่าย 2556 | K35: โครงการปรับปรุงและพัฒนาแหล่งท่องเที่ยวบ้านท่าด่าน
B36: 100000000325 | C36: 0 | D36: 21.04.2014 | E36: ปรับปรุงภูมิทัศน์แหล่งท่องเที่ยวเขานางหงส์-อ.ทับปุ | F36: 1947000 | G36: -724924.11 | H36: 1222075.9 | J36: 2557 | K36: โครงการพัฒนาแหล่งท่องเที่ยวจังหวัดพังงา
B37: 100000000343 | C37: 0 | D37: 28.08.2014 | E37: ก่อสร้างทางเดินเท้าและจุดชมพลับพลึงธาร-อ.คุระบุรี | F37: 800000 | G37: -283726.03 | H37: 516273.97 | J37: 2557 | K37: โครงการพัฒนาแหล่งท่องเที่ยวจังหวัดพังงา
B38: 100000000352 | C38: 0 | D38: 20.11.2014 | E38: ปรับปรุงภูมิทัศน์หนองน้ำค้างคาว-อ.กะปง | F38: 1499000 | G38: -257191.44 | H38: 1241808.6 | I38: =SUM(F33:F38) -> 17627000 | J38: 2557 | K38: โครงการพัฒนาแหล่งท่องเที่ยวจังหวัดพังงา
B40: 100000000366 | C40: 0 | D40: 02.02.2015 | E40: ปรับปรุงภูมิทัศน์แหล่งท่องเที่ยวเกาะไข่ อ.เกาะยาว | F40: 1799000 | G40: -1198183.3 | H40: 600816.71 | J40: 2557 | K40: โครงการพัฒนาแหล่งท่องเที่ยวจังหวัดพังงา
B41: 100000000367 | C41: 0 | D41: 21.01.2015 | E41: ปรับปรุงภูมิทัศน์ฯ หลวงปู่แช่ม-อ.ทับปุด | F41: 1259999 | G41: -562224.2 | H41: 697774.8 | J41: 2557 | K41: โครงการพัฒนาแหล่งท่องเที่ยวจังหวัดพังงา
B42: 100000000396 | C42: 0 | D42: 14.12.2015 | E42: ปรับปรุงภูมิทัศน์แหลมสนงาม-อ.เกาะยาว | F42: 9950000 | G42: -3783499.6 | H42: 6166500.4 | I42: =SUM(F40:F42) -> 13008999 | J42: 2558 - 3.โครงการพัฒนาแหล่งท่องเที่ยวเชิงนิเวศจังหวัดพังงาสู่สากล กิจกรรม ปรับปรุงภูมิทัศน์แหลมสนงาม หมู่ที่ 5 ต.เกาะยาว อ.เกาะยาว จ.พังงา หน่วยดำเนินการ ที่ทำการปกครอง อ.เกาะยาว
B44: 100000000614 | C44: 0 | D44: 10.09.2018 | E44: โป๊ะพร้อมสะพานท่าเทียบเรือ ต.เกาะปันหยี-อ.เมือง | F44: 10363100 | G44: -1056184.4 | H44: 9306915.6 | I44: =+F44 -> 10363100 | J44: 2561 | K44: โครงการก่อสร้างโป๊ะพร้อมสะพานท่าเทียบเรือ ตำบลเกาะปันหยี
B46: 100000000623 | C46: 0 | D46: 01.06.2019 | E46: ปรับปรุงภมิทัศน์สวนสาธารณะทุ่งพระโพธิ์-อ.ตะกั่วป่า | F46: 3951692 | G46: -473003.88 | H46: 3478688.1 | I46: 2561 | J46: โครงการปรับปรุงภูมิทัศน์สวนสาธารณะทุ่งพระโพธิ์ เมืองตะกั่วป่าอำเภอตะกั่วป่า จังหวัดพังงา
B47: 100000000623 | C47: 1 | D47: 01.06.2019 | E47: ปรับปรุงภมิทัศน์สวนสาธารณะทุ่งพระโพธิ์-อ.ตะกั่วป่า | F47: 102480.47 | G47: -102479.47 | H47: 1 | I47: 2561 | J47: โครงการปรับปรุงภูมิทัศน์สวนสาธารณะทุ่งพระโพธิ์ เมืองตะกั่วป่าอำเภอตะกั่วป่า จังหวัดพังงา
B48: 100000000694 | C48: 0 | D48: 01.03.2019 | E48: ปรับปรุงภูมิทัศน์บ่อน้ำร้อนรมณีย์-ปกครอง | F48: 2621369.9 | G48: -1029784.9 | H48: 1591584.9 | I48: ไทยเข้มแข็ง 2553 | J48: โครงการส่งเสริมและพัฒนาแหล่งท่องเที่ยวและกิจกรรมการท่องเที่ยวที่หลากหลาย | O48: ที่ทำการปกครอง จ.พังงา
B49: 100000000694 | C49: 1 | D49: 01.03.2019 | E49: ปรับปรุงภูมิทัศน์บ่อน้ำร้อนรมณีย์-ปกครอง | F49: 3358630.1 | G49: -3358629.1 | H49: 1 | I49: ไทยเข้มแข็ง 2553 | J49: โครงการส่งเสริมและพัฒนาแหล่งท่องเที่ยวและกิจกรรมการท่องเที่ยวที่หลากหลาย | O49: ที่ทำการปกครอง จ.พังงา
B50: 100000000695 | C50: 0 | D50: 01.03.2019 | E50: ปรับปรุงภูมิทัศน์ถ้ำซำ-ปกครอง | F50: 740410.59 | G50: -294541.76 | H50: 445868.83 | I50: ไทยเข้มแข็ง 2553 | J50: โครงการส่งเสริมและพัฒนาแหล่งท่องเที่ยวและกิจกรรมการท่องเที่ยวที่หลากหลาย | O50: ที่ทำการปกครอง จ.พังงา
B51: 100000000695 | C51: 1 | D51: 01.03.2019 | E51: ปรับปรุงภูมิทัศน์ถ้ำซำ-ปกครอง | F51: 968589.41 | G51: -968588.41 | H51: 1 | I51: ไทยเข้มแข็ง 2553 | J51: โครงการส่งเสริมและพัฒนาแหล่งท่องเที่ยวและกิจกรรมการท่องเที่ยวที่หลากหลาย | O51: ที่ทำการปกครอง จ.พังงา
B52: 100000000696 | C52: 0 | D52: 01.03.2019 | E52: ปรับภูมิทัศน์จุดชมวิวบ้านท่าเขา-ปกครอง อ.เกาะยาว | F52: 5456388.8 | G52: -1992584.5 | H52: 3463804.3 | I52: ไทยเข้มแข็ง 2553 | J52: โครงการส่งเสริมและพัฒนาแหล่งท่องเที่ยวและกิจกรรมการท่องเที่ยวที่หลากหลาย | O52: ที่ทำการปกครอง จ.พังงา
B53: 100000000696 | C53: 1 | D53: 01.03.2019 | E53: ปรับภูมิทัศน์จุดชมวิวบ้านท่าเขา-ปกครอง อ.เกาะยาว | F53: 6104651.7 | G53: -6104650.7 | H53: 1 | I53: ไทยเข้มแข็ง 2553 | J53: โครงการส่งเสริมและพัฒนาแหล่งท่องเที่ยวและกิจกรรมการท่องเที่ยวที่หลากหลาย | O53: ที่ทำการปกครอง จ.พังงา
B54: 100000000697 | C54: 0 | D54: 01.03.2019 | E54: ปรับภูมิทัศน์น้ำตกวัดเขา-ปกครอง อ.ตะกั่วทุ่ง | F54: 789547.69 | G54: -288329.98 | H54: 501217.71 | I54: ไทยเข้มแข็ง 2553 | J54: โครงการส่งเสริมและพัฒนาแหล่งท่องเที่ยวและกิจกรรมการท่องเที่ยวที่หลากหลาย | O54: ที่ทำการปกครอง จ.พังงา
B55: 100000000697 | C55: 1 | D55: 01.03.2019 | E55: ปรับภูมิทัศน์น้ำตกวัดเขา-ปกครอง อ.ตะกั่วทุ่ง | F55: 883352.31 | G55: -883351.31 | H55: 1 | I55: ไทยเข้มแข็ง 2553 | J55: โครงการส่งเสริมและพัฒนาแหล่งท่องเที่ยวและกิจกรรมการท่องเที่ยวที่หลากหลาย | O55: ที่ทำการปกครอง จ.พังงา
B56: 100000000698 | C56: 0 | D56: 01.03.2019 | E56: ปรับภูมิทัศน์คลองสังเหม่-ปกครอง อ.ตะกั่วป่า | F56: 404850.26 | G56: -147844.73 | H56: 257005.53 | I56: ไทยเข้มแข็ง 2553 | J56: โครงการส่งเสริมและพัฒนาแหล่งท่องเที่ยวและกิจกรรมการท่องเที่ยวที่หลากหลาย | O56: ที่ทำการปกครอง จ.พังงา
B57: 100000000698 | C57: 1 | D57: 01.03.2019 | E57: ปรับภูมิทัศน์คลองสังเหม่-ปกครอง อ.ตะกั่วป่า | F57: 452949.74 | G57: -452948.74 | H57: 1 | I57: ไทยเข้มแข็ง 2553 | J57: โครงการส่งเสริมและพัฒนาแหล่งท่องเที่ยวและกิจกรรมการท่องเที่ยวที่หลากหลาย | O57: ที่ทำการปกครอง จ.พังงา
B58: 100000000699 | C58: 0 | D58: 01.03.2019 | E58: ปรับปรุงภูมิทัศน์และจัดทำป้ายชื่อหน่วยทดสอบวัสดุ | F58: 37293.44 | G58: -12444.33 | H58: 24849.11 | I58: '2554 | J58: ปรับปรุงภูมิทัศน์สถานที่ราชการจังหวัดพังงา หน่วยดำเนินการ สนง.โยธาธิการและผังเมือง จ.พังงา
B59: 100000000699 | C59: 1 | D59: 01.03.2019 | E59: ปรับปรุงภูมิทัศน์และจัดทำป้ายชื่อหน่วยทดสอบวัสดุ | F59: 34906.56 | G59: -34905.56 | H59: 1 | I59: '2554 | J59: ปรับปรุงภูมิทัศน์สถานที่ราชการจังหวัดพังงา หน่วยดำเนินการ สนง.โยธาธิการและผังเมือง จ.พังงา
B60: 100000000700 | C60: 0 | D60: 01.03.2019 | E60: ปรับปรุงภูมิทัศน์บริเวณน้ำพุร้อนรมณีย์-อ.กะปง | F60: 724316.16 | G60: -222576.32 | H60: 501739.84 | I60: 2555-โครงการพัฒนาแหล่งท่องเที่ยวหลักในพื้นที่จังหวัดพังงา หน่วยดำเนินการ ที่ทำการปกครอง จ.พังงา
B61: 100000000700 | C61: 1 | D61: 01.03.2019 | E61: ปรับปรุงภูมิทัศน์บริเวณน้ำพุร้อนรมณีย์-อ.กะปง | F61: 568683.84 | G61: -568682.84 | H61: 1 | I61: 2555-โครงการพัฒนาแหล่งท่องเที่ยวหลักในพื้นที่จังหวัดพังงา หน่วยดำเนินการ ที่ทำการปกครอง จ.พังงา
B62: 100000000701 | C62: 0 | D62: 01.03.2019 | E62: ปรับปรุงภูมิทัศน์ศาลเจ้าแม่นางหงส์-บำรุงทาง | F62: 1663893.2 | G62: -516342.93 | H62: 1147550.3 | I62: 2555-โครงการพัฒนาแหล่งท่องเที่ยวหลักในพื้นที่จังหวัดพังงา กิจกรรม ปรับปรุงแหล่งท่องเที่ยวเขานางหงส์ อ.เมืองพังงา และ อ.ทับปุด
B63: 100000000701 | C63: 1 | D63: 01.03.2019 | E63: ปรับปรุงภูมิทัศน์ศาลเจ้าแม่นางหงส์-บำรุงทาง | F63: 1320974.2 | G63: -1320973.2 | H63: 1 | I63: 2555-โครงการพัฒนาแหล่งท่องเที่ยวหลักในพื้นที่จังหวัดพังงา กิจกรรม ปรับปรุงแหล่งท่องเที่ยวเขานางหงส์ อ.เมืองพังงา และ อ.ทับปุด
B64: 100000000702 | C64: 0 | D64: 01.03.2019 | E64: ปรับปรุงภูมิทัศน์แหล่งท่องเที่ยว ต.สองแพรก-อ.เมือง | F64: 227885.48 | G64: -68663.87 | H64: 159221.61 | I64: 2555-โครงการพัฒนาแหล่งท่องเที่ยว ต.สองแพรก อ.เมืองพังงา หน่วยดำเนินการ ที่ทำการปกครอง อ.เมืองพังงา
B65: 100000000702 | C65: 1 | D65: 01.03.2019 | E65: ปรับปรุงภูมิทัศน์แหล่งท่องเที่ยว ต.สองแพรก-อ.เมือง | F65: 171114.52 | G65: -171113.52 | H65: 1 | I65: 2555-โครงการพัฒนาแหล่งท่องเที่ยว ต.สองแพรก อ.เมืองพังงา หน่วยดำเนินการ ที่ทำการปกครอง อ.เมืองพังงา
B66: 100000000703 | C66: 0 | D66: 01.03.2019 | E66: ปรับปรุงภูมิทัศน์สภาพแวดล้อมถ้ำโกบ อ.ทับปุด | F66: 567572.71 | G66: -172667.95 | H66: 394904.76 | I66: 2555-โครงการพัฒนาแหล่งท่องเที่ยวหลักในพื้นที่จังหวัดพังงา หน่วยดำเนินการ ที่ทำการปกครอง จ.พังงา
B67: 100000000703 | C67: 1 | D67: 01.03.2019 | E67: ปรับปรุงภูมิทัศน์สภาพแวดล้อมถ้ำโกบ อ.ทับปุด | F67: 430327.29 | G67: -430326.29 | H67: 1 | I67: 2555-โครงการพัฒนาแหล่งท่องเที่ยวหลักในพื้นที่จังหวัดพังงา หน่วยดำเนินการ ที่ทำการปกครอง จ.พังงา
B68: 100000000704 | C68: 0 | D68: 01.03.2019 | E68: ปรับปรุงภูมิทัศน์แหล่งท่องเที่ยวหนองน้ำพรุเตียว | F68: 2057764.4 | G68: -620022.2 | H68: 1437742.2 | I68: 2555-โครงการพัฒนาแหล่งท่องเที่ยวหลักในพื้นที่จังหวัดพังงา หน่วยดำเนินการ ที่ทำการปกครอง จ.พังงา
B69: 100000000704 | C69: 1 | D69: 01.03.2019 | E69: ปรับปรุงภูมิทัศน์แหล่งท่องเที่ยวหนองน้ำพรุเตียว | F69: 1522235.6 | G69: -1522234.6 | H69: 1 | I69: 2555-โครงการพัฒนาแหล่งท่องเที่ยวหลักในพื้นที่จังหวัดพังงา หน่วยดำเนินการ ที่ทำการปกครอง จ.พังงา
B70: 100000000705 | C70: 0 | D70: 01.03.2019 | E70: ปรับปรุงภูมิทัศน์เส้นทางแหล่งท่องเที่ยว ม.9 ต.คุระ | F70: 2407556.2 | G70: -718537.16 | H70: 1689019 | I70: 2555-โครงการพัฒนาแหล่งท่องเที่ยวหลักในพื้นที่จังหวัดพังงา หน่วยดำเนินการ ที่ทำการปกครอง จ.พังงา
B71: 100000000705 | C71: 1 | D71: 01.03.2019 | E71: ปรับปรุงภูมิทัศน์เส้นทางแหล่งท่องเที่ยว ม.9 ต.คุระ | F71: 1762443.8 | G71: -1762442.8 | H71: 1 | I71: 2555-โครงการพัฒนาแหล่งท่องเที่ยวหลักในพื้นที่จังหวัดพังงา หน่วยดำเนินการ ที่ทำการปกครอง จ.พังงา
... B73: 100000000706 | C73: 1 | D73: 01.03.2019 | E73: ปรับปรุงภูมิทัศน์เส้นทางแหล่งท่องเที่ยว ต.เกาะคอเข | F73: 1879367.7 | G73: -1879366.7 | H73: 1 | I73: 2555-โครงการพัฒนาแหล่งท่องเที่ยวหลักในพื้นที่จังหวัดพังงา หน่วยดำเนินการ ที่ทำการปกครอง จ.พังงา
A74: ไม่โอน | B74: 100000000707 | C74: 0 | D74: 01.03.2019 | E74: ปรับปรุงภูมิทัศน์หน้าศาลากลางจังหวัดพังงา | F74: 991433.79 | G74: -293022.38 | H74: 698411.41 | I74: 2555 โครงการปรับปรุงภฺมิทัศน์หน้าศาลากลาง จ.พังงา หลังเก่า
A75: ไม่โอน | B75: 100000000707 | C75: 1 | D75: 01.03.2019 | E75: ปรับปรุงภูมิทัศน์หน้าศาลากลางจังหวัดพังงา | F75: 708566.21 | G75: -708565.21 | H75: 1 | I75: 2555 โครงการปรับปรุงภฺมิทัศน์หน้าศาลากลาง จ.พังงา หลังเก่า
B76: 100000000708 | C76: 0 | D76: 01.03.2019 | E76: ปรับปรุงภูมิทัศน์เรือ ต.813-โยธา | F76: 3103780.8 | G76: -844858.46 | H76: 2258922.4 | I76: 2554-โครงการก่อสร้างและปรับปรุงภูมิทัศน์อนุสรณ์สถานเรือ ต.813 หน่วยดำเนินการ สำนักงานโยธาธิการและผังเมือง จ.พังงา
B77: 100000000708 | C77: 1 | D77: 01.03.2019 | E77: ปรับปรุงภูมิทัศน์เรือ ต.813-โยธา | F77: 1796219.2 | G77: -1796218.2 | H77: 1 | I77: โครงการก่อสร้างและปรับปรุงภูมิทัศน์อนุสรณ์สถานเรือ ต.813 หน่วยดำเนินการ สำนักงานโยธาธิการและผังเมือง จ.พังงา
B78: 100000000736 | C78: 0 | D78: 05.06.2019 | E78: ปรับปรุงภูมิทัศน์บริเวณศูนย์ราชการ จ.พังงา | F78: 34500000 | G78: -4007671.2 | H78: 30492329 | I78: =SUM(F46:F78) -> 84940880
B80: 100000000798 | C80: 0 | D80: 29.01.2020 | E80: ฝายน้ำล้นห้วยแทรกเพลิง | F80: 4370000 | G80: -365381.48 | H80: 4004618.5 | I80: 2562 - 8.งบกลาง โครงการแก้ไขและบรรเทาปัญหาความเดือดร้อนของประชาชนในพื้นที่ อันเนื่องมาจากปัญหาภัยแล้งและอุทกภัยในจังหวัด หน่วยดำเนินการ ที่ทำการปกครอง อ.เมืองพังงา
B81: 100000001172 | C81: 0 | D81: 17.11.2020 | E81: ปรับปรุงภูมิทัศน์บริวณฝั่งคลองพังงา บ้านควน | F81: 29987248 | G81: -2612587.6 | H81: 27374660 | I81: =SUM(F80:F81) -> 34357248 | J81: 2563
B83: หมวดสินทรัพย์ 12080500 ส/ทโครงสร้างพื้นฐาน | F83: 1.9778072e+08 | G83: -66132656 | H83: 1.3164807e+08
B85: บัญชีงบดุล APC 1208050101 สินทรัพย์พื้นฐานอื่น | F85: 1.9778072e+08 | G85: -66132656 | H85: 1.3164807e+08
B87: รายการงบดุล ?????????? | F87: 1.9778072e+08 | G87: -66132656 | H87: 1.3164807e+08
B89: รหัสจังหวัด 8200 พังงา | F89: 1.9778072e+08 | G89: -66132656 | H89: 1.3164807e+08
B91: รหัสหน่วยงาน G072 งบจังหวัดพังงา | F91: 1.9778072e+08 | G91: -66132656 | H91: 1.3164807e+08

Sheet อาคารเพื่อประโยชน์อื่น
A1: 22.10.2021 การแสดงรายการไดนามิก 1
A3: 22.10.2021 | I3: 1
A5: วันที่รายงาน : | C5: 30.09.2021 | E5: ยอดสินทรัพย์คงเหลือ - 01 คส.ตามบัญชี
A6: สร้างเมื่อ : | C6: 22.10.2021 | J6: 1
A8: รหัสหน่วยงาน | D8: รหัสจังหวัด | F8: รายการงบดุล | G8: บัญชีงบดุลAPC | H8: หมวดสินทรัพย์
A9: G072 | D9: 8200 | F9: ?????????? | G9: 1205030101 | H9: 12050300
B11: สินทรัพย์ | C11: SNo. | D11: Cap.date | E11: คำอธิบายของสินทรัพย์ | F11: มูลค่าการได้มา | G11: ค่าเสื่อมสะสม | H11: มูลค่าตามบัญชี
B13: 100000000023 | C13: 0 | D13: 14.07.2009 | E13: อาคารศูนย์รวบรวมน้ำยางสด-สนง.เกษตร | F13: 1000000 | G13: -814429.17 | H13: 185570.83 | I13: =+F13 -> 1000000 | J13: 2552 | K13: โครงการเพิ่มประสิทธิภาพการผลิตยางพารา กิจกรรมพัฒนาวิสาหกิจชุมชนยางพารา
B15: 100000000369 | C15: 0 | D15: 18.02.2015 | E15: อาคารศูนย์บริการนักท่องเที่ยวน้ำพุร้อนรมณีย์ | F15: 1899000 | G15: -837641.1 | H15: 1061358.9 | J15: 2557 | K15: โครงการพัฒนาแหล่งท่องเที่ยวจังหวัดพังงา
B16: 100000000385 | C16: 0 | D16: 04.08.2015 | E16: อาคารบริการนักท่องเที่ยวหาดท้ายเหมือง | F16: 1490000 | G16: -917676.71 | H16: 572323.29 | I16: =SUM(F15:F16) -> 3389000 | J16: 2557 | K16: โครงการพัฒนาแหล่งท่องเที่ยวจังหวัดพังงา
B18: 100000000520 | C18: 0 | D18: 01.09.2017 | E18: อาคารลานเทปาล์มน้ำมัน-สนง.เกษตร | F18: 1706666.7 | G18: -870867.58 | H18: 835799.09 | I18: 2552 | J18: โครงการผลิดปาล์มน้ำมันจังหวัดพังงา กิจกรรมสร้างศูนย์รวบรวมผลผลิตปาล์มน้ำมัน (ลานเท) 2 ลาน
B19: 100000000520 | C19: 1 | D19: 01.09.2017 | E19: อาคารลานเทปาล์มน้ำมัน-สนง.เกษตร | F19: 1493333.3 | G19: -1493332.3 | H19: 1 | I19: 2552 | J19: โครงการผลิดปาล์มน้ำมันจังหวัดพังงา กิจกรรมสร้างศูนย์รวบรวมผลผลิตปาล์มน้ำมัน (ลานเท) 2 ลาน
B20: 100000000521 | C20: 0 | D20: 01.09.2017 | E20: อาคารสำนักงาน ลานเทปาล์มน้ำมัน อ.คุระบุรี | F20: 1915666.8 | G20: -893657.95 | H20: 1022008.8 | J20: ไทยเข็มแข็ง 2553 โครงการส่งเสริมการผลิตสินค้าเกษตรที่มีความสำคัญทางเศรษฐกิจของจังหวัด กิจกรรม สร้างศูนย์รวบรวมผลผลิตปาล์มน้ำมัน (ลานเท) อ.คุระบุรี หน่วยดำเนินการ สนง.เกษตร จ.พังงา
B21: 100000000521 | C21: 1 | D21: 01.09.2017 | E21: อาคารสำนักงาน ลานเทปาล์มน้ำมัน อ.คุระบุรี | F21: 1368333.2 | G21: -1368332.2 | H21: 1 | I21: =SUM(F18:F21) -> 6484000 | J21: ไทยเข็มแข็ง 2553 โครงการส่งเสริมการผลิตสินค้าเกษตรที่มีความสำคัญทางเศรษฐกิจของจังหวัด กิจกรรม สร้างศูนย์รวบรวมผลผลิตปาล์มน้ำมัน (ลานเท) อ.คุระบุรี หน่วยดำเนินการ สนง.เกษตร จ.พังงา
B23: 100000000639 | C23: 0 | D23: 01.03.2019 | E23: อาคารโรงปุ๋ยอินทรีย์อัดเม็ด อ.ตะกั่วป่า-สนง.สหกรณ์ | F23: 505139.73 | G23: -209053.88 | H23: 296085.85 | J23: 2553 | K23: โครงการส่งเสริมการผลิตสินค้าเกษตรอินทรีย์ | N23: สนง.สหกรณ์ จ.พังงา
B24: 100000000639 | C24: 1 | D24: 01.03.2019 | E24: อาคารโรงปุ๋ยอินทรีย์อัดเม็ด อ.ตะกั่วป่า-สนง.สหกรณ์ | F24: 707860.27 | G24: -707859.27 | H24: 1 | J24: 2553 | K24: โครงการส่งเสริมการผลิตสินค้าเกษตรอินทรีย์ | N24: สนง.สหกรณ์ จ.พังงา
B25: 100000000640 | C25: 0 | D25: 01.03.2019 | E25: อาคารศูนย์ข้อมูลบริการพิพิธภัณฑ์เอเชีย-วัฒนธรรม | F25: 1304109.6 | G25: -518786.11 | H25: 785323.48 | J25: 2552 | K25: โครงการอนุรักษ์และพัฒนาแหล่งท่องเที่ยวทางวัฒนธรรมตามเส้นทางแม่น้ำตะกั่วป่า กิจกรรมอนุรักษ์และพัฒนาแหล่งโบราณคดีทุ่งตึก ต.เกาะคอเขา หน่วยดำเนินการ สนง.วัฒนธรรม จ.พังงา
B26: 100000000640 | C26: 1 | D26: 01.03.2019 | E26: อาคารศูนย์ข้อมูลบริการพิพิธภัณฑ์เอเชีย-วัฒนธรรม | F26: 1695890.4 | G26: -1695889.4 | H26: 1 | J26: 2552 | K26: โครงการอนุรักษ์และพัฒนาแหล่งท่องเที่ยวทางวัฒนธรรมตามเส้นทางแม่น้ำตะกั่วป่า กิจกรรมอนุรักษ์และพัฒนาแหล่งโบราณคดีทุ่งตึก ต.เกาะคอเขา หน่วยดำเนินการ สนง.วัฒนธรรม จ.พังงา
B27: 100000000641 | C27: 0 | D27: 01.03.2019 | E27: อาคารฝึกอบรมเกษตรกร-สนง.เกษตรและสหกรณ์ | F27: 2047671.2 | G27: -765545.21 | H27: 1282126 | I27: ไทยเข็มแข็ง 2553 โครงการส่งเสริมการเกษตรตามแนวเศรษฐกิจพอเพียง กิจกรรมก่อสร้างอาคารฝึกอบรมเกษตรกรศูนย์เครือข่ายปราชญ์ชาวบ้านและสำนักงานวิสาหกิจชุมชน หน่วยดำเนินการ สนง.เกษตรและสหกรณ์ จ.พังงา
B28: 100000000641 | C28: 1 | D28: 01.03.2019 | E28: อาคารฝึกอบรมเกษตรกร-สนง.เกษตรและสหกรณ์ | F28: 2392328.8 | G28: -2392327.8 | H28: 1 | I28: ไทยเข็มแข็ง 2553 โครงการส่งเสริมการเกษตรตามแนวเศรษฐกิจพอเพียง กิจกรรมก่อสร้างอาคารฝึกอบรมเกษตรกรศูนย์เครือข่ายปราชญ์ชาวบ้านและสำนักงานวิสาหกิจชุมชน หน่วยดำเนินการ สนง.เกษตรและสหกรณ์ จ.พังงา
B29: 100000000642 | C29: 0 | D29: 01.03.2019 | E29: อาคารเก็บวัสดุ-สนง.เกษตร | F29: 279062.28 | G29: -101909.02 | H29: 177153.26 | I29: ไทยเข็มแข็ง 2553 โครงการส่งเสริมการผลิตสินค้าเกษตรที่มีความสำคัญทางเศรษฐกิจของจังหวัด กิจกรรม ส่งเสริมและพัฒนาการผลิตยางพารา หน่วยดำเนินการ สนง.เกษตร จ.พังงา
B30: 100000000642 | C30: 1 | D30: 01.03.2019 | E30: อาคารเก็บวัสดุ-สนง.เกษตร | F30: 309937.72 | G30: -309936.72 | H30: 1 | I30: ไทยเข็มแข็ง 2553 โครงการส่งเสริมการผลิตสินค้าเกษตรที่มีความสำคัญทางเศรษฐกิจของจังหวัด กิจกรรม ส่งเสริมและพัฒนาการผลิตยางพารา หน่วยดำเนินการ สนง.เกษตร จ.พังงา
B31: 100000000643 | C31: 0 | D31: 01.03.2019 | E31: อาคารแปรรูปผลิตภัณฑ์-สนง.เกษตร | F31: 251094.98 | G31: -85633.55 | H31: 165461.43 | I31: ไทยเข็มแข็ง 2553 โครงการส่งเสริมการเกษตรตามแนวเศรษฐกิจพอเพียง กิจกรรมศูนย์การเรียนรู้การเกษตรตามแนวเศรษฐกิจพอเพียงภูมิปัญญาแห่งแผ่นดินขยายผลสู่ปวงชนขาวไทย จังหวัดพังงา หน่วยดำเนินการ สนง.เกษตร จ.พังงา
B32: 100000000643 | C32: 1 | D32: 01.03.2019 | E32: อาคารแปรรูปผลิตภัณฑ์-สนง.เกษตร | F32: 247905.02 | G32: -247904.02 | H32: 1 | I32: ไทยเข็มแข็ง 2553 โครงการส่งเสริมการเกษตรตามแนวเศรษฐกิจพอเพียง กิจกรรมศูนย์การเรียนรู้การเกษตรตามแนวเศรษฐกิจพอเพียงภูมิปัญญาแห่งแผ่นดินขยายผลสู่ปวงชนขาวไทย จังหวัดพังงา หน่วยดำเนินการ สนง.เกษตร จ.พังงา
B33: 100000000644 | C33: 0 | D33: 01.03.2019 | E33: อาคารหอช่วยเหลือผู้ประสบภัยสืนามิ-ปพ. | F33: 4815318.2 | G33: -1698042.7 | H33: 3117275.5 | I33: Tkk กลุ่ม 2553 | J33: โครงการก่อสร้างอาคารหอช่วยเหลือผู้ประสบภัยสึนามิจังหวัดพังงา
B34: 100000000644 | C34: 1 | D34: 01.03.2019 | E34: อาคารหอช่วยเหลือผู้ประสบภัยสืนามิ-ปพ. | F34: 4999971.1 | G34: -4999970.1 | H34: 1 | I34: Tkk กลุ่ม 2553 | J34: โครงการก่อสร้างอาคารหอช่วยเหลือผู้ประสบภัยสึนามิจังหวัดพังงา
B35: 100000000645 | C35: 0 | D35: 01.03.2019 | E35: อาคารศูนย์เรียนรู้ศูนย์ศึกษาสิ่งแวดล้อม ต.บางเตย | F35: 258356.16 | G35: -86210.04 | H35: 172146.12 | I35: 2554 | J35: โครงการพัฒนาศูนย์ศึกษาสิ่งแวดล้อมทางธรรมชาติเพื่อส่งเสริมการท่องเที่ยวเชิงนิเวศ ต.บางเตย หน่วยดำเนินการ ที่ทำการปกครอง อ.เมืองพังงา
B36: 100000000645 | C36: 1 | D36: 01.03.2019 | E36: อาคารศูนย์เรียนรู้ศูนย์ศึกษาสิ่งแวดล้อม ต.บางเตย | F36: 241643.84 | G36: -241642.84 | H36: 1 | I36: 2554 | J36: โครงการพัฒนาศูนย์ศึกษาสิ่งแวดล้อมทางธรรมชาติเพื่อส่งเสริมการท่องเที่ยวเชิงนิเวศ ต.บางเตย หน่วยดำเนินการ ที่ทำการปกครอง อ.เมืองพังงา
B37: 100000000646 | C37: 0 | D37: 01.03.2019 | E37: อาคารร้านค้าชุมชน-อ.ตะกั่วทุ่ง | F37: 562872.51 | G37: -171238.04 | H37: 391634.47 | I37: 2554-โครงการร้านค้าชุมชน หน่วยดำเนินการ ที่ทำการปกครอง อ.ตะกั่วทุ่ง
B38: 100000000646 | C38: 1 | D38: 01.03.2019 | E38: อาคารร้านค้าชุมชน-อ.ตะกั่วทุ่ง | F38: 434127.49 | G38: -434126.49 | H38: 1 | I38: 2554-โครงการร้านค้าชุมชน หน่วยดำเนินการ ที่ทำการปกครอง อ.ตะกั่วทุ่ง
B39: 100000000647 | C39: 0 | D39: 01.03.2019 | E39: อาคารติดตั้งเซนเซอร์ตรวจวัดแผ่นดินไหว-อุตุ | F39: 50467.4 | G39: -17026.89 | H39: 33440.51 | I39: 2555-โครงการก่อสร้างติดตั้งเซนเซอร์ตรวจวัดแผ่นดินไหว ภายในสถานีอุตุนิยมวิทยาจังหวัดพังงา หน่วยดำเนินการ สถานีอุตุนิยมวิทยาจังหวัดพังงา
B40: 100000000647 | C40: 1 | D40: 01.03.2019 | E40: อาคารติดตั้งเซนเซอร์ตรวจวัดแผ่นดินไหว-อุตุ | F40: 48532.6 | G40: -48531.6 | H40: 1 | I40: 2555-โครงการก่อสร้างติดตั้งเซนเซอร์ตรวจวัดแผ่นดินไหว ภายในสถานีอุตุนิยมวิทยาจังหวัดพังงา หน่วยดำเนินการ สถานีอุตุนิยมวิทยาจังหวัดพังงา
B41: 100000000648 | C41: 0 | D41: 01.03.2019 | E41: อาคารศูนย์บริการช่วยเหลือนักท่องเที่ยวเกาะไข่นอก | F41: 582065.75 | G41: -172031.95 | H41: 410033.8 | I41: 2555-ปรับปรุงและก่อสร้างศูนย์บริการช่วยเหลือนักท่องเที่ยวเกาะไข่นอก หน่วยดำเนินการ ที่ทำการปกครอง อ.เกาะยาว
B42: 100000000648 | C42: 1 | D42: 01.03.2019 | E42: อาคารศูนย์บริการช่วยเหลือนักท่องเที่ยวเกาะไข่นอก | F42: 416934.25 | G42: -416933.25 | H42: 1 | I42: 2555-ปรับปรุงและก่อสร้างศูนย์บริการช่วยเหลือนักท่องเที่ยวเกาะไข่นอก หน่วยดำเนินการ ที่ทำการปกครอง อ.เกาะยาว
B43: 100000000649 | C43: 0 | D43: 01.03.2019 | E43: อาคารศูนย์กลางการท่องเที่ยวเชิงนิเวศน์-โยธา | F43: 3387861.4 | G43: -982531.83 | H43: 2405329.5 | I43: Tkk กลุ่ม 2553 | J43: โครงการศึกษาและดำเนินการสร้างมูลค่าเพิ่มจากการท่องเที่ยวเชิงนิเวศน์ของกลุ่มจังหวัด
B44: 100000000649 | C44: 1 | D44: 01.03.2019 | E44: อาคารศูนย์กลางการท่องเที่ยวเชิงนิเวศน์-โยธา | F44: 2321138.6 | G44: -2321137.6 | H44: 1 | I44: Tkk กลุ่ม 2553 | J44: โครงการศึกษาและดำเนินการสร้างมูลค่าเพิ่มจากการท่องเที่ยวเชิงนิเวศน์ของกลุ่มจังหวัด
B45: 100000000650 | C45: 0 | D45: 01.03.2019 | E45: อาคารกิจกรรมร้านค้าสหกรณ์ รร.คุระบุรีชัยพั | F45: 793956.71 | G45: -230259.65 | H45: 563697.06 | I45: 2555-โครงการพัฒนาเกษตรกรรมตามแนวเศรษฐกิจพอเพียง กิจกรรมสหกรณ์นักเรียนในโรงเรียนตามพระราชดำริสมเด็จพระเทพรัตนราชสุดาฯ สยามบรมราชกุมารี หน่วยดำเนินการ สนง.สหกรณ์ จ.พังงา
B46: 100000000650 | C46: 1 | D46: 01.03.2019 | E46: อาคารกิจกรรมร้านค้าสหกรณ์ รร.คุระบุรีชัยพั | F46: 539043.29 | G46: -539042.29 | H46: 1 | I46: 2555-โครงการพัฒนาเกษตรกรรมตามแนวเศรษฐกิจพอเพียง กิจกรรมสหกรณ์นักเรียนในโรงเรียนตามพระราชดำริสมเด็จพระเทพรัตนราชสุดาฯ สยามบรมราชกุมารี หน่วยดำเนินการ สนง.สหกรณ์ จ.พังงา
B47: 100000000651 | C47: 0 | D47: 01.03.2019 | E47: อาคารจำหน่ายผลิตภัณฑ์ท้องถิ่นและของที่ระลึก | F47: 2026325.5 | G47: -551571.88 | H47: 1474753.6 | I47: 2554-โครงการก่อสร้างและปรับปรุงภูมิทัศน์อนุสรณ์สถานเรือ ต.813 หน่วยดำเนินการ สำนักงานโยธาธิการและผังเมือง จ.พังงา
B48: 100000000651 | C48: 1 | D48: 01.03.2019 | E48: อาคารจำหน่ายผลิตภัณฑ์ท้องถิ่นและของที่ระลึก | F48: 1172674.5 | G48: -1172673.5 | H48: 1 | I48: 2554-โครงการก่อสร้างและปรับปรุงภูมิทัศน์อนุสรณ์สถานเรือ ต.813 หน่วยดำเนินการ สำนักงานโยธาธิการและผังเมือง จ.พังงา
B49: 100000000652 | C49: 0 | D49: 01.03.2019 | E49: อาคารศูนย์แสดงและจำหน่ายอาหารทะเล-อ.ตะกั่วทุ่ง | F49: 713031.96 | G49: -165137.93 | H49: 547894.03 | I49: 2556 | J49: 2556 | K49: โครงการก่อสร้างศูนย์แสดงและจำหน่ายอาหารทะเล หน่วยดำเนินการ ที่ทำการปกครอง อ.ตะกั่วทุ่ง
B50: 100000000652 | C50: 1 | D50: 01.03.2019 | E50: อาคารศูนย์แสดงและจำหน่ายอาหารทะเล-อ.ตะกั่วทุ่ง | F50: 244968.04 | G50: -244967.04 | H50: 1 | I50: 2556 | J50: 2556 | K50: โครงการก่อสร้างศูนย์แสดงและจำหน่ายอาหารทะเล หน่วยดำเนินการ ที่ทำการปกครอง อ.ตะกั่วทุ่ง
B51: 100000000653 | C51: 0 | D51: 01.03.2019 | E51: อาคารจำหน่ายสินค้า คสล เขาไข่นุ้ย-อ.ท้ายเหมือง | F51: 829587.03 | G51: -181322.1 | H51: 648264.93 | J51: 2558 - 2.โครงการพัฒนาแหล่งท่องเที่ยวเชิงนิเวศจังหวัดพังงาสู่สากล กิจกรรม ก่อสร้างอาคารจำหน่ายสินค้า คสล พร้อมปรับภูมิทัศน์ เขาไข่นุ้ย หมู่ที่ 3 บ้านฝ้ายท่า ตำบลทุ่งมะพร้าว อำเภอท้ายเหมือง จังหวัดพังงา หน่วยดำเนินการ ที่ทำการปกครอง อ.ท้ายเหมือง
B52: 100000000653 | C52: 1 | D52: 01.03.2019 | E52: อาคารจำหน่ายสินค้า คสล เขาไข่นุ้ย-อ.ท้ายเหมือง | F52: 219128.97 | G52: -219127.97 | H52: 1 | I52: =SUM(F23:F52) -> 34399005 | J52: 2558 - 2.โครงการพัฒนาแหล่งท่องเที่ยวเชิงนิเวศจังหวัดพังงาสู่สากล กิจกรรม ก่อสร้างอาคารจำหน่ายสินค้า คสล พร้อมปรับภูมิทัศน์ เขาไข่นุ้ย หมู่ที่ 3 บ้านฝ้ายท่า ตำบลทุ่งมะพร้าว อำเภอท้ายเหมือง จังหวัดพังงา หน่วยดำเนินการ ที่ทำการปกครอง อ.ท้ายเหมือง
B54: หมวดสินทรัพย์ 12050300 อาคารประโยชน์อื่นๆ | F54: 45272005 | G54: -29124308 | H54: 16147697
B56: บัญชีงบดุล APC 1205030101 อาคารเพื่อป/ยอื่น | F56: 45272005 | G56: -29124308 | H56: 16147697
B58: รายการงบดุล ?????????? | F58: 45272005 | G58: -29124308 | H58: 16147697
B60: รหัสจังหวัด 8200 พังงา | F60: 45272005 | G60: -29124308 | H60: 16147697
B62: รหัสหน่วยงาน G072 งบจังหวัดพังงา | F62: 45272005 | G62: -29124308 | H62: 16147697

Sheet ครุภัณฑ โอน
B1: รายการครุภัณฑ์คงค้างที่ประสงค์จะโอน
A3: รายการ | B3: ประเภทสินทรัพย์ | C3: รายการสินทรัพย์ | D3: วันที่บันทึก | E3: มูลค่าสินทรัพย์
B4: ปี 2009 (พ.ศ.2552)
A5: 1 | B5: ครุภัณฑ์ยานพาหนะ | C5: รถยนต์ตู้ ยี่ห้อ TOYOTA-สนง.เกษตร จ.พังงา | D5: 10.03.2009 | E5: 1290000 | F5: 2552 - 2. โครงการพัฒนาเกษตรอินทรีย์ กิจกรรม จัดคลีนิคดินเคลื่อนที่ หน่วยดำเนินการ สนง.เกษตร จ.พังงา
A6: 2 | B6: ครุภัณฑ์ยานพาหนะ | C6: เรือไม้ขนาด 1.5*8 ม.-สนง.พัฒนาชุมชน | D6: 27.11.2009 | E6: 80000 | F6: 2552 - 4. โครงการสนับสนุนครัวเรือนยากจนที่มีรายได้ต่ำกว่าเกณฑ์ จปฏ. หน่วยดำเนินการ สนง.พัฒนาชุมชน จ.พังงา
A7: 3 | B7: ครุภัณฑ์ยานพาหนะ | C7: เรือไฟเบอร์คลาสขนาด 1.10*4.90 ม.-สนง.พัฒนาชุมชน | D7: 27.11.2009 | E7: 30000 | F7: 2552 - 4. โครงการสนับสนุนครัวเรือนยากจนที่มีรายได้ต่ำกว่าเกณฑ์ จปฏ. หน่วยดำเนินการ สนง.พัฒนาชุมชน จ.พังงา
A8: 4 | B8: ครุภัณฑ์ยานพาหนะ | C8: เรือไม้ขนาด 1*5 ม.-สนง.พัฒนาชุมชน | D8: 27.11.2009 | E8: 42000 | F8: 2552 - 4. โครงการสนับสนุนครัวเรือนยากจนที่มีรายได้ต่ำกว่าเกณฑ์ จปฏ. หน่วยดำเนินการ สนง.พัฒนาชุมชน จ.พังงา
A9: 5 | B9: ครุภัณฑ์ยานพาหนะ | C9: เครื่องเรือเบนซินไม่น้อยกว่า 389 ซีซี-พัฒนาชุมชน | D9: 27.11.2009 | E9: 74000 | F9: 2552 - 4. โครงการสนับสนุนครัวเรือนยากจนที่มีรายได้ต่ำกว่าเกณฑ์ จปฏ. หน่วยดำเนินการ สนง.พัฒนาชุมชน จ.พังงา
A10: 6 | B10: ครุภัณฑ์ยานพาหนะ | C10: เครื่องเรือเบนซินขนาด 5.5 แรงม้า-สนง.พัฒนาชุมชน | D10: 27.11.2009 | E10: 40000 | F10: 2552 - 4. โครงการสนับสนุนครัวเรือนยากจนที่มีรายได้ต่ำกว่าเกณฑ์ จปฏ. หน่วยดำเนินการ สนง.พัฒนาชุมชน จ.พังงา
A11: 7 | B11: ครุภัณฑ์ยานพาหนะ | C11: เครื่องยนต์ดีเซลขนาด 85 แรงม้า-สนง.พัฒนาชุมชน | D11: 27.11.2009 | E11: 10000 | F11: 2552 - 4. โครงการสนับสนุนครัวเรือนยากจนที่มีรายได้ต่ำกว่าเกณฑ์ จปฏ. หน่วยดำเนินการ สนง.พัฒนาชุมชน จ.พังงา
C12: รวม | E12: =SUM(E5:E11) -> 1566000
B13: ปี 2010 (พ.ศ.2553)
A14: 1 | B14: ครุภัณฑ์ยานพาหนะ | C14: รถยนต์ตู้โมบาย ยี่ห้อ TOYOTA-สนง.ปศุสัตว์ จ.พังงา | D14: 03.08.2010 | E14: 1350000 | F14: 2553 - 5.โครงการส่งเสริมการผลิตสินค้าเกษตรที่มีความสำคัญทางเศรษฐกิจของจังหวัด กิจกรรม พัฒนาอาชีพปศุสัตว์ หน่วยดำเนินการ สำนักงานปศุสัตว์ จ.พังงา
A15: 2 | B15: ครุภัณฑ์ยานพาหนะ | C15: เรือเร็วตรวจการณ์(สปีทโบ๊ท) 35 ฟุต-อ.เมือง | D15: 11.08.2010 | E15: 1910000 | F15: 2553 - 8.โครงการเพิ่มประสิทธิภาพการรักษาความปลอดภัยให้แก่นักท่องเที่ยว หน่วยดำเนินการ ที่ทำการปกครอง จ.พังงา
A16: 3 | B16: ครุภัณฑ์โฆษณา | C16: กล้องโทรทัศน์วงจรปิดและอุปกรณ์ | D16: 21.04.2010 | E16: 1646900 | F16: 2553 - 13.โครงการเพิ่มประสิทธิภาพการรักษาความปลอดภัยให้กับนักท่องเที่ยว กิจกรรม ติดตั้งกล้องโทรทัศน์วงจรปิดและอุปกรณ์ประจำศูนย์ควบคุมฯ บริเวณแหล่งท่องเที่ยวเขาหลัก หน่วยดำเนินการ ที่ทำการปกครอง อ.ตะกั่วป่า
A17: 4 | B17: ครุภัณฑ์โฆษณา | C17: เครื่องฉายโปรเจคเตอร์-สนจ.เกษตร | D17: 23.06.2010 | E17: 261000 | F17: 2553 - 1.โครงการส่งเสริมการเกษตรตามแนวเศรษฐกิจพอเพียง กิจกรรมศูนย์เรียนรู้การเกษตรตามแนวเศรษฐกิจพอเพียงภูมิปัญญาแห่งแผ่นดินขยายผลสู่ปวงชนชาวไทย หน่วยดำเนินการ สำนักงานเกษตร จ.พังงา
A18: 5 | B18: ครุภัณฑ์โฆษณา | C18: โทรทัศน์สี 33 นิ้ว - สนง.เกษตร | D18: 23.06.2010 | E18: 59800 | F18: 2553 - 1.โครงการส่งเสริมการเกษตรตามแนวเศรษฐกิจพอเพียง กิจกรรมศูนย์เรียนรู้การเกษตรตามแนวเศรษฐกิจพอเพียงภูมิปัญญาแห่งแผ่นดินขยายผลสู่ปวงชนชาวไทย หน่วยดำเนินการ สำนักงานเกษตร จ.พังงา
A19: 6 | B19: ครุภัณฑ์โฆษณา | C19: กล้องถ่ายภาพนิ่ง - สนง.เกษตร | D19: 23.06.2010 | E19: 49900 | F19: 2553 - 1.โครงการส่งเสริมการเกษตรตามแนวเศรษฐกิจพอเพียง กิจกรรมศูนย์เรียนรู้การเกษตรตามแนวเศรษฐกิจพอเพียงภูมิปัญญาแห่งแผ่นดินขยายผลสู่ปวงชนชาวไทย หน่วยดำเนินการ สำนักงานเกษตร จ.พังงา
A20: 7 | B20: ครุภัณฑ์โฆษณา | C20: เครื่องถ่ายวีดีโอ | D20: 23.06.2010 | E20: 49000 | F20: 2553 - 1.โครงการส่งเสริมการเกษตรตามแนวเศรษฐกิจพอเพียง กิจกรรมศูนย์เรียนรู้การเกษตรตามแนวเศรษฐกิจพอเพียงภูมิปัญญาแห่งแผ่นดินขยายผลสู่ปวงชนชาวไทย หน่วยดำเนินการ สำนักงานเกษตร จ.พังงา
A21: 8 | B21: ครุภัณฑ์โฆษณา | C21: เครื่องฉายโปรเจคเตอร์-ปศุสัตว์ | D21: 11.10.2010 | E21: 40000 | F21: 2553 - 5.โครงการส่งเสริมการผลิตสินค้าเกษตรที่มีความสำคัญทางเศรษฐกิจของจังหวัด กิจกรรม พัฒนาอาชีพปศุสัตว์ หน่วยดำเนินการ สำนักงานปศุสัตว์ จ.พังงา
A22: 9 | B22: ครุภัณฑ์โฆษณา | C22: กล้องดิจิตอล-ปศุสัตว์ | D22: 11.10.2010 | E22: 11900 | F22: 2553 - 5.โครงการส่งเสริมการผลิตสินค้าเกษตรที่มีความสำคัญทางเศรษฐกิจของจังหวัด กิจกรรม พัฒนาอาชีพปศุสัตว์ หน่วยดำเนินการ สำนักงานปศุสัตว์ จ.พังงา
A23: 10 | B23: ครุภัณฑ์โฆษณา | C23: กล้องวีดิโอ-ปศุัสัตว์ | D23: 11.10.2010 | E23: 43900 | F23: 2553 - 5.โครงการส่งเสริมการผลิตสินค้าเกษตรที่มีความสำคัญทางเศรษฐกิจของจังหวัด กิจกรรม พัฒนาอาชีพปศุสัตว์ หน่วยดำเนินการ สำนักงานปศุสัตว์ จ.พังงา
A24: 11 | B24: ครุภัณฑ์สำนักงาน | C24: เครื่องปรับกากาศแบบแยกส่วน | D24: 23.06.2010 | E24: 238000 | F24: 2553 - 1.โครงการส่งเสริมการเกษตรตามแนวเศรษฐกิจพอเพียง กิจกรรมศูนย์เรียนรู้การเกษตรตามแนวเศรษฐกิจพอเพียงภูมิปัญญาแห่งแผ่นดินขยายผลสู่ปวงชนชาวไทย หน่วยดำเนินการ สำนักงานเกษตร จ.พังงา
A25: 12 | B25: ครุภัณฑ์สำนักงาน | C25: โต๊ะประชุมพร้อมเก้าอี้ - สนง.เกษตร | D25: 23.06.2010 | E25: 250000 | F25: 2553 - 1.โครงการส่งเสริมการเกษตรตามแนวเศรษฐกิจพอเพียง กิจกรรมศูนย์เรียนรู้การเกษตรตามแนวเศรษฐกิจพอเพียงภูมิปัญญาแห่งแผ่นดินขยายผลสู่ปวงชนชาวไทย หน่วยดำเนินการ สำนักงานเกษตร จ.พังงา
... A41: 28 | B41: ครุภัณฑ์คอมพิวเตอร์ | C41: คอมพิวเตอร์ลูกข่าย-ปศุสัตว์ | D41: 11.10.2010 | E41: 29500 | F41: 2553 - 5.โครงการส่งเสริมการผลิตสินค้าเกษตรที่มีความสำคัญทางเศรษฐกิจของจังหวัด กิจกรรม พัฒนาอาชีพปศุสัตว์ หน่วยดำเนินการ สำนักงานปศุสัตว์ จ.พังงา
C42: รวม | E42: =SUM(E14:E41) -> 7624400
B43: ปี 2011 (พ.ศ.2554)
A44: 1 | B44: ครุภัณฑ์ยานพาหนะ | C44: จักรยาน 18 เกียร์ - สนง.เกษตร จ.พังงา | D44: 30.09.2011 | E44: 300000 | F44: 2554 - 1. โครงการส่งเสริมการท่องเที่ยวเชิงเกษตรโดยชุมชนเป็นผู้บริหารจัดการ กิจกรรมส่งเสริมการท่องเที่ยวเชิงเกษตรโดยชุมชนเป็นผู้บริหารจัดการ หน่วยดำเนินการ สนง.เกษตร จ.พังงา
A45: 2 | B45: ครุภัณฑ์โฆษณา | C45: โปรเจคเตอร์ Viewsonic รุ่น PJD6251-สนง.เกษตร จ.พง. | D45: 30.09.2011 | E45: 60000 | F45: 2554 - 1. โครงการส่งเสริมการท่องเที่ยวเชิงเกษตรโดยชุมชนเป็นผู้บริหารจัดการ กิจกรรมส่งเสริมการท่องเที่ยวเชิงเกษตรโดยชุมชนเป็นผู้บริหารจัดการ หน่วยดำเนินการ สนง.เกษตร จ.พังงา
A46: 3 | B46: ครุภัณฑ์โฆษณา | C46: แอลซีดีทีวี 42" LG รุ่น 42LK450- สนง.เกษตร จ.พง. | D46: 30.09.2011 | E46: 25900 | F46: 2554 - 1. โครงการส่งเสริมการท่องเที่ยวเชิงเกษตรโดยชุมชนเป็นผู้บริหารจัดการ กิจกรรมส่งเสริมการท่องเที่ยวเชิงเกษตรโดยชุมชนเป็นผู้บริหารจัดการ หน่วยดำเนินการ สนง.เกษตร จ.พังงา
A47: 4 | B47: ครุภัณฑ์โฆษณา | C47: กล้องดิจิตอล Canon รุ่น EOS 7D - สนง.เกษตร จ.พง. | D47: 30.09.2011 | E47: 65990 | F47: 2554 - 1. โครงการส่งเสริมการท่องเที่ยวเชิงเกษตรโดยชุมชนเป็นผู้บริหารจัดการ กิจกรรมส่งเสริมการท่องเที่ยวเชิงเกษตรโดยชุมชนเป็นผู้บริหารจัดการ หน่วยดำเนินการ สนง.เกษตร จ.พังงา
A48: 5 | B48: ครุภัณฑ์การเกษตร | C48: เครื่องผสมปุ๋ยและเครื่องอัดเม็ดปุ๋ย-สนง.เกษตร พง. | D48: 30.05.2011 | E48: 1692000 | F48: 2553 - 10.โครงการส่งเสริมการผลิตสินค้าเกษตรอินทรีย์ กิจกรรม สร้างโรงผลิตปุ๋ยอินทรีย์ชีวภาพระดับอำเภอ (อำเภอเมือง) หน่วยดำเนินการ สนง.เกษตร จ.พังงา
A49: 6 | B49: ครุภัณฑ์การเกษตร | C49: ชุดโบว์เวอร์ดูดลมเย็น-สนง.เกษตร จ.พังงา | D49: 30.05.2011 | E49: 120000 | F49: 2553 - 10.โครงการส่งเสริมการผลิตสินค้าเกษตรอินทรีย์ กิจกรรม สร้างโรงผลิตปุ๋ยอินทรีย์ชีวภาพระดับอำเภอ (อำเภอเมือง) หน่วยดำเนินการ สนง.เกษตร จ.พังงา
A50: 7 | B50: ครุภัณฑ์การเกษตร | C50: ถังไซโลพักเม็ดปุ๋ย-สนง.เกษตร จ.พังงา | D50: 30.05.2011 | E50: 55000 | F50: 2553 - 10.โครงการส่งเสริมการผลิตสินค้าเกษตรอินทรีย์ กิจกรรม สร้างโรงผลิตปุ๋ยอินทรีย์ชีวภาพระดับอำเภอ (อำเภอเมือง) หน่วยดำเนินการ สนง.เกษตร จ.พังงา
A51: 8 | B51: ครุภัณฑ์การเกษตร | C51: เครื่องซีลปากถุงแบบเท้าเหยียบ-สนง.เกษตร จ. | D51: 30.09.2011 | E51: 16000 | F51: 2554 - 1. โครงการพัฒนาการแปรรูปน้ำตาลชกบ้านบางใต้ หน่วยดำเนินการ สนง.เกษตร จ.พังงา
A52: 9 | B52: ครุภัณฑ์การเกษตร | C52: เครื่องแพ็คถุงสุญญากาศ 40 ซม.-สนง.เกษตร จ.พังงา | D52: 30.09.2011 | E52: 28215 | F52: 2554 - 1. โครงการพัฒนาการแปรรูปน้ำตาลชกบ้านบางใต้ หน่วยดำเนินการ สนง.เกษตร จ.พังงา
A53: 10 | B53: ครุภัณฑ์การเกษตร | C53: เครื่องบดและอัดเม็ด-สนง.เกษตร จ.พังงา | D53: 30.09.2011 | E53: 85650 | F53: 2554 - 2. โครงการเศรษฐกิจพอเพียงเพื่ออาหารกลางวัน หน่วยดำเนินการ สนง.เกษตร จ.พังงา
A54: 11 | B54: ครุภัณฑ์การเกษตร | C54: เครื่องสีข้าว-สนง.เกษตร.จ.พังงา | D54: 30.09.2011 | E54: 100000 | F54: 2554 - 2. โครงการเศรษฐกิจพอเพียงเพื่ออาหารกลางวัน หน่วยดำเนินการ สนง.เกษตร จ.พังงา
A55: 12 | B55: ครุภัณฑ์งานบ้านงานครัว | C55: เครื่องคั่วถั่วลิสง-สนง.เกษตร จ.พังงา | D55: 27.09.2011 | E55: 98500 | F55: 2554 - 2. โครงการส่งเสริมและพัฒนาการแปรรูปถั่วลิสงกลุ่มแม่บ้านเกษตรกรบ้านปลา ต.หล่อยูง อ.ตะกั่วทุ่ง หน่วยดำเนินการ สนง.เกษตร จ.พังงา
... A59: 16 | B59: ครุภัณฑ์คอมพิวเตอร์ | C59: Notebook Fujitsu Lifebook LH531-สนง.เกษตร จ.พง | D59: 30.09.2011 | E59: 213000 | F59: 2554 - 1. โครงการส่งเสริมการท่องเที่ยวเชิงเกษตรโดยชุมชนเป็นผู้บริหารจัดการ กิจกรรมส่งเสริมการท่องเที่ยวเชิงเกษตรโดยชุมชนเป็นผู้บริหารจัดการ หน่วยดำเนินการ สนง.เกษตร จ.พังงา
C60: รวม | E60: =SUM(E44:E59) -> 3462255
B61: ปี 2012 (พ.ศ.2555)
A62: 1 | B62: ครุภัณฑ์โฆษณา | C62: ระบบวีดีทัศน์ทางไกลระหว่างอำเภอ-ก.ข้อมูล สนจ.พง. | D62: 28.09.2012 | E62: 552858.3 | F62: 2555 - 6. โครงการระบบวีดีทัศน์ทางไกลระหว่างอำเภอและจังหวัด หน่วยดำเนินการ สำนักงานจังหวัดพังงา
A63: 2 | B63: ครุภัณฑ์โฆษณา | C63: ครุภัณฑ์สื่อสารสั่งการและอำนวยการ-อ.ตะกั่วป่า | D63: 27.11.2012 | E63: 498000 | F63: 2555 - 7. โครงการวางระบบสื่อสารสั่งการและอำนวยการเพื่อป้องกันและบรรเทาสาธารณภัยสึนามิ หน่วยดำเนินการ ที่ทำการปกครอง อ.ตะกั่วป่า
A64: 3 | B64: ครุภัณฑ์การเกษตร | C64: เครื่องตัดหญ้าแบบสะพายหลัง-สนง.เกษตร | D64: 07.06.2012 | E64: 19700 | F64: 2555 - 1. โครงการพัฒนาเกษตรกรรมตามแนวเศรษฐกิจพอเพียง กิจกรรม ศูนย์เรียนรู้การเกษตรตามแนวเศรษฐกิจพอเพียงจังหวัดพังงา หน่วยดำเนินการ สนง.เกษตร จ.พังงา
A65: 4 | B65: ครุภัณฑ์การเกษตร | C65: เครื่องสีข้าว "ไซไน" รุ่น 5T-สนง.เกษตร | D65: 06.07.2012 | E65: 181800 | F65: 2555 - 3. โครงการพัฒนาการผลิตสินค้าเกษตรปลอดภัย กิจกรรม พัฒนาสินค้าเกษตร (ข้าวไร่ดอกข่า) สนับสนุนการท่องเที่ยวฝั่งอันดามัน หน่วยดำเนินการ สนง.เกษตร จ.พังงา
A66: 5 | B66: ครุภัณฑ์การเกษตร | C66: เครื่องซีลปากถุงพลาสติก-สนง.เกษตร | D66: 06.07.2012 | E66: 7700 | F66: 2555 - 3. โครงการพัฒนาการผลิตสินค้าเกษตรปลอดภัย กิจกรรม พัฒนาสินค้าเกษตร (ข้าวไร่ดอกข่า) สนับสนุนการท่องเที่ยวฝั่งอันดามัน หน่วยดำเนินการ สนง.เกษตร จ.พังงา
A67: 6 | B67: ครุภัณฑ์การเกษตร | C67: โคเนื้อเพศเมียลูกผสม-สนง.ปศุสัตว์ | D67: 27.08.2012 | E67: 315000 | F67: ตัดจำหน่าย
A68: 7 | B68: ครุภัณฑ์งานบ้านงานครัว | C68: ตู้อบแห้งลมร้อน 10 ชั้น 2 ประตู-สนง.เกษตร | D68: 31.08.2012 | E68: 80000 | F68: 2555 - 2. โครงการพัฒนาองค์ความรู้การจัดการสินค้าเกษตร กิจกรรม ส่งเสริมและพัฒนาศักยภาพวิสาหกิจชุมชน หน่วยดำเนินการ สนง.เกษตร จ.พังงา
A69: 8 | B69: ครุภัณฑ์งานบ้านงานครัว | C69: เตาอบไฟฟ้าเล็กขนาด 1 ถาด-สนง.เกษตร | D69: 31.08.2012 | E69: 56000 | F69: 2555 - 2. โครงการพัฒนาองค์ความรู้การจัดการสินค้าเกษตร กิจกรรม ส่งเสริมและพัฒนาศักยภาพวิสาหกิจชุมชน หน่วยดำเนินการ สนง.เกษตร จ.พังงา
A70: 9 | B70: ครุภัณฑ์งานบ้านงานครัว | C70: เครื่องหั่นตะไคร้ ขนาดมอเตอร์ 1 แรงม้า-สนง.เกษตร | D70: 31.08.2012 | E70: 16000 | F70: 2555 - 2. โครงการพัฒนาองค์ความรู้การจัดการสินค้าเกษตร กิจกรรม ส่งเสริมและพัฒนาศักยภาพวิสาหกิจชุมชน หน่วยดำเนินการ สนง.เกษตร จ.พังงา
A71: 10 | B71: ครุภัณฑ์ไฟฟ้าวิทยุ | C71: เครื่องเสียงและระบบเผยแพร่พระพุทธศาสนา-ว.เทคนิค | D71: 15.06.2012 | E71: 200000 | F71: 2555 - 6. โครงการจัดซื้อครุภัณฑ์เครื่องเสียงและระบบเผยแพร่พระพุทธศาสนาวัดประชุมโยธี หน่วยดำเนินการ วิทยาลัยเทคนิค จ.พังงา
A72: 11 | B72: ครุภัณฑ์อื่น | C72: กล้องโทรทัศน์วงจรปิด CCTV พร้อมอุปกรณ์-ปกครอง พง. | D72: 09.08.2012 | E72: 5959990 | F72: 2555 - 4. โครงการเพิ่มประสิทธิภาพการรักษาความปลอดภัยและการสื่อสารที่ทันสมัยเพื่อการท่องเที่ยวจังหวัดพังงา หน่วยดำเนินการ ที่ทำการปกครอง จ.พังงา
A73: 12 | B73: ครุภัณฑ์อื่น | C73: ตู้กระจกโชว์สินค้าชนิดที่เก็บสต๊อก-พช. | D73: 24.10.2012 | E73: 108000 | F73: 2555 - 5. โครงการส่งเสริมกระบวนการเรียนรู้ของชุมชนตามแนวคิดปรัชญาเศรษฐกิจพอเพียงและบูรณาการทุนทางสังคมเพื่อชุมชนแข้มแข็งอย่างยั่งยืน หน่วยดำเนินการ สนง.พัฒนาชุมชน จ.พังงา
... A76: 15 | B76: ครุภัณฑ์อื่น | C76: เต้นท์สนามชนิดโครงเหล็กและผ้าใบปิด-พช. | D76: 24.10.2012 | E76: 68000 | F76: 2555 - 5. โครงการส่งเสริมกระบวนการเรียนรู้ของชุมชนตามแนวคิดปรัชญาเศรษฐกิจพอเพียงและบูรณาการทุนทางสังคมเพื่อชุมชนแข้มแข็งอย่างยั่งยืน หน่วยดำเนินการ สนง.พัฒนาชุมชน จ.พังงา
C77: รวม | E77: =SUM(E62:E76) -> 8550048.3
B78: ปี 2013 (พ.ศ.2556)
A79: 1 | B79: ครุภัณฑ์การเกษตร | C79: พันธุ์โคเนื้อลุกผสม-สนง.ปศุสัตว์ จ.พังงา | D79: 09.04.2013 | E79: 690000 | F79: ตัดจำหน่าย
A80: 2 | B80: ครุภัณฑ์ไฟฟ้าวิทยุ | C80: ชุดเสาไฟส่องสว่างพลังงานแสงอาทิตย์-พลังงาน | D80: 01.08.2013 | E80: 925000
C81: รวม | E81: =SUM(E79:E80) -> 1615000
B82: ปี 2014 (พ.ศ.2557)
A83: 1 | B83: ครุภัณฑ์กีฬา | C83: เรือคายัค-สนง.พัฒนาชุมชน | D83: 15.09.2014 | E83: 191100 | F83: 2557 - 1. โครงการส่งเสริมและพัฒนาศักยภาพการท่องเที่ยวเชิงเกษตรและวิถีชีวิตชุมชน กิจกรรม พัฒนาผลิตภัณฑ์ทางการเกษตรเพื่อส่งเสริมการท่องเที่ยว (OTOP) หน่วยดำเนินการ สำนักงานพัฒนาชุมชน จ.พังงา
C84: รวม | E84: =SUM(E83) -> 191100
B85: ปี 2015 (พ.ศ.2558)
A86: 1 | B86: ครุภัณฑ์การเกษตร | C86: เครื่องสับยาง VSI สับยางก้อนถ้วย-สนง.สหกรณ์ จ.พง. | D86: 28.09.2015 | E86: 1200000 | F86: 2558 - 1.โครงการพัฒนาผลิตภัณฑ์ต่อเนื่องจากยางพาราและปาล์มน้ำมัน หน่วยดำเนินการ สำนักงานสหกรณ์ จ.พังงา
A87: 2 | B87: ครุภัณฑ์การเกษตร | C87: เครื่องรีดยางหยาบรุ่นผลิตยางเครป-สนง.สหกรณ์ จ.พง. | D87: 28.09.2015 | E87: 1200000 | F87: 2558 - 1.โครงการพัฒนาผลิตภัณฑ์ต่อเนื่องจากยางพาราและปาล์มน้ำมัน หน่วยดำเนินการ สำนักงานสหกรณ์ จ.พังงา
A88: 3 | B88: ครุภัณฑ์การเกษตร | C88: เครื่องรีดยางละเอียดรีดยางก้อนถ้วย-สนง.สหกรณ์ จ.พง | D88: 28.09.2015 | E88: 1200000 | F88: 2558 - 1.โครงการพัฒนาผลิตภัณฑ์ต่อเนื่องจากยางพาราและปาล์มน้ำมัน หน่วยดำเนินการ สำนักงานสหกรณ์ จ.พังงา
C89: รวม | E89: =SUM(E86:E88) -> 3600000
B90: ปี 2017 (พ.ศ.2560)
A91: 1 | B91: ครุภัณฑ์การเกษตร | C91: ปั้มลม-สนง.พช. | D91: 01.03.2017 | E91: 11700 | F91: 2560 - 2.โครงการสนับสนุนกลุ่มอาชีพผลิตภัณฑ์จากน้ำยางพาราเพื่อทำสินค้าของที่ระลึกแก่นักท่องเที่ยวของผู้ประกอบการ OTOP หน่วยดำเนินการ สนง.พัฒนาชุมชน จ.พังงา
A92: 2 | B92: ครุภัณฑ์การเกษตร | C92: เครื่องขึ้นรูปผลิตภัณฑ์น้ำยางพาราสดพร้อมแม่พิมพ์ | D92: 27.03.2017 | E92: 480000 | F92: 2560 - 2.โครงการสนับสนุนกลุ่มอาชีพผลิตภัณฑ์จากน้ำยางพาราเพื่อทำสินค้าของที่ระลึกแก่นักท่องเที่ยวของผู้ประกอบการ OTOP หน่วยดำเนินการ สนง.พัฒนาชุมชน จ.พังงา
A93: 3 | B93: ครุภัณฑ์การเกษตร | C93: ถังผสมน้ำยาสารเคมี พร้อมอุปกรณ์-สนง.สหกรณ์ จ.พง. | D93: 03.07.2017 | E93: 129000 | F93: 2560 - 1.โครงการการแปรรูปหมอนยางพาราเพื่อเพิ่มมูลค่าสินค้าเกษตร หน่วยดำเนินการ สำนักงานสหกรณ์ จ.พังงา
A94: 4 | B94: ครุภัณฑ์การเกษตร | C94: เครื่องทำโฟมขนาด 100 ลิตร-สนง.สหกรณ์ จ.พง. | D94: 03.07.2017 | E94: 190000 | F94: 2560 - 1.โครงการการแปรรูปหมอนยางพาราเพื่อเพิ่มมูลค่าสินค้าเกษตร หน่วยดำเนินการ สำนักงานสหกรณ์ จ.พังงา
A95: 5 | B95: ครุภัณฑ์การเกษตร | C95: เครื่องทำโฟมขนาด 20 ลิตร สนง.สหกรณ์ จ.พง. | D95: 03.07.2017 | E95: 22000 | F95: 2560 - 1.โครงการการแปรรูปหมอนยางพาราเพื่อเพิ่มมูลค่าสินค้าเกษตร หน่วยดำเนินการ สำนักงานสหกรณ์ จ.พังงา
A96: 6 | B96: ครุภัณฑ์การเกษตร | C96: เครื่องพิมพ์หมอน-สนง.สหกรณ์ จ.พังงา | D96: 03.07.2017 | E96: 280000 | F96: 2560 - 1.โครงการการแปรรูปหมอนยางพาราเพื่อเพิ่มมูลค่าสินค้าเกษตร หน่วยดำเนินการ สำนักงานสหกรณ์ จ.พังงา
A97: 7 | B97: ครุภัณฑ์การเกษตร | C97: ชุดล้าง-สนง.สหกรณ์ จ.พังงา | D97: 03.07.2017 | E97: 75000 | F97: 2560 - 1.โครงการการแปรรูปหมอนยางพาราเพื่อเพิ่มมูลค่าสินค้าเกษตร หน่วยดำเนินการ สำนักงานสหกรณ์ จ.พังงา
A98: 8 | B98: ครุภัณฑ์การเกษตร | C98: ตู้อบนึ่งพร้อมอุปกรณ์-สหกรณ์ จ.พง. | D98: 03.07.2017 | E98: 110000 | F98: 2560 - 1.โครงการการแปรรูปหมอนยางพาราเพื่อเพิ่มมูลค่าสินค้าเกษตร หน่วยดำเนินการ สำนักงานสหกรณ์ จ.พังงา
A99: 9 | B99: ครุภัณฑ์การเกษตร | C99: ชุดอบแห้ง - สหกรณ์ จ.พังงา | D99: 03.07.2017 | E99: 95000 | F99: 2560 - 1.โครงการการแปรรูปหมอนยางพาราเพื่อเพิ่มมูลค่าสินค้าเกษตร หน่วยดำเนินการ สำนักงานสหกรณ์ จ.พังงา
A100: 10 | B100: ครุภัณฑ์การเกษตร | C100: ถังเก็บน้ำยางขนาด 2,000 ลิตร - สหกรณ์ จ.พังงา | D100: 03.07.2017 | E100: 40000 | F100: 2560 - 1.โครงการการแปรรูปหมอนยางพาราเพื่อเพิ่มมูลค่าสินค้าเกษตร หน่วยดำเนินการ สำนักงานสหกรณ์ จ.พังงา
C101: รวม | E101: =SUM(E91:E100) -> 1432700
B104: ปี 2019 (พ.ศ.2562)
A105: 1 | B105: ครุภัณฑ์การเกษตร | C105: เครื่องซีลสูญญากาศ- สนง.เกษตร จ.พง. | D105: 14.05.2019 | E105: 369000 | F105: 2562 - 1. โครงการเพิ่มประสิทธิภาพการใช้พื้นที่การเกษตรให้เกิดประโยชน์สูงสุดในจังหวัดพังงา หน่วยดำเนินการ สนง.เกษตร จ.พังงา
A106: 2 | B106: ครุภัณฑ์การเกษตร | C106: เครื่องสีข้าว ขนาด 10 แรงม้า 220 โวลล์ | D106: 13.06.2019 | E106: 894995 | F106: 2562 - 1. โครงการเพิ่มประสิทธิภาพการใช้พื้นที่การเกษตรให้เกิดประโยชน์สูงสุดในจังหวัดพังงา หน่วยดำเนินการ สนง.เกษตร จ.พังงา
A107: 3 | B107: ครุภัณฑ์การเกษตร | C107: เครื่องผสมปุ๋ย ขนาดมอเตอร์ไฟฟ้า 7.5 แรงม้า-เกษตร | D107: 13.09.2019 | E107: 999990 | F107: 2562 - 1. โครงการเพิ่มประสิทธิภาพการใช้พื้นที่การเกษตรให้เกิดประโยชน์สูงสุดในจังหวัดพังงา หน่วยดำเนินการ สนง.เกษตร จ.พังงา
C108: รวม | E108: =SUM(E105:E107) -> 2263985
B109: ปี 2020 (พ.ศ.2563)
A110: 1 | B110: ครุภัณฑ์การเกษตร | C110: เครื่องมือวิเคราะห์ดินพร้อมคอมพิวเตอร์ | D110: 01.03.2020 | E110: 657000 | F110: 2552 - 2. โครงการพัฒนาเกษตรอินทรีย์ กิจกรรม จัดคลีนิคดินเคลื่อนที่ หน่วยดำเนินการ สนง.เกษตร จ.พังงา
A111: 2 | B111: ครุภัณฑ์การเกษตร | C111: เครื่องย่อยพืชสด | D111: 01.03.2020 | E111: 464000 | F111: 2552 - 1.โครงการผลิตปาล์มน้ำมันจังหวัดพังงา กิจกรรม ส่งเสริมการเลี้ยงสัตว์ในสวนปาล์มน้ำมัน หน่วยดำเนินการ สนง.ปศุสัตว์ จ.พังงา
A112: 3 | B112: ครุภัณฑ์การเกษตร | C112: ตู้เก็บอุปกรณ์การเกษตร | D112: 01.03.2020 | E112: 38900
A113: 4 | B113: ครุภัณฑ์การเกษตร | C113: ถังน้ำกลั่นขนาด 50 ลิตร | D113: 01.03.2020 | E113: 6800 | F113: 2552 - 2. โครงการพัฒนาเกษตรอินทรีย์ กิจกรรม จัดคลีนิคดินเคลื่อนที่ หน่วยดำเนินการ สนง.เกษตร จ.พังงา
A114: 5 | B114: ครุภัณฑ์การเกษตร | C114: อ่างไฟเบอร์กลาส | D114: 01.03.2020 | E114: 19800 | F114: 2552 - 2. โครงการพัฒนาเกษตรอินทรีย์ กิจกรรม จัดคลีนิคดินเคลื่อนที่ หน่วยดำเนินการ สนง.เกษตร จ.พังงา
A115: 6 | B115: ครุภัณฑ์การเกษตร | C115: เครื่องชั่งขนาด 50 ตัน | D115: 01.03.2020 | E115: 1296000 | F115: 2552 - 1.โครงการผลิตปาล์มน้ำมันจังหวัดพังงา กิจกรรม ส่งเสริมการเลี้ยงสัตว์ในสวนปาล์มน้ำมัน หน่วยดำเนินการ สนง.ปศุสัตว์ จ.พังงา
A116: 7 | B116: ครุภัณฑ์การเกษตร | C116: กระชังเลี้ยงปลาสำเร็จรูป 3*3 เมตร | D116: 01.03.2020 | E116: 132000 | F116: 2552 - 4. โครงการสนับสนุนครัวเรือนยากจนที่มีรายได้ต่ำกว่าเกณฑ์ จปฏ. หน่วยดำเนินการ สนง.พัฒนาชุมชน จ.พังงา
A117: 8 | B117: ครุภัณฑ์การเกษตร | C117: เครื่องตัดหญ้าสะพายหลังคอแข็ง | D117: 01.03.2020 | E117: 28000 | F117: 2552 - 4. โครงการสนับสนุนครัวเรือนยากจนที่มีรายได้ต่ำกว่าเกณฑ์ จปฏ. หน่วยดำเนินการ สนง.พัฒนาชุมชน จ.พังงา
A118: 9 | B118: ครุภัณฑ์การเกษตร | C118: เครื่องตัดหญ้าแบบสะพายหางแข็ง | D118: 01.03.2020 | E118: 170000 | F118: 2552 - 4. โครงการสนับสนุนครัวเรือนยากจนที่มีรายได้ต่ำกว่าเกณฑ์ จปฏ. หน่วยดำเนินการ สนง.พัฒนาชุมชน จ.พังงา
A119: 10 | B119: ครุภัณฑ์การเกษตร | C119: เครื่องพ่นยาชนิดสะพายหลัง | D119: 01.03.2020 | E119: 11500 | F119: 2552 - 4. โครงการสนับสนุนครัวเรือนยากจนที่มีรายได้ต่ำกว่าเกณฑ์ จปฏ. หน่วยดำเนินการ สนง.พัฒนาชุมชน จ.พังงา
A120: 11 | B120: ครุภัณฑ์การเกษตร | C120: เครื่องย่อยพืชสด | D120: 01.03.2020 | E120: 684800 | F120: 2553 - 2.โครงการส่งเสริมการเกษตรตามแนวเศรษฐกิจพอเพียง กิจกรรมส่งเสริมการเลี้ยงสัตว์ในสวนปาล์มน้ำมัน หน่วยดำเนินการ สำนักงานปศุสัตว์ จ.พังงา
A121: 12 | B121: ครุภัณฑ์การเกษตร | C121: เครื่องผสมปุ๋ยและเครื่องอัดเม็ด | D121: 01.03.2020 | E121: 499000 | F121: 2553 - 11.โครงการส่งเสริมการผลิตสินค้าเกษตรอินทรีย์ กิจกรรมโครงการเกษตรอินทรีย์ปุ๋ยอัดเม็ดและเครื่องผสมปุ๋ย หน่วยดำเนินการ สนง.สหกรณ์ จ.พังงา
A122: 13 | B122: ครุภัณฑ์การเกษตร | C122: โต๊ะสแตนเลสสำหรับโรงฆ่าโค | D122: 01.03.2020 | E122: 106000 | F122: 2553 - 7.โครงการอาหารปลอดภัยสู่ครัวอันดามัน กิจกรรม การพัฒนาสินค้าปศุสัตว์ปลอดภัยสู่ครัวอันดามัน หน่วยดำเนินการ สำนักงานปศุสัตว์ จ.พังงา
A123: 14 | B123: ครุภัณฑ์การเกษตร | C123: โต๊ะสแตนเลสสำหรับโรงฆ่าสัตว์ปีก | D123: 01.03.2020 | E123: 99000 | F123: 2553 - 7.โครงการอาหารปลอดภัยสู่ครัวอันดามัน กิจกรรม การพัฒนาสินค้าปศุสัตว์ปลอดภัยสู่ครัวอันดามัน หน่วยดำเนินการ สำนักงานปศุสัตว์ จ.พังงา
...

Sheet ค.ยานพาหนะ
A1: 22.10.2021 การแสดงรายการไดนามิก 1
A3: 22.10.2021 | D3: ยอดสินทรัพย์คงเหลือ | P3: 1
A5: วันที่รายงาน : | E5: 30.09.2021 | H5: ยอดสินทรัพย์คงเหลือ - 01 คส.ตามบัญชี
A6: สร้างเมื่อ : | E6: 22.10.2021 | Q6: 1
A8: รหัสหน่วยงาน | F8: รหัสจังหวัด | J8: รายการงบดุล | K8: บัญชีงบดุลAPC | L8: หมวดสินทรัพย์
A9: G072 | F9: 8200 | J9: ?????????? | K9: 1206020101 | L9: 12060200
C11: สินทรัพย์ | E11: SNo. | G11: Cap.date | I11: คำอธิบายของสินทรัพย์ | M11: มูลค่าการได้มา | N11: ค่าเสื่อมสะสม | O11: มูลค่าตามบัญชี
C13: 100000000001 | E13: 0 | G13: 14.09.2009 | I13: รถยนต์ตู้ ยี่ห้อ TOYOTA-สนจ.พง. | M13: 1210000 | N13: -1209999 | O13: 1
C14: 100000000002 | E14: 0 | G14: 10.03.2009 | I14: รถยนต์ตู้ ยี่ห้อ TOYOTA-สนง.เกษตร จ.พังงา | M14: 1290000 | N14: -1289999 | O14: 1
C15: 100000000045 | E15: 0 | G15: 27.11.2009 | I15: เรือไม้ขนาด 1.5*8 ม.-สนง.พัฒนาชุมชน | M15: 80000 | N15: -79999 | O15: 1
C16: 100000000046 | E16: 0 | G16: 27.11.2009 | I16: เรือไฟเบอร์คลาสขนาด 1.10*4.90 ม.-สนง.พัฒนาชุมชน | M16: 30000 | N16: -29999 | O16: 1
C17: 100000000047 | E17: 0 | G17: 27.11.2009 | I17: เรือไม้ขนาด 1*5 ม.-สนง.พัฒนาชุมชน | M17: 42000 | N17: -41999 | O17: 1
C18: 100000000048 | E18: 0 | G18: 27.11.2009 | I18: เครื่องเรือเบนซินไม่น้อยกว่า 389 ซีซี-พัฒนาชุมชน | M18: 74000 | N18: -73999 | O18: 1
C19: 100000000049 | E19: 0 | G19: 27.11.2009 | I19: เครื่องเรือเบนซินขนาด 5.5 แรงม้า-สนง.พัฒนาชุมชน | M19: 40000 | N19: -39999 | O19: 1
C20: 100000000050 | E20: 0 | G20: 27.11.2009 | I20: เครื่องยนต์ดีเซลขนาด 85 แรงม้า-สนง.พัฒนาชุมชน | M20: 10000 | N20: -9999 | O20: 1 | P20: =SUM(M13:M20) -> 2776000
C22: 100000000089 | E22: 0 | G22: 03.08.2010 | I22: รถยนต์ตู้โมบาย ยี่ห้อ TOYOTA-สนง.ปศุสัตว์ จ.พังงา | M22: 1350000 | N22: -1349999 | O22: 1
C23: 100000000095 | E23: 0 | G23: 11.08.2010 | I23: เรือเร็วตรวจการณ์(สปีทโบ๊ท) 35 ฟุต-อ.เมือง | M23: 1910000 | N23: -1909999 | O23: 1 | P23: =SUM(M22:M23) -> 3260000
C25: 100000000205 | E25: 0 | G25: 30.09.2011 | I25: จักรยาน 18 เกียร์ - สนง.เกษตร จ.พังงา | M25: 300000 | N25: -299999 | O25: 1
B27: * | C27: หมวดสินทรัพย์ 12060200 คุรภัณฑ์ยานพาหนะ | M27: 6336000 | N27: -6335989 | O27: 11
B29: ** | C29: บัญชีงบดุล APC 1206020101 ครุภัณฑ์ยานพาหนะ | M29: 6336000 | N29: -6335989 | O29: 11
B31: *** | C31: รายการงบดุล ?????????? | M31: 6336000 | N31: -6335989 | O31: 11
B33: **** | C33: รหัสจังหวัด 8200 พังงา | M33: 6336000 | N33: -6335989 | O33: 11
B35: ***** | C35: รหัสหน่วยงาน G072 งบจังหวัดพังงา | M35: 6336000 | N35: -6335989 | O35: 11

Sheet ค.โฆษณา
A1: 22.10.2021 การแสดงรายการไดนามิก 1
A3: 22.10.2021 | D3: ยอดสินทรัพย์คงเหลือ | M3: 1
A5: วันที่รายงาน : | E5: 30.09.2021 | H5: ยอดสินทรัพย์คงเหลือ - 01 คส.ตามบัญชี
A6: สร้างเมื่อ : | E6: 22.10.2021 | N6: 1
A8: รหัสหน่วยงาน | F8: รหัสจังหวัด | J8: รายการงบดุล | K8: บัญชีงบดุลAPC | L8: หมวดสินทรัพย์
A9: G072 | F9: 8200 | J9: ?????????? | K9: 1206040101 | L9: 12060400
C11: สินทรัพย์ | E11: SNo. | G11: Cap.date | I11: คำอธิบายของสินทรัพย์ | J11: มูลค่าการได้มา | K11: ค่าเสื่อมสะสม | L11: มูลค่าตามบัญชี
C13: 100000000009 | E13: 0 | G13: 28.09.2009 | I13: กล้อง Syber-shot Sony รุ่น DSC-HX1 สนจ.พง. | J13: 19990 | K13: -19989 | L13: 1 | M13: =+J13 -> 19990
C15: 100000000055 | E15: 0 | G15: 21.04.2010 | I15: กล้องโทรทัศน์วงจรปิดและอุปกรณ์ | J15: 1646900 | K15: -1646899 | L15: 1
C16: 100000000071 | E16: 0 | G16: 23.06.2010 | I16: เครื่องฉายโปรเจคเตอร์-สนจ.เกษตร | J16: 261000 | K16: -260999 | L16: 1
C17: 100000000072 | E17: 0 | G17: 23.06.2010 | I17: โทรทัศน์สี 33 นิ้ว - สนง.เกษตร | J17: 59800 | K17: -59799 | L17: 1
C18: 100000000073 | E18: 0 | G18: 23.06.2010 | I18: กล้องถ่ายภาพนิ่ง - สนง.เกษตร | J18: 49900 | K18: -49899 | L18: 1
C19: 100000000074 | E19: 0 | G19: 23.06.2010 | I19: เครื่องถ่ายวีดีโอ | J19: 49000 | K19: -48999 | L19: 1
C20: 100000000112 | E20: 0 | G20: 11.10.2010 | I20: เครื่องฉายโปรเจคเตอร์-ปศุสัตว์ | J20: 40000 | K20: -39999 | L20: 1
C21: 100000000113 | E21: 0 | G21: 11.10.2010 | I21: กล้องดิจิตอล-ปศุสัตว์ | J21: 11900 | K21: -11899 | L21: 1
C22: 100000000120 | E22: 0 | G22: 11.10.2010 | I22: กล้องวีดิโอ-ปศุัสัตว์ | J22: 43900 | K22: -43899 | L22: 1 | M22: =SUM(J15:J22) -> 2162400
C24: 100000000206 | E24: 0 | G24: 30.09.2011 | I24: โปรเจคเตอร์ Viewsonic รุ่น PJD6251-สนง.เกษตร จ.พง. | J24: 60000 | K24: -59999 | L24: 1
C25: 100000000207 | E25: 0 | G25: 30.09.2011 | I25: แอลซีดีทีวี 42" LG รุ่น 42LK450- สนง.เกษตร จ.พง. | J25: 25900 | K25: -25899 | L25: 1
C26: 100000000208 | E26: 0 | G26: 30.09.2011 | I26: กล้องดิจิตอล Canon รุ่น EOS 7D - สนง.เกษตร จ.พง. | J26: 65990 | K26: -65989 | L26: 1 | M26: =SUM(J24:J26) -> 151890
C28: 100000000263 | E28: 0 | G28: 28.09.2012 | I28: ระบบวีดีทัศน์ทางไกลระหว่างอำเภอ-ก.ข้อมูล สนจ.พง. | J28: 552858.3 | K28: -498026.75 | L28: 54831.55
C29: 100000000274 | E29: 0 | G29: 27.11.2012 | I29: ครุภัณฑ์สื่อสารสั่งการและอำนวยการ-อ.ตะกั่วป่า | J29: 498000 | K29: -440423.01 | L29: 57576.99 | M29: =SUM(J28:J29) -> 1050858.3
C31: 100000000322 | E31: 0 | G31: 01.03.2014 | I31: ไมโครโฟน ทีวี โต๊ะ เก้าอี้ ชั้นวาง เคาท์เตอร์. | J31: 225900 | K31: -171374.55 | L31: 54525.45
C32: 100000000327 | E32: 0 | G32: 28.05.2014 | I32: Smart LED TV 55 นิ้ว-สนง.จ.พังงา | J32: 130000 | K32: -95487.67 | L32: 34512.33 | M32: =SUM(J31:J32) -> 355900
C34: 100000000444 | E34: 0 | G34: 22.06.2016 | I34: โทรทัศน์ D-LED 42" Panasonic-สนจ.พง. | J34: 13041 | K34: -6880.87 | L34: 6160.13
C36: 100000000624 | E36: 0 | G36: 12.12.2018 | I36: จอภาพ LED พร้อมอุปกรณ์-ห้องประชุม ศลก. สนจ.พง. | J36: 306000 | K36: -171527.67 | L36: 134472.33
C38: 100000000805 | E38: 0 | G38: 01.03.2020 | I38: เครื่องเสียงพร้อมอุปกรณ์สำหรับห้องประชุม | J38: 225000 | K38: -224999 | L38: 1
C39: 100000000807 | E39: 0 | G39: 01.03.2020 | I39: อุปกรณ์ในการติดตั้งเครื่องเสียงพร้อมโปรเจคเตอร์ | J39: 25000 | K39: -24999 | L39: 1
C40: 100000001169 | E40: 0 | G40: 27.10.2020 | I40: เครื่องรับโทรทัศน์ขนาด 85 นิ้ว-สนจ.พง. | J40: 170000 | K40: -15789.04 | L40: 154210.96
C41: 100000001170 | E41: 0 | G41: 25.11.2020 | I41: เครื่องรับโทรทัศน์ขนาด 100 นิ้ว-สนจ.พง. | J41: 249000 | K41: -21147.95 | L41: 227852.05
C42: 100000001171 | E42: 0 | G42: 25.11.2020 | I42: เครื่องรับโทรทัศน์ขนาด 100 นิ้ว-สนจ.พง. | J42: 249000 | K42: -21147.95 | L42: 227852.05 | M42: =SUM(J38:J42) -> 918000
C44: 100000001812 | E44: 0 | G44: 06.09.2021 | I44: ชุดควบคุมไมค์ประชุม Central Units-สนจ.พง. | J44: 11000 | K44: -75.34 | L44: 10924.66
C45: 100000001813 | E45: 0 | G45: 06.09.2021 | I45: ไมค์โครโฟนไร้สาย แบบคู่-สนจ.พง. | J45: 24000 | K45: -164.38 | L45: 23835.62
C46: 100000001814 | E46: 0 | G46: 06.09.2021 | I46: เครื่องผสมสัญญาณเสียงแบบมีกำลังขยาย-สนจ.พง. | J46: 36000 | K46: -246.58 | L46: 35753.42
C47: 100000001815 | E47: 0 | G47: 06.09.2021 | I47: ลำโพงติดผนัง-สนจ.พง. | J47: 16500 | K47: -113.01 | L47: 16386.99
C48: 100000001816 | E48: 0 | G48: 06.09.2021 | I48: ลำโพงติดผนัง-สนจ.พง. | J48: 16500 | K48: -113.01 | L48: 16386.99
C49: 100000001817 | E49: 0 | G49: 06.09.2021 | I49: ลำโพงติดผนัง-สนจ.พง. | J49: 16500 | K49: -113.01 | L49: 16386.99
C50: 100000001818 | E50: 0 | G50: 06.09.2021 | I50: จอภาพ LED ขนาด 65 นิ้ว - สนจ.พง. | J50: 26000 | K50: -178.08 | L50: 25821.92
C51: 100000001819 | E51: 0 | G51: 06.09.2021 | I51: จอภาพ LED ขนาด 65 นิ้ว - สนจ.พง. | J51: 26000 | K51: -178.08 | L51: 25821.92
C52: 100000001820 | E52: 0 | G52: 06.09.2021 | I52: จอภาพ LED ขนาด 65 นิ้ว - สนจ.พง. | J52: 26000 | K52: -178.08 | L52: 25821.92
C53: 100000001821 | E53: 0 | G53: 06.09.2021 | I53: จอภาพ LED ขนาด 65 นิ้ว - สนจ.พง. | J53: 26000 | K53: -178.08 | L53: 25821.92 | M53: =SUM(J44:J53) -> 224500
B55: * | C55: หมวดสินทรัพย์ 12060400 คุรภัณฑ์โฆษณา | J55: 5202579.3 | K55: -4027609.1 | L55: 1174970.2
B57: ** | C57: บัญชีงบดุล APC 1206040101 ครุภัณฑ์โฆษณา | J57: 5202579.3 | K57: -4027609.1 | L57: 1174970.2
B59: *** | C59: รายการงบดุล ?????????? | J59: 5202579.3 | K59: -4027609.1 | L59: 1174970.2
B61: **** | C61: รหัสจังหวัด 8200 พังงา | J61: 5202579.3 | K61: -4027609.1 | L61: 1174970.2
B63: ***** | C63: รหัสหน่วยงาน G072 งบจังหวัดพังงา | J63: 5202579.3 | K63: -4027609.1 | L63: 1174970.2

Sheet ค.สำนักงาน
A1: 22.10.2021 การแสดงรายการไดนามิก 1
A3: 22.10.2021 | D3: ยอดสินทรัพย์คงเหลือ | O3: 1
A5: วันที่รายงาน : | E5: 30.09.2021 | H5: ยอดสินทรัพย์คงเหลือ - 01 คส.ตามบัญชี
A6: สร้างเมื่อ : | E6: 22.10.2021 | P6: 1
A8: รหัสหน่วยงาน | F8: รหัสจังหวัด | J8: รายการงบดุล | K8: บัญชีงบดุลAPC | M8: หมวดสินทรัพย์
A9: G072 | F9: 8200 | J9: ?????????? | K9: 1206010101 | M9: 12060100
C11: สินทรัพย์ | E11: SNo. | G11: Cap.date | I11: คำอธิบายของสินทรัพย์ | L11: มูลค่าการได้มา | M11: ค่าเสื่อมสะสม | N11: มูลค่าตามบัญชี
C13: 100000000075 | E13: 0 | G13: 23.06.2010 | I13: เครื่องปรับกากาศแบบแยกส่วน | L13: 238000 | M13: -223600.46 | N13: 14399.54
C14: 100000000076 | E14: 0 | G14: 23.06.2010 | I14: โต๊ะประชุมพร้อมเก้าอี้ - สนง.เกษตร | L14: 250000 | M14: -234874.43 | N14: 15125.57
C15: 100000000077 | E15: 0 | G15: 23.06.2010 | I15: เครื่องถ่ายเอกสาร - สนง.เกษตร | L15: 99000 | M15: -93010.27 | N15: 5989.73
C16: 100000000088 | E16: 0 | G16: 13.09.2010 | I16: ชั้นวางหนังสือ-สนจ.พง. | L16: 34500 | M16: -31766.78 | N16: 2733.22 | O16: =SUM(L13:L16) -> 621500
C18: 100000000224 | E18: 0 | G18: 10.11.2011 | I18: ตู้เหล็กบานเลื่อนทรงสูง 4 ฟุต - สนง.จ.พังงา | L18: 27600 | M18: -22753.18 | N18: 4846.82
C20: 100000000281 | E20: 0 | G20: 08.01.2013 | I20: ตู้ลอยติดผนังห้องปฏิบัิติการ-สนจ.พง. | L20: 76000 | M20: -55282.19 | N20: 20717.81
C21: 100000000283 | E21: 0 | G21: 28.01.2013 | I21: โต๊ะประชุมขนาด 120*2.1 - สนจ.พง. | L21: 7900 | M21: -5710.36 | N21: 2189.64 | O21: =SUM(L20:L21) -> 83900
C23: 100000000374 | E23: 0 | G23: 27.02.2015 | I23: เครื่องปรับอากาศ ทาซากิ FUGE-25A-สนจ.พง.(ดรธ) | L23: 33000 | M23: -27191.1 | N23: 5808.9
C25: 100000001178 | E25: 0 | G25: 09.12.2020 | I25: โซฟาลายหลุยส์โครงไม้สักแท้-ห้อง ผวจ. | L25: 104800 | M25: -10623.56 | N25: 94176.44
C26: 100000001179 | E26: 0 | G26: 09.12.2020 | I26: พรมปูพื้น-ห้อง ผวจ. | L26: 16200 | M26: -1642.19 | N26: 14557.81 | O26: =SUM(L25:L26) -> 121000
C28: 100000001830 | E28: 0 | G28: 28.09.2021 | I28: พรมปูพื้น-ห้อง ผวจ. | L28: 36300 | M28: -37.29 | N28: 36262.71
B30: * | C30: หมวดสินทรัพย์ 12060100 ครุภัณฑ์สนง. | L30: 923300 | M30: -706491.81 | N30: 216808.19
B32: ** | C32: บัญชีงบดุล APC 1206010101 ครุภัณฑ์สำนักงาน | L32: 923300 | M32: -706491.81 | N32: 216808.19
B34: *** | C34: รายการงบดุล ?????????? | L34: 923300 | M34: -706491.81 | N34: 216808.19
B36: **** | C36: รหัสจังหวัด 8200 พังงา | L36: 923300 | M36: -706491.81 | N36: 216808.19
B38: ***** | C38: รหัสหน่วยงาน G072 งบจังหวัดพังงา | L38: 923300 | M38: -706491.81 | N38: 216808.19

Sheet ค.การเกษตร
A1: 22.10.2021 การแสดงรายการไดนามิก 1
A3: 22.10.2021 | K3: 1
A5: วันที่รายงาน : | D5: 30.09.2021 | G5: ยอดสินทรัพย์คงเหลือ - 01 คส.ตามบัญชี
A6: สร้างเมื่อ : | D6: 22.10.2021 | L6: 1
A8: รหัสหน่วยงาน | E8: รหัสจังหวัด | H8: รายการงบดุล | I8: บัญชีงบดุลAPC | J8: หมวดสินทรัพย์
A9: G072 | E9: 8200 | H9: ?????????? | I9: 1206050101 | J9: 12060500
C11: สินทรัพย์ | D11: SNo. | F11: Cap.date | G11: คำอธิบายของสินทรัพย์ | H11: มูลค่าการได้มา | I11: ค่าเสื่อมสะสม | J11: มูลค่าตามบัญชี
C13: 100000000109 | D13: 0 | F13: 11.10.2010 | G13: ซองบังคับสัตว์ใหญ่-สนง.ปศุสัตว์ | H13: 200000 | I13: -199999 | J13: 1
C14: 100000000110 | D14: 0 | F14: 11.10.2010 | G14: ซองบังคับสัตว์เล็ก-สนง.ปศุสัตว์ | H14: 150000 | I14: -149999 | J14: 1
C15: 100000000123 | D15: 0 | F15: 17.12.2010 | G15: เครื่องอัดเม็ดปุ๋ย-สนง.เกษตร | H15: 153000 | I15: -152999 | J15: 1
C16: 100000000124 | D16: 0 | F16: 08.12.2010 | G16: เครื่องชั่งดิจิตอล 50 ตัน-เกษตร | H16: 730000 | I16: -729999 | J16: 1
C17: 100000000125 | D17: 0 | F17: 17.12.2010 | G17: เครื่องผสมปุ๋ย-สนง.เกษตร | H17: 60000 | I17: -59999 | J17: 1
C18: 100000000126 | D18: 0 | F18: 17.12.2010 | G18: เครื่องตีป่น-สนง.เกษตร | H18: 60000 | I18: -59999 | J18: 1
C19: 100000000127 | D19: 0 | F19: 17.12.2010 | G19: เครื่องกลับกองปุ๋ย-สนง.เกษตร | H19: 53000 | I19: -52999 | J19: 1
C20: 100000000128 | D20: 0 | F20: 17.12.2010 | G20: จักรเย็บกระสอบปุ๋ย-สนง.เกษตร | H20: 18000 | I20: -17999 | J20: 1
C21: 100000000129 | D21: 0 | F21: 17.12.2010 | G21: ถังน้ำไฟเบอร์กลาส-สนง.เกษตร | H21: 19500 | I21: -19499 | J21: 1
C22: 100000000130 | D22: 0 | F22: 17.12.2010 | G22: ตาชั่งไม่น้อยกว่า 700 กก.-เกษตร | H22: 10000 | I22: -9999 | J22: 1 | K22: =SUM(H13:H22) -> 1453500
C24: 100000000161 | D24: 0 | F24: 30.05.2011 | G24: เครื่องผสมปุ๋ยและเครื่องอัดเม็ดปุ๋ย-สนง.เกษตร พง. | H24: 1692000 | I24: -1691999 | J24: 1
C25: 100000000162 | D25: 0 | F25: 30.05.2011 | G25: ชุดโบว์เวอร์ดูดลมเย็น-สนง.เกษตร จ.พังงา | H25: 120000 | I25: -119999 | J25: 1
C26: 100000000163 | D26: 0 | F26: 30.05.2011 | G26: ถังไซโลพักเม็ดปุ๋ย-สนง.เกษตร จ.พังงา | H26: 55000 | I26: -54999 | J26: 1
C27: 100000000182 | D27: 0 | F27: 30.09.2011 | G27: เครื่องซีลปากถุงแบบเท้าเหยียบ-สนง.เกษตร จ. | H27: 16000 | I27: -15999 | J27: 1
C28: 100000000183 | D28: 0 | F28: 30.09.2011 | G28: เครื่องแพ็คถุงสุญญากาศ 40 ซม.-สนง.เกษตร จ.พังงา | H28: 28215 | I28: -28214 | J28: 1
C29: 100000000184 | D29: 0 | F29: 30.09.2011 | G29: เครื่องบดและัอัดเม็ด-สนง.เกษตร จ.พังงา | H29: 85650 | I29: -85649 | J29: 1
C30: 100000000185 | D30: 0 | F30: 30.09.2011 | G30: เครื่องสีข้าว-สนง.เกษตร.จ.พังงา | H30: 100000 | I30: -99999 | J30: 1 | K30: =SUM(H24:H30) -> 2096865
C32: 100000000231 | D32: 0 | F32: 07.06.2012 | G32: เครื่องตัดหญ้าแบบสะพายหลัง-สนง.เกษตร | H32: 19700 | I32: -19699 | J32: 1
C33: 100000000239 | D33: 0 | F33: 06.07.2012 | G33: เครื่องสีข้าว "ไซไน" รุ่น 5T-สนง.เกษตร | H33: 181800 | I33: -181799 | J33: 1
C34: 100000000240 | D34: 0 | F34: 06.07.2012 | G34: เครื่องซีลปากถุงพลาสติก-สนง.เกษตร | H34: 7700 | I34: -7699 | J34: 1
C35: 100000000241 | D35: 0 | F35: 27.08.2012 | G35: โคเนื้อเพศเมียลูกผสม-สนง.ปศุสัตว์ | H35: 315000 | I35: -314999 | J35: 1 | K35: =SUM(H32:H35) -> 524200 | M35: ตัดจำหน่าย
C37: 100000000295 | D37: 0 | F37: 09.04.2013 | G37: พันธุ์โคเนื้อลุกผสม-สนง.ปศุสัตว์ จ.พังงา | H37: 690000 | I37: -689999 | J37: 1 | K37: =+H37 -> 690000 | M37: ตัดจำหน่าย
C39: 100000000388 | D39: 0 | F39: 28.09.2015 | G39: เครื่องสับยาง VSI สับยางก้อนถ้วย-สนง.สหกรณ์ จ.พง. | H39: 1200000 | I39: -720986.3 | J39: 479013.7
C40: 100000000389 | D40: 0 | F40: 28.09.2015 | G40: เครื่องรีดยางหยาบรุ่นผลิตยางเครป-สนง.สหกรณ์ จ.พง. | H40: 1200000 | I40: -720986.3 | J40: 479013.7
C41: 100000000390 | D41: 0 | F41: 28.09.2015 | G41: เครื่องรีดยางละเอียดรีดยางก้อนถ้วย-สนง.สหกรณ์ จ.พง | H41: 1200000 | I41: -720986.3 | J41: 479013.7 | K41: =SUM(H39:H41) -> 3600000
C43: 100000000458 | D43: 0 | F43: 01.03.2017 | G43: ปั้มลม-สนง.พช. | H43: 11700 | I43: -5365.97 | J43: 6334.03
C44: 100000000459 | D44: 0 | F44: 27.03.2017 | G44: เครื่องขึ้นรูปผลิตภัณฑ์น้ำยางพาราสดพร้อมแม่พิมพ์ | H44: 480000 | I44: -216723.29 | J44: 263276.71
C45: 100000000477 | D45: 0 | F45: 03.07.2017 | G45: ถังผสมน้ำยาสารเคมี พร้อมอุปกรณ์-สนง.สหกรณ์ จ.พง. | H45: 129000 | I45: -109561.64 | J45: 19438.36
C46: 100000000478 | D46: 0 | F46: 03.07.2017 | G46: เครื่องทำโฟมขนาด 100 ลิตร-สนง.สหกรณ์ จ.พง. | H46: 190000 | I46: -161369.86 | J46: 28630.14
C47: 100000000479 | D47: 0 | F47: 03.07.2017 | G47: เครื่องทำโฟมขนาด 20 ลิตร สนง.สหกรณ์ จ.พง. | H47: 22000 | I47: -18684.93 | J47: 3315.07
C48: 100000000480 | D48: 0 | F48: 03.07.2017 | G48: เครื่องพิมพ์หมอน-สนง.สหกรณ์ จ.พังงา | H48: 280000 | I48: -237808.22 | J48: 42191.78
C49: 100000000481 | D49: 0 | F49: 03.07.2017 | G49: ชุดล้าง-สนง.สหกรณ์ จ.พังงา | H49: 75000 | I49: -63698.63 | J49: 11301.37
C50: 100000000482 | D50: 0 | F50: 03.07.2017 | G50: ตู้อบนึ่งพร้อมอุปกรณ์-สหกรณ์ จ.พง. | H50: 110000 | I50: -93424.66 | J50: 16575.34
C51: 100000000483 | D51: 0 | F51: 03.07.2017 | G51: ชุดอบแห้ง - สหกรณ์ จ.พังงา | H51: 95000 | I51: -80684.93 | J51: 14315.07
C52: 100000000484 | D52: 0 | F52: 03.07.2017 | G52: ถังเก็บน้ำยางขนาด 2,000 ลิตร - สหกรณ์ จ.พังงา | H52: 40000 | I52: -33972.6 | J52: 6027.4 | K52: =SUM(H43:H52) -> 1432700
C54: 100000000713 | D54: 0 | F54: 14.05.2019 | G54: เครื่องซีลสูญญากาศ- สนง.เกษตร จ.พง. | H54: 369000 | I54: -175906.85 | J54: 193093.15
C55: 100000000738 | D55: 0 | F55: 13.06.2019 | G55: เครื่องสีข้าว ขนาด 10 แรงม้า 220 โวลล์ | H55: 894995 | I55: -411942.9 | J55: 483052.1
C56: 100000000769 | D56: 0 | F56: 13.09.2019 | G56: เครื่องผสมปุ๋ย ขนาดมอเตอร์ไฟฟ้า 7.5 แรงม้า-เกษตร | H56: 999990 | I56: -409858.92 | J56: 590131.08 | K56: =SUM(H54:H56) -> 2263985
C58: 100000000833 | D58: 0 | F58: 01.03.2020 | G58: เครื่องมือวิเคราะห์ดินพร้อมคอมพิวเตอร์ | H58: 657000 | I58: -656999 | J58: 1
C59: 100000000834 | D59: 0 | F59: 01.03.2020 | G59: เครื่องย่อยพืชสด | H59: 464000 | I59: -463999 | J59: 1
C60: 100000000835 | D60: 0 | F60: 01.03.2020 | G60: ตู้เก็บอุปกรณ์การเกษตร | H60: 38900 | I60: -38899 | J60: 1
C61: 100000000836 | D61: 0 | F61: 01.03.2020 | G61: ถังน้ำกลั่นขนาด 50 ลิตร | H61: 6800 | I61: -6799 | J61: 1
C62: 100000000837 | D62: 0 | F62: 01.03.2020 | G62: อ่างไฟเบอร์กลาส | H62: 19800 | I62: -19799 | J62: 1
C63: 100000000838 | D63: 0 | F63: 01.03.2020 | G63: เครื่องชั่งขนาด 50 ตัน | H63: 1296000 | I63: -1295999 | J63: 1
C64: 100000000839 | D64: 0 | F64: 01.03.2020 | G64: กระชังเลี้ยงปลาสำเร็จรูป 3*3 เมตร | H64: 132000 | I64: -131999 | J64: 1
C65: 100000000840 | D65: 0 | F65: 01.03.2020 | G65: เครื่องตัดหญ้าสะพายหลังคอแข็ง | H65: 28000 | I65: -27999 | J65: 1
C66: 100000000841 | D66: 0 | F66: 01.03.2020 | G66: เครื่องตัดหญ้าแบบสะพายหางแข็ง | H66: 170000 | I66: -169999 | J66: 1
C67: 100000000842 | D67: 0 | F67: 01.03.2020 | G67: เครื่องพ่นยาชนิดสะพายหลัง | H67: 11500 | I67: -11499 | J67: 1
C68: 100000000843 | D68: 0 | F68: 01.03.2020 | G68: เครื่องย่อยพืชสด | H68: 684800 | I68: -684799 | J68: 1
C69: 100000000845 | D69: 0 | F69: 01.03.2020 | G69: เครื่องผสมปุ๋ยและเครื่องอัดเม็ด | H69: 499000 | I69: -498999 | J69: 1
... C77: 100000000853 | D77: 0 | F77: 01.03.2020 | G77: เครื่องชั่งดิจิตอล 150 กก | H77: 15000 | I77: -14999 | J77: 1
C78: 100000000854 | D78: 0 | F78: 01.03.2020 | G78: จักรเย็บกระสอบแบบมือถือ | H78: 16000 | I78: -15999 | J78: 1 | K78: =SUM(H58:H78) -> 5067800
C80: 100000001581 | D80: 0 | F80: 01.03.2021 | G80: เครื่องย่อยทางปาล์มและหญ้าพร้อมมอเตอร์ | H80: 72000 | I80: -48529.38 | J80: 23470.62
C81: 100000001582 | D81: 0 | F81: 01.03.2021 | G81: เครื่องย่อยทางปาล์มและหญ้าพร้อมมอเตอร์ | H81: 72000 | I81: -48529.39 | J81: 23470.61
C82: 100000001583 | D82: 0 | F82: 01.03.2021 | G82: เครื่องย่อยทางปาล์มและหญ้าพร้อมมอเตอร์ | H82: 72000 | I82: -48529.38 | J82: 23470.62
C83: 100000001584 | D83: 0 | F83: 01.03.2021 | G83: เครื่องย่อยทางปาล์มและหญ้าพร้อมมอเตอร์ | H83: 72000 | I83: -48529.39 | J83: 23470.61
C84: 100000001585 | D84: 0 | F84: 01.03.2021 | G84: เครื่องย่อยทางปาล์มและหญ้าพร้อมมอเตอร์ | H84: 72000 | I84: -48529.38 | J84: 23470.62
C85: 100000001586 | D85: 0 | F85: 01.03.2021 | G85: เครื่องผสมอาหารสัตว์แบบแนวนอนพร้อมมอเตอร์ | H85: 31200 | I85: -9146.3 | J85: 22053.7
C86: 100000001586 | D86: 1 | F86: 01.03.2021 | G86: เครื่องผสมอาหารสัตว์แบบแนวนอนพร้อมมอเตอร์ | H86: 46800 | I86: -46799 | J86: 1 | K86: =SUM(I85:I86) -> -55945.3
C87: 100000001587 | D87: 0 | F87: 01.03.2021 | G87: เครื่องผสมอาหารสัตว์แบบแนวนอนพร้อมมอเตอร์ | H87: 31200 | I87: -9146.3 | J87: 22053.7
C88: 100000001587 | D88: 1 | F88: 01.03.2021 | G88: เครื่องผสมอาหารสัตว์แบบแนวนอนพร้อมมอเตอร์ | H88: 46800 | I88: -46799 | J88: 1
C89: 100000001588 | D89: 0 | F89: 01.03.2021 | G89: เครื่องผสมอาหารสัตว์แบบแนวนอนพร้อมมอเตอร์ | H89: 31200 | I89: -9146.3 | J89: 22053.7
C90: 100000001588 | D90: 1 | F90: 01.03.2021 | G90: เครื่องผสมอาหารสัตว์แบบแนวนอนพร้อมมอเตอร์ | H90: 46800 | I90: -46799 | J90: 1 | K90: =SUM(H80:H90) -> 594000
B92: * | C92: หมวดสินทรัพย์ 12060500 คุรภัณฑ์การเกษตร | H92: 17723050 | I92: -14424767 | J92: 3298282.9
B94: ** | C94: บัญชีงบดุล APC 1206050101 ครุภัณฑ์การเกษตร | H94: 17723050 | I94: -14424767 | J94: 3298282.9
B96: *** | C96: รายการงบดุล ?????????? | H96: 17723050 | I96: -14424767 | J96: 3298282.9
B98: **** | C98: รหัสจังหวัด 8200 พังงา | H98: 17723050 | I98: -14424767 | J98: 3298282.9
B100: ***** | C100: รหัสหน่วยงาน G072 งบจังหวัดพังงา | H100: 17723050 | I100: -14424767 | J100: 3298282.9

Sheet ค.คอม
A1: 22.10.2021 การแสดงรายการไดนามิก 1
A3: 22.10.2021 | D3: ยอดสินทรัพย์คงเหลือ | P3: 1
A5: วันที่รายงาน : | E5: 30.09.2021 | H5: ยอดสินทรัพย์คงเหลือ - 01 คส.ตามบัญชี
A6: สร้างเมื่อ : | E6: 22.10.2021 | Q6: 1
A8: รหัสหน่วยงาน | F8: รหัสจังหวัด | J8: รายการงบดุล | K8: บัญชีงบดุลAPC | L8: หมวดสินทรัพย์
A9: G072 | F9: 8200 | J9: ?????????? | K9: 1206100101 | L9: 12061000
C11: สินทรัพย์ | E11: SNo. | G11: Cap.date | I11: คำอธิบายของสินทรัพย์ | M11: มูลค่าการได้มา | N11: ค่าเสื่อมสะสม | O11: มูลค่าตามบัญชี
C13: 100000000111 | E13: 0 | G13: 11.10.2010 | I13: คอมพิวเตอร์โน๊ตบุค-สนง.ปศุสัตว์ | M13: 25000 | N13: -24999 | O13: 1
C14: 100000000114 | E14: 0 | G14: 11.10.2010 | I14: คอมพิวเตอร์ลูกข่าย-ปศุสัตว์ | M14: 29500 | N14: -29499 | O14: 1 | P14: =SUM(M13:M14) -> 54500
C16: 100000000209 | E16: 0 | G16: 30.09.2011 | I16: Notebook Fujitsu Lifebook LH531-สนง.เกษตร จ.พง | M16: 213000 | N16: -212999 | O16: 1 | P16: =+M16 -> 213000
C18: 100000000233 | E18: 0 | G18: 25.06.2012 | I18: เครื่องพิมพ์ Printer Inkjet รุ่น EPSON STYLUS T60 | M18: 6000 | N18: -5999 | O18: 1
C19: 100000000257 | E19: 0 | G19: 21.09.2012 | I19: เครื่องพิมพ์เลเซอร์ LED ขาวดำ Brother HL-2240D-ยธ | M19: 8400 | N19: -8399 | O19: 1 | P19: =SUM(M18:M19) -> 14400
C21: 100000000296 | E21: 0 | G21: 21.06.2013 | I21: Tablet (7.9") Mini Ipad wifi 4G 32GB-สนจ.พง. | M21: 99500 | N21: -99499 | O21: 1
C22: 100000000297 | E22: 0 | G22: 21.06.2013 | I22: คอมพิวเตอร์ LENOVO ThinkCentre E72z-สนจ.พง. | M22: 52500 | N22: -52499 | O22: 1 | P22: =SUM(M21:M22) -> 152000
C24: 100000000323 | E24: 0 | G24: 28.03.2014 | I24: คอมพิวเตอร์ตั้งโต๊ะ ยี่ห้อ LENOVO สีขาว-สนจ.พง. | M24: 60000 | N24: -59999 | O24: 1
C25: 100000000328 | E25: 0 | G25: 28.05.2014 | I25: Notebook พร้อมโปรแกรมจัดการภาพเคลื่อนไหว-สนจ.พง. | M25: 81000 | N25: -80999 | O25: 1
C26: 100000000345 | E26: 0 | G26: 23.09.2014 | I26: คอมพิวเตอร์ LENOVO พร้อมเครื่องพิมพ์-ศูนย์ดำรงธรรม | M26: 18590 | N26: -18589 | O26: 1
C27: 100000000346 | E27: 0 | G27: 26.09.2014 | I27: Notebook ASUS X550DP-XX075D-สนจ.พง. | M27: 25000 | N27: -24999 | O27: 1
C28: 100000000351 | E28: 0 | G28: 20.11.2014 | I28: คอมพิวเตอร์ DELL Inpiron 3847MT-สนจ.พง.ยธ | M28: 30000 | N28: -29999 | O28: 1
C29: 100000000353 | E29: 0 | G29: 28.11.2014 | I29: คอมพิวเตอร์ Lenove IdeaCentre C360-สนจ.พง. | M29: 28100 | N29: -28099 | O29: 1 | P29: =SUM(M24:M29) -> 242690
C31: 100000000354 | E31: 0 | G31: 13.01.2015 | I31: คอมพิวเตอร์ LENOVO IdeaCentre C460-สนจ.พง. | M31: 27200 | N31: -27199 | O31: 1
C32: 100000000383 | E32: 0 | G32: 08.06.2015 | I32: คอมพิวเตอร์ตั้งโต๊ะ LENOVO IdeaCentre C460 สีขาว | M32: 23000 | N32: -22999 | O32: 1
C33: 100000000384 | E33: 0 | G33: 08.06.2015 | I33: คอมพิวเตอร์ตั้งโต๊ะ LENOVO IdeaCentre C460 สีขาว | M33: 22000 | N33: -21999 | O33: 1
C34: 100000000392 | E34: 0 | G34: 05.10.2015 | I34: คอมพิวเตอร์ตั้งโต๊ะ,โน๊ตบุค,ปริ้นเตอร์ - สนจ.พง. | M34: 490000 | N34: -489999 | O34: 1 | P34: =SUM(M31:M34) -> 562200
C36: 100000000397 | E36: 0 | G36: 01.01.2016 | I36: เครื่องพิมพ์ HP Laserjet Pro M127fn-สนจ.พง. | M36: 9000 | N36: -8999 | O36: 1
C37: 100000000398 | E37: 0 | G37: 01.01.2016 | I37: คอมพิวเตอร์ตั้งโต๊ะ lenove Idea Centre C460- สนจ.พ | M37: 22000 | N37: -21999 | O37: 1
C38: 100000000434 | E38: 0 | G38: 02.05.2016 | I38: เครื่องพิมพ์ - สนจ.พง. | M38: 15000 | N38: -14999 | O38: 1
C39: 100000000443 | E39: 0 | G39: 02.05.2016 | I39: เครื่องพิมพ์ Multifunction แบบฉีดหมึก EPSONL365 | M39: 7600 | N39: -7599 | O39: 1
C40: 100000000450 | E40: 0 | G40: 01.09.2016 | I40: เครื่องพิมพ์ HP officeJet 7510-สนจ.พง.(ผวจ.) | M40: 7900 | N40: -7899 | O40: 1 | P40: =SUM(M36:M40) -> 61500
C42: 100000000818 | E42: 0 | G42: 01.03.2020 | I42: เครื่องพริ้นเตอร์ HP Laser Jet P1505 | K42: พช. | M42: 10790 | N42: -10789 | O42: 1
C43: 100000000819 | E43: 0 | G43: 01.03.2020 | I43: คอมพิวเตอร์ HP รุ่น P6182L | K43: โยธา | M43: 29900 | N43: -29899 | O43: 1
C44: 100000000820 | E44: 0 | G44: 01.03.2020 | I44: คอมพิวเตอร์ โน๊ตบุค Acer AS2920Z | M44: 81900 | N44: -81899 | O44: 1
C45: 100000000821 | E45: 0 | G45: 01.03.2020 | I45: Printer Samsung ML-2571N | M45: 8000 | N45: -7999 | O45: 1
C46: 100000000822 | E46: 0 | G46: 01.03.2020 | I46: เครื่องไมโครคอมพิวเตอร์พร้อมอุปกรณ์ | K46: เกษตร | M46: 34360 | N46: -34359 | O46: 1
C47: 100000000823 | E47: 0 | G47: 01.03.2020 | I47: เครื่องพิมพ์ Laserjet | K47: เกษตร | M47: 5190 | N47: -5189 | O47: 1
C48: 100000000824 | E48: 0 | G48: 01.03.2020 | I48: โน๊ตบุค Compaq Presario CQ35-122TX | M48: 132000 | N48: -131999 | O48: 1
C49: 100000000825 | E49: 0 | G49: 01.03.2020 | I49: โน๊ตบุค Acer รุ่น ASPIRE 4736 | K49: เกษตร | M49: 104970 | N49: -104969 | O49: 1
C50: 100000000826 | E50: 0 | G50: 01.03.2020 | I50: เครื่องคอมพิวเตอร์แม่ข่ายพร้อมอุปกรณ์ | K50: เกษตร | M50: 100000 | N50: -99999 | O50: 1
C51: 100000000827 | E51: 0 | G51: 01.03.2020 | I51: คอมพิวเตอร์ โน๊ตบุค | K51: เกษตร | M51: 29900 | N51: -29899 | O51: 1
C52: 100000000828 | E52: 0 | G52: 01.03.2020 | I52: คอมพิวเตอร์ตั้งโต๊ะ | K52: เกษตร | M52: 30300 | N52: -30299 | O52: 1
C53: 100000000829 | E53: 0 | G53: 01.03.2020 | I53: คอมพิวเตอร์ Acer,พริ้นเตอร์ Samsung | K53: เกษตร | M53: 114990 | N53: -114989 | O53: 1
C54: 100000000830 | E54: 0 | G54: 01.03.2020 | I54: คอมพิวเตอร์ Notebook ยี่ห้อ Lenovo | M54: 22513 | N54: -22512 | O54: 1
C55: 100000000831 | E55: 0 | G55: 01.03.2020 | I55: ปริ้นเตอร์ Cannon รุ่น PIXMA IP10 | M55: 9487 | N55: -9486 | O55: 1
C56: 100000000856 | E56: 0 | G56: 01.03.2020 | I56: เครื่องคอมพิวเตอร์พร้อมอุปกรณ์ | K56: เกษตร | M56: 37365 | N56: -37364 | O56: 1 | P56: =SUM(M42:M56) -> 751665
C58: 100000001432 | E58: 0 | G58: 01.03.2021 | I58: เครื่องพิมพ์ Multifunction เลเซอร์สี -สนจ.พง. | M58: 15000 | N58: -5279.91 | O58: 9720.09
C59: 100000001434 | E59: 0 | G59: 01.03.2021 | I59: เครื่องคอมพิวเตอร์สำหรับงานประมวลผลพร้อมจอภาพ-สนจ. | M59: 22000 | N59: -7743.86 | O59: 14256.14
C60: 100000001435 | E60: 0 | G60: 01.03.2021 | I60: เครื่องคอมพิวเตอร์แท็ปแล็ต 256GB-สนจ.พง. | M60: 36890 | N60: -12985.07 | O60: 23904.93
C61: 100000001436 | E61: 0 | G61: 01.03.2021 | I61: เครื่องคอมพิวเตอร์แท็ปแล็ต 256GB-สนจ.พง. | M61: 36890 | N61: -12985.07 | O61: 23904.93
C62: 100000001437 | E62: 0 | G62: 01.03.2021 | I62: เครื่องคอมพิวเตอร์แท็ปแล็ต 256GB-สนจ.พง. | M62: 36890 | N62: -12985.07 | O62: 23904.93
C63: 100000001438 | E63: 0 | G63: 01.03.2021 | I63: เครื่องคอมพิวเตอร์แท็ปแล็ต 256GB-สนจ.พง. | M63: 36890 | N63: -12985.07 | O63: 23904.93
C64: 100000001439 | E64: 0 | G64: 01.03.2021 | I64: เครื่องคอมพิวเตอร์แท็ปแล็ต 256GB-สนจ.พง. | M64: 36890 | N64: -12985.05 | O64: 23904.95
C65: 100000001688 | E65: 0 | G65: 05.05.2021 | I65: คอมพิวเตอร์ Dell Vostro V3888 (ผวจ) | M65: 30000 | N65: -2449.32 | O65: 27550.68
C66: 100000001689 | E66: 0 | G66: 21.05.2021 | I66: คอมพิวเตอร์ Dell-การเงิน สนจ.พง. | M66: 30000 | N66: -2186.3 | O66: 27813.7
C67: 100000001690 | E67: 0 | G67: 21.05.2021 | I67: คอมพิวเตอร์ Dell-การเงิน สนจ.พง. | M67: 30000 | N67: -2186.3 | O67: 27813.7
C68: 100000001691 | E68: 0 | G68: 21.05.2021 | I68: คอมพิวเตอร์ Dell-การเงิน สนจ.พง. | M68: 30000 | N68: -2186.3 | O68: 27813.7
C69: 100000001826 | E69: 0 | G69: 22.09.2021 | I69: คอมพิวเตอร์โน๊ตบุคสำหรับงานประมวลผล-สนจ.พง. | M69: 22000 | N69: -108.49 | O69: 21891.51
... C71: 100000001828 | E71: 0 | G71: 22.09.2021 | I71: คอมพิวเตอร์โน๊ตบุคสำหรับงานประมวลผล-สนจ.พง. | M71: 22000 | N71: -108.49 | O71: 21891.51
C72: 100000001829 | E72: 0 | G72: 22.09.2021 | I72: คอมพิวเตอร์โน๊ตบุคสำหรับงานประมวลผล-สนจ.พง. | M72: 22000 | N72: -108.49 | O72: 21891.51 | P72: =SUM(M58:M72) -> 429450
B74: * | C74: หมวดสินทรัพย์ 12061000 คุรภัณฑ์คอมพิวเตอร์ | M74: 2481405 | N74: -2139309.3 | O74: 342095.72
B76: ** | C76: บัญชีงบดุล APC 1206100101 ครุภัณฑ์คอมพิวเตอร์ | M76: 2481405 | N76: -2139309.3 | O76: 342095.72
B78: *** | C78: รายการงบดุล ?????????? | M78: 2481405 | N78: -2139309.3 | O78: 342095.72
B80: **** | C80: รหัสจังหวัด 8200 พังงา | M80: 2481405 | N80: -2139309.3 | O80: 342095.72
B82: ***** | C82: รหัสหน่วยงาน G072 งบจังหวัดพังงา | M82: 2481405 | N82: -2139309.3 | O82: 342095.72

Sheet รวม
A1: สินทรัพย์ กรมจังหวัดพังงา
A3: ประเภทสินทรัพย์ | B3: มูลค่าสินทรัพย์ แยกตามปีที่บันทึกในระบบ GFMIS
B4: 2552 | C4: 2553 | D4: 2554 | E4: 2555 | F4: 2556 | G4: 2557 | H4: 2558 | I4: 2559 | J4: 2560 | K4: 2561 | L4: 2562 | M4: 2563 | N4: 2564 | O4: รวม
B5: 2009 | C5: 2010 | D5: 2011 | E5: 2012 | F5: 2013 | G5: 2014 | H5: 2015 | I5: 2016 | J5: 2017 | K5: 2018 | L5: 2019 | M5: 2020 | N5: 2021
A6: สิ่งปลูกสร้าง | B6: =+สิ่งปลูกสร้าง!I17 -> 0 | C6: =+สิ่งปลูกสร้าง!I21 -> 0 | D6: 0 | E6: =+สิ่งปลูกสร้าง!I29 -> 0 | F6: =+สิ่งปลูกสร้าง!I33 -> 0 | G6: =+สิ่งปลูกสร้าง!I39 -> 0 | H6: =+สิ่งปลูกสร้าง!I43 -> 0 | I6: =+สิ่งปลูกสร้าง!I46 -> 0 | J6: =+สิ่งปลูกสร้าง!I53 -> 0 | K6: =+สิ่งปลูกสร้าง!I56 -> 0 | L6: =+สิ่งปลูกสร้าง!I150 -> 0 | M6: =+สิ่งปลูกสร้าง!I189 -> 0 | N6: =+สิ่งปลูกสร้าง!I206 -> 0 | O6: =SUM(B6:N6) -> 0
A7: อาคารเพื่อประโยชน์อื่น | B7: =+อาคารเพื่อประโยชน์อื่น!I13 -> 1000000 | C7: 0 | D7: 0 | E7: 0 | F7: 0 | G7: 0 | H7: =+อาคารเพื่อประโยชน์อื่น!I16 -> 3389000 | I7: 0 | J7: =+อาคารเพื่อประโยชน์อื่น!I21 -> 6484000 | K7: 0 | L7: =+อาคารเพื่อประโยชน์อื่น!I52 -> 34399005 | M7: 0 | N7: 0 | O7: =SUM(B7:N7) -> 45272005
A8: สินทรัพย์พื้นฐานอื่น | B8: 0 | C8: 0 | D8: 0 | E8: =+ส.โครงสร้างพื้นฐาน!I13 -> 295000 | F8: =+ส.โครงสร้างพื้นฐาน!I31 -> 37188497 | G8: =+ส.โครงสร้างพื้นฐาน!I38 -> 17627000 | H8: =+ส.โครงสร้างพื้นฐาน!I42 -> 13008999 | I8: 0 | J8: 0 | K8: =+ส.โครงสร้างพื้นฐาน!I44 -> 10363100 | L8: =+ส.โครงสร้างพื้นฐาน!I78 -> 84940880 | M8: =+ส.โครงสร้างพื้นฐาน!I81 -> 34357248 | N8: 0 | O8: =SUM(B8:N8) -> 1.9778072e+08
A9: ถนน | B9: 0 | C9: 0 | D9: 0 | E9: 0 | F9: 0 | G9: 0 | H9: 0 | I9: 0 | J9: =+ถนน!J18 -> 11347600 | K9: 0 | L9: =+ถนน!G20 -> 5151054.4 | M9: =+ถนน!G21 -> 10485000 | N9: 0 | O9: =SUM(B9:N9) -> 26983654
A10: เขื่อน | B10: 0 | C10: 0 | D10: 0 | E10: 0 | F10: 0 | G10: 0 | H10: 0 | I10: =+เขื่อน!I14 -> 48000000 | J10: =+เขื่อน!I21 -> 11600000 | K10: 0 | L10: 0 | M10: 0 | N10: 0 | O10: =SUM(B10:N10) -> 59600000
A11: สะพาน | B11: 0 | C11: 0 | D11: 0 | E11: 0 | F11: 0 | G11: 0 | H11: 0 | I11: =+สะพาน!G13 -> 29900000 | J11: 0 | K11: 0 | L11: 0 | M11: 0 | N11: 0 | O11: =SUM(B11:N11) -> 29900000
A12: ส่วนปรับปรุงอาคาร | B12: 0 | C12: 0 | D12: 0 | E12: =+ส่วนปรับปรุงอาคาร!M13 -> 320000 | F12: 0 | G12: 0 | H12: 0 | I12: =+ส่วนปรับปรุงอาคาร!M14 -> 479000 | J12: 0 | K12: 0 | L12: =+ส่วนปรับปรุงอาคาร!M15 -> 201000 | M12: 0 | N12: 0 | O12: =SUM(B12:N12) -> 1000000
A13: รวม | B13: =SUM(B6:B12) -> 1000000 | C13: =SUM(C6:C12) -> 0 | D13: =SUM(D6:D12) -> 0 | E13: =SUM(E6:E12) -> 615000 | F13: =SUM(F6:F12) -> 37188497 | G13: =SUM(G6:G12) -> 17627000 | H13: =SUM(H6:H12) -> 16397999 | I13: =SUM(I6:I12) -> 78379000 | ... O13: =SUM(O6:O12) -> 3.6053638e+08
A14: ครุภัณฑ์ยานพาหนะ | B14: =+ค.ยานพาหนะ!P20 -> 2776000 | C14: =+ค.ยานพาหนะ!P23 -> 3260000 | D14: =+ค.ยานพาหนะ!M25 -> 300000 | E14: 0 | F14: 0 | G14: 0 | H14: 0 | I14: 0 | J14: 0 | K14: 0 | L14: 0 | M14: 0 | N14: 0 | O14: =SUM(B14:N14) -> 6336000
A15: ครุภัณฑ์โฆษณา | B15: =+ค.โฆษณา!M13 -> 19990 | C15: =+ค.โฆษณา!M22 -> 2162400 | D15: =+ค.โฆษณา!M26 -> 151890 | E15: =+ค.โฆษณา!M29 -> 1050858.3 | F15: 0 | G15: =+ค.โฆษณา!M32 -> 355900 | H15: 0 | I15: =+ค.โฆษณา!J34 -> 13041 | J15: 0 | K15: =+ค.โฆษณา!J36 -> 306000 | L15: 0 | M15: =+ค.โฆษณา!M42 -> 918000 | N15: =+ค.โฆษณา!M53 -> 224500 | O15: =SUM(B15:N15) -> 5202579.3
A16: ครุภัณฑ์สำนักงาน | B16: 0 | C16: =+ค.สำนักงาน!O16 -> 621500 | D16: =+ค.สำนักงาน!L18 -> 27600 | E16: 0 | F16: =+ค.สำนักงาน!O21 -> 83900 | G16: 0 | H16: =+ค.สำนักงาน!L23 -> 33000 | I16: 0 | J16: 0 | K16: 0 | L16: 0 | M16: =+ค.สำนักงาน!O26 -> 121000 | N16: =+ค.สำนักงาน!L28 -> 36300 | O16: =SUM(B16:N16) -> 923300
A17: ครุภัณฑ์การเกษตร | B17: 0 | C17: =+ค.การเกษตร!K22 -> 1453500 | D17: =+ค.การเกษตร!K30 -> 2096865 | E17: =+ค.การเกษตร!K35 -> 524200 | F17: =+ค.การเกษตร!K37 -> 690000 | G17: 0 | H17: =+ค.การเกษตร!K41 -> 3600000 | I17: 0 | J17: =+ค.การเกษตร!K52 -> 1432700 | K17: 0 | L17: =+ค.การเกษตร!K56 -> 2263985 | M17: =+ค.การเกษตร!K78 -> 5067800 | N17: =+ค.การเกษตร!K90 -> 594000 | O17: =SUM(B17:N17) -> 17723050
A18: ครุภัณฑ์คอมพิวเตอร์ | B18: 0 | C18: =+ค.คอม!P14 -> 54500 | D18: =+ค.คอม!P16 -> 213000 | E18: =+ค.คอม!P19 -> 14400 | F18: =+ค.คอม!P22 -> 152000 | G18: =+ค.คอม!P29 -> 242690 | H18: =+ค.คอม!P34 -> 562200 | I18: =+ค.คอม!P40 -> 61500 | J18: 0 | K18: 0 | L18: 0 | M18: =+ค.คอม!P56 -> 751665 | N18: =+ค.คอม!P72 -> 429450 | O18: =SUM(B18:N18) -> 2481405
A19: ครุภัณฑ์วิทยาศาสตร์ | B19: 0 | C19: =+ค.วิทย์!P15 -> 107000 | D19: 0 | E19: 0 | F19: 0 | G19: 0 | H19: 0 | I19: 0 | J19: 0 | K19: 0 | L19: 0 | M19: 0 | N19: =+ค.วิทย์!P23 -> 138723 | O19: =SUM(B19:N19) -> 245723
A20: ครุภัณฑ์งานบ้านงานครัว | B20: 0 | C20: 0 | D20: =+ค.งานบ้านงานครัว!P15 -> 121500 | E20: =+ค.งานบ้านงานครัว!P19 -> 152000 | F20: 0 | G20: 0 | H20: 0 | I20: 0 | J20: 0 | K20: 0 | L20: 0 | M20: =+ค.งานบ้านงานครัว!P25 -> 73900 | N20: =+ค.งานบ้านงานครัว!P31 -> 80250 | O20: =SUM(B20:N20) -> 427650
A21: ครุภัณฑ์ไฟฟ้าวิทยุ | B21: 0 | C21: 0 | D21: =+ค.ไฟฟ้า!L13 -> 579000 | E21: =+ค.ไฟฟ้า!L14 -> 200000 | F21: =+ค.ไฟฟ้า!L15 -> 925000 | G21: 0 | H21: 0 | I21: 0 | J21: 0 | K21: 0 | L21: 0 | M21: 0 | N21: 0 | O21: =SUM(B21:N21) -> 1704000
A22: ครุภัณฑ์อื่น | B22: 0 | C22: 0 | D22: 0 | E22: =+ค.อื่น!P17 -> 6622990 | F22: 0 | G22: 0 | H22: 0 | I22: 0 | J22: 0 | K22: 0 | L22: 0 | M22: =+ค.อื่น!P20 -> 48000 | N22: =+ค.อื่น!P37 -> 253935 | O22: =SUM(B22:N22) -> 6924925
A23: ครุภัณฑ์กีฬา | B23: 0 | C23: 0 | D23: 0 | E23: 0 | F23: 0 | G23: =+ค.กีฬา!K13 -> 191100 | H23: 0 | I23: 0 | J23: 0 | K23: 0 | L23: 0 | M23: 0 | N23: 0 | O23: =SUM(B23:N23) -> 191100
A24: ครุภัณฑ์ก่อสร้าง | B24: 0 | C24: 0 | D24: 0 | E24: 0 | F24: 0 | G24: 0 | H24: 0 | I24: 0 | J24: 0 | K24: 0 | L24: 0 | M24: =+ค.ก่อสร้าง!L13 -> 13000 | N24: 0 | O24: =SUM(B24:N24) -> 13000
A25: ครุภัณฑ์การศึกษา | B25: 0 | C25: 0 | D25: 0 | E25: 0 | F25: 0 | G25: 0 | H25: 0 | I25: 0 | J25: 0 | K25: 0 | L25: 0 | M25: =+ค.การศึกษา!L24 -> 17500 | N25: 0 | O25: =SUM(B25:N25) -> 17500
A26: รวม | B26: =SUM(B14:B25) -> 2795990 | C26: =SUM(C14:C25) -> 7658900 | D26: =SUM(D14:D25) -> 3489855 | E26: =SUM(E14:E25) -> 8564448.3 | F26: =SUM(F14:F25) -> 1850900 | G26: =SUM(G14:G25) -> 789690 | H26: =SUM(H14:H25) -> 4195200 | I26: =SUM(I14:I25) -> 74541 | ... O26: =SUM(O14:O25) -> 42190232
A27: รวมทั้งสิ้น | B27: =+B26+B13 -> 3795990 | C27: =+C26+C13 -> 7658900 | D27: =+D26+D13 -> 3489855 | E27: =+E26+E13 -> 9179448.3 | F27: =+F26+F13 -> 39039397 | G27: =+G26+G13 -> 18416690 | H27: =+H26+H13 -> 20593199 | I27: =+I26+I13 -> 78453541 | ... O27: =+O26+O13 -> 4.0272662e+08

Sheet ค.วิทย์
A1: 22.10.2021 การแสดงรายการไดนามิก 1
A3: 22.10.2021 | D3: ยอดสินทรัพย์คงเหลือ | P3: 1
A5: วันที่รายงาน : | E5: 30.09.2021 | H5: ยอดสินทรัพย์คงเหลือ - 01 คส.ตามบัญชี
A6: สร้างเมื่อ : | E6: 22.10.2021 | Q6: 1
A8: รหัสหน่วยงาน | F8: รหัสจังหวัด | J8: รายการงบดุล | K8: บัญชีงบดุลAPC | L8: หมวดสินทรัพย์
A9: G072 | F9: 8200 | J9: ?????????? | K9: 1206090101 | L9: 12060900
C11: สินทรัพย์ | E11: SNo. | G11: Cap.date | I11: คำอธิบายของสินทรัพย์ | M11: มูลค่าการได้มา | N11: ค่าเสื่อมสะสม | O11: มูลค่าตามบัญชี
C13: 100000000115 | E13: 0 | G13: 11.10.2010 | I13: เครื่องปั่นเลือด(แยกซีรัม)-ปศุสัตว์ | M13: 59000 | N13: -58999 | O13: 1
C14: 100000000116 | E14: 0 | G14: 11.10.2010 | I14: กล้องจุลทรรศน์-ปศุสัตว์ | M14: 30000 | N14: -29999 | O14: 1
C15: 100000000119 | E15: 0 | G15: 11.10.2010 | I15: เครื่องมือผ่าซากสัตว์-ปศุสัตว์ | M15: 18000 | N15: -17999 | O15: 1 | P15: =SUM(M13:M15) -> 107000
C17: 100000001251 | E17: 0 | G17: 01.02.2021 | I17: เครื่องวัดอุณภูมิแบบสแกนหน้า-สนจ.พง. | M17: 41560.58 | N17: -5603.16 | O17: 35957.42
C18: 100000001251 | E18: 1 | G18: 01.02.2021 | I18: เครื่องวัดอุณภูมิแบบสแกนหน้า | M18: 704.42 | N18: -703.42 | O18: 1
C19: 100000001252 | E19: 0 | G19: 01.02.2021 | I19: เครื่องวัดอุณภูมิแบบสแกนหน้า เชื่อมต่อwifi ได้-สนจ | M19: 30933.7 | N19: -4170.45 | O19: 26763.25
C20: 100000001252 | E20: 1 | G20: 01.02.2021 | I20: เครื่องวัดอุณภูมิแบบสแกนหน้า เชื่อมต่อ wifi ได้ | M20: 524.3 | N20: -523.3 | O20: 1
C21: 100000001822 | E21: 0 | G21: 06.09.2021 | I21: เครื่องพ่นหมอกควันแบบหิ้ว-สนง.ปศุสัตว์ จ.พังงา | M21: 10000 | N21: -136.99 | O21: 9863.01
C22: 100000001823 | E22: 0 | G22: 06.09.2021 | I22: เครื่องพ่นหมอกควันแบบหิ้ว-สนง.ปศุสัตว์ จ.พังงา | M22: 10000 | N22: -136.99 | O22: 9863.01
C23: 100000001824 | E23: 0 | G23: 06.09.2021 | I23: กล้องจุลทรรศน์-สนง.ปศุสัตว์ จ.พังงา | M23: 45000 | N23: -616.44 | O23: 44383.56 | P23: =SUM(M17:M23) -> 138723
B25: * | C25: หมวดสินทรัพย์ 12060900 คุรภัณฑ์วิทยาศาสตร์ | M25: 245723 | N25: -118887.75 | O25: 126835.25
B27: ** | C27: บัญชีงบดุล APC 1206090101 ครุภัณฑ์วิทย์ฯ | M27: 245723 | N27: -118887.75 | O27: 126835.25
B29: *** | C29: รายการงบดุล ?????????? | M29: 245723 | N29: -118887.75 | O29: 126835.25
B31: **** | C31: รหัสจังหวัด 8200 พังงา | M31: 245723 | N31: -118887.75 | O31: 126835.25
B33: ***** | C33: รหัสหน่วยงาน G072 งบจังหวัดพังงา | M33: 245723 | N33: -118887.75 | O33: 126835.25

Sheet ค.งานบ้านงานครัว
A1: 22.10.2021 การแสดงรายการไดนามิก 1
A3: 22.10.2021 | D3: ยอดสินทรัพย์คงเหลือ | P3: 1
A5: วันที่รายงาน : | E5: 30.09.2021 | H5: ยอดสินทรัพย์คงเหลือ - 01 คส.ตามบัญชี
A6: สร้างเมื่อ : | E6: 22.10.2021 | Q6: 1
A8: รหัสหน่วยงาน | F8: รหัสจังหวัด | J8: รายการงบดุล | K8: บัญชีงบดุลAPC | L8: หมวดสินทรัพย์
A9: G072 | F9: 8200 | J9: ?????????? | K9: 1206120101 | L9: 12061200
C11: สินทรัพย์ | E11: SNo. | G11: Cap.date | I11: คำอธิบายของสินทรัพย์ | M11: มูลค่าการได้มา | N11: ค่าเสื่อมสะสม | O11: มูลค่าตามบัญชี
C13: 100000000187 | E13: 0 | G13: 27.09.2011 | I13: เครื่องคั่วถั่วลิสง-สนง.เกษตร จ.พังงา | M13: 98500 | N13: -98499 | O13: 1
C14: 100000000188 | E14: 0 | G14: 27.09.2011 | I14: ถังแก๊สขนาด 48 กก.พร้อมหัวเร่ง-สนง.เกษตร จ. | M14: 8000 | N14: -7999 | O14: 1
C15: 100000000189 | E15: 0 | G15: 27.09.2011 | I15: เครื่องซีลปากถุงแบบเท้าเหยียบ ขนาด 24"-สนง.เกษตร จ | M15: 15000 | N15: -14999 | O15: 1 | P15: =SUM(M13:M15) -> 121500
C17: 100000000235 | E17: 0 | G17: 31.08.2012 | I17: ตู้อบแห้งลมร้อน 10 ชั้น 2 ประตู-สนง.เกษตร | M17: 80000 | N17: -79999 | O17: 1
C18: 100000000236 | E18: 0 | G18: 31.08.2012 | I18: เตาอบไฟฟ้าเล็กขนาด 1 ถาด-สนง.เกษตร | M18: 56000 | N18: -55999 | O18: 1
C19: 100000000237 | E19: 0 | G19: 31.08.2012 | I19: เครื่องหั่นตะไคร้ ขนาดมอเตอร์ 1 แรงม้า-สนง.เกษตร | M19: 16000 | N19: -15999 | O19: 1 | P19: =SUM(M17:M19) -> 152000
C21: 100000000812 | E21: 0 | G21: 01.03.2020 | I21: เครื่องซักผ้าขนาด 15 กก. | M21: 40000 | N21: -39999 | O21: 1
C22: 100000000813 | E22: 0 | G22: 01.03.2020 | I22: เตาแก๊ส ชนิด 2 หัวเตา | M22: 9000 | N22: -8999 | O22: 1
C23: 100000000814 | E23: 0 | G23: 01.03.2020 | I23: ตู้แช่แข็งฝาทึบพร้อมเครื่องกันไฟตกตัด | M23: 11000 | N23: -10999 | O23: 1
C24: 100000000815 | E24: 0 | G24: 01.03.2020 | I24: เตาอบแก๊ส 7 หัว | M24: 8000 | N24: -7999 | O24: 1
C25: 100000000816 | E25: 0 | G25: 01.03.2020 | I25: ตู้เย็น 5.2 คิว | M25: 5900 | N25: -5899 | O25: 1 | P25: =SUM(M21:M25) -> 73900
C27: 100000001698 | E27: 0 | G27: 29.07.2021 | I27: โต๊ะอาหาร 4 ที่นั่ง | M27: 16050 | N27: -562.85 | O27: 15487.15
C28: 100000001699 | E28: 0 | G28: 29.07.2021 | I28: โต๊ะอาหาร 4 ที่นั่ง | M28: 16050 | N28: -562.85 | O28: 15487.15
C29: 100000001700 | E29: 0 | G29: 29.07.2021 | I29: โต๊ะอาหาร 4 ที่นั่ง | M29: 16050 | N29: -562.85 | O29: 15487.15
C30: 100000001701 | E30: 0 | G30: 29.07.2021 | I30: โต๊ะอาหาร 4 ที่นั่ง | M30: 16050 | N30: -562.85 | O30: 15487.15
C31: 100000001702 | E31: 0 | G31: 29.07.2021 | I31: โต๊ะอาหาร 4 ที่นั่ง | M31: 16050 | N31: -562.85 | O31: 15487.15 | P31: =SUM(M27:M31) -> 80250
B33: * | C33: หมวดสินทรัพย์ 12061200 คุรภัณฑ์งานบ้าน | M33: 427650 | N33: -350203.25 | O33: 77446.75
B35: ** | C35: บัญชีงบดุล APC 1206120101 ครุภัณฑ์บ้านครัว | M35: 427650 | N35: -350203.25 | O35: 77446.75
B37: *** | C37: รายการงบดุล ?????????? | M37: 427650 | N37: -350203.25 | O37: 77446.75
B39: **** | C39: รหัสจังหวัด 8200 พังงา | M39: 427650 | N39: -350203.25 | O39: 77446.75
B41: ***** | C41: รหัสหน่วยงาน G072 งบจังหวัดพังงา | M41: 427650 | N41: -350203.25 | O41: 77446.75

Sheet ค.ไฟฟ้า
A1: 22.10.2021 การแสดงรายการไดนามิก 1
A3: 22.10.2021 | D3: ยอดสินทรัพย์คงเหลือ | P3: 1
A5: วันที่รายงาน : | E5: 30.09.2021 | H5: ยอดสินทรัพย์คงเหลือ - 01 คส.ตามบัญชี
A6: สร้างเมื่อ : | E6: 22.10.2021 | Q6: 1
A8: รหัสหน่วยงาน | F8: รหัสจังหวัด | J8: รายการงบดุล | K8: บัญชีงบดุลAPC | M8: หมวดสินทรัพย์
A9: G072 | F9: 8200 | J9: ?????????? | K9: 1206030101 | M9: 12060300
C11: สินทรัพย์ | E11: SNo. | G11: Cap.date | I11: คำอธิบายของสินทรัพย์ | L11: มูลค่าการได้มา | N11: ค่าเสื่อมสะสม | O11: มูลค่าตามบัญชี
C13: 100000000202 | E13: 0 | G13: 21.07.2011 | I13: ครุภัณฑ์ระบบเสียงสนาม-วิทยาลัยเทคนิคพังงา | L13: 579000 | N13: -578999 | O13: 1
C14: 100000000232 | E14: 0 | G14: 15.06.2012 | I14: เครื่องเสียงและระบบเผยแพร่พระพุทธศาสนา-ว.เทคนิค | L14: 200000 | N14: -185916.64 | O14: 14083.36
C15: 100000000306 | E15: 0 | G15: 01.08.2013 | I15: ชุดเสาไฟส่องสว่างพลังงานแสงอาทิตย์-พลังงาน | L15: 925000 | N15: -755458.9 | O15: 169541.1
B17: * | C17: หมวดสินทรัพย์ 12060300 คุรภัณฑ์ไฟฟ้า | L17: 1704000 | N17: -1520374.5 | O17: 183625.46
B19: ** | C19: บัญชีงบดุล APC 1206030101 คุรภัณฑ์ไฟฟ้า&วิทยุ | L19: 1704000 | N19: -1520374.5 | O19: 183625.46
B21: *** | C21: รายการงบดุล ?????????? | L21: 1704000 | N21: -1520374.5 | O21: 183625.46
B23: **** | C23: รหัสจังหวัด 8200 พังงา | L23: 1704000 | N23: -1520374.5 | O23: 183625.46
B25: ***** | C25: รหัสหน่วยงาน G072 งบจังหวัดพังงา | L25: 1704000 | N25: -1520374.5 | O25: 183625.46

Sheet ค.อื่น
A1: 22.10.2021 การแสดงรายการไดนามิก 1
A3: 22.10.2021 | D3: ยอดสินทรัพย์คงเหลือ | P3: 1
A5: วันที่รายงาน : | E5: 30.09.2021 | H5: ยอดสินทรัพย์คงเหลือ - 01 คส.ตามบัญชี
A6: สร้างเมื่อ : | E6: 22.10.2021 | Q6: 1
A8: รหัสหน่วยงาน | F8: รหัสจังหวัด | J8: รายการงบดุล | K8: บัญชีงบดุลAPC | L8: หมวดสินทรัพย์
A9: G072 | F9: 8200 | J9: ?????????? | K9: 1206160101 | L9: 12061600
C11: สินทรัพย์ | E11: SNo. | G11: Cap.date | I11: คำอธิบายของสินทรัพย์ | M11: มูลค่าการได้มา | N11: ค่าเสื่อมสะสม | O11: มูลค่าตามบัญชี
C13: 100000000242 | E13: 0 | G13: 09.08.2012 | I13: กล้องโทรทัศน์วงจรปิด CCTV พร้อมอุปกรณ์-ปกครอง พง. | M13: 5959990 | N13: -5959989 | O13: 1
C14: 100000000269 | E14: 0 | G14: 24.10.2012 | I14: ตู้กระจกโชว์สินค้าชนิดที่เก็บสต๊อก-พช. | M14: 108000 | N14: -107999 | O14: 1
C15: 100000000270 | E15: 0 | G15: 24.10.2012 | I15: ชุดเคาน์เตอร์วางสินค้าชนิดโค้ง-พช. | M15: 385000 | N15: -384999 | O15: 1
C16: 100000000271 | E16: 0 | G16: 24.10.2012 | I16: ชุดโต๊ะสนามโครงเหล็กหุ้มด้วยหวายเทียม-พช. | M16: 102000 | N16: -101999 | O16: 1
C17: 100000000272 | E17: 0 | G17: 24.10.2012 | I17: เต้นท์สนามชนิดโครงเหล็กและผ้าใบปิด-พช. | M17: 68000 | N17: -67999 | O17: 1 | P17: =SUM(M13:M17) -> 6622990
C19: 100000000811 | E19: 0 | G19: 01.03.2020 | I19: ชุดเขี่ยกุญแจพร้อมอุปกรณ์ | M19: 21500 | N19: -21499 | O19: 1
C20: 100000000875 | E20: 0 | G20: 14.04.2020 | I20: โต๊ะหมู่บูชา หมู่ 9 หน้า 10 ไม้เบญจพรรณ ปิดทอง | M20: 26500 | N20: -7763.24 | O20: 18736.76 | P20: =SUM(M19:M20) -> 48000
C22: 100000001703 | E22: 0 | G22: 29.07.2021 | I22: เรือพายนำเที่ยว พร้อมอุปกรณ์ | M22: 15729 | N22: -551.59 | O22: 15177.41
C23: 100000001704 | E23: 0 | G23: 29.07.2021 | I23: เรือพายนำเที่ยว พร้อมอุปกรณ์ | M23: 15729 | N23: -551.59 | O23: 15177.41
C24: 100000001705 | E24: 0 | G24: 29.07.2021 | I24: เรือพายนำเที่ยว พร้อมอุปกรณ์ | M24: 15729 | N24: -551.59 | O24: 15177.41
C25: 100000001706 | E25: 0 | G25: 29.07.2021 | I25: เรือพายนำเที่ยว พร้อมอุปกรณ์ | M25: 15729 | N25: -551.59 | O25: 15177.41
C26: 100000001707 | E26: 0 | G26: 29.07.2021 | I26: เรือพายนำเที่ยว พร้อมอุปกรณ์ | M26: 15729 | N26: -551.59 | O26: 15177.41
C27: 100000001708 | E27: 0 | G27: 29.07.2021 | I27: เรือพายนำเที่ยว พร้อมอุปกรณ์ | M27: 15729 | N27: -551.59 | O27: 15177.41
C28: 100000001709 | E28: 0 | G28: 29.07.2021 | I28: เรือพายนำเที่ยว พร้อมอุปกรณ์ | M28: 15729 | N28: -551.59 | O28: 15177.41
C29: 100000001710 | E29: 0 | G29: 29.07.2021 | I29: เรือพายนำเที่ยว พร้อมอุปกรณ์ | M29: 15729 | N29: -551.59 | O29: 15177.41
C30: 100000001711 | E30: 0 | G30: 29.07.2021 | I30: เรือพายนำเที่ยว พร้อมอุปกรณ์ | M30: 15729 | N30: -551.59 | O30: 15177.41
C31: 100000001712 | E31: 0 | G31: 29.07.2021 | I31: เรือพายนำเที่ยว พร้อมอุปกรณ์ | M31: 15729 | N31: -551.59 | O31: 15177.41
C32: 100000001713 | E32: 0 | G32: 29.07.2021 | I32: เรือพายนำเที่ยว พร้อมอุปกรณ์ | M32: 15729 | N32: -551.59 | O32: 15177.41
C33: 100000001714 | E33: 0 | G33: 29.07.2021 | I33: เรือพายนำเที่ยว พร้อมอุปกรณ์ | M33: 15729 | N33: -551.59 | O33: 15177.41
... C36: 100000001717 | E36: 0 | G36: 29.07.2021 | I36: เรือพายนำเที่ยว พร้อมอุปกรณ์ | M36: 15729 | N36: -551.59 | O36: 15177.41
C37: 100000001811 | E37: 0 | G37: 25.08.2021 | I37: โต๊ะหมู่บูชา-สนจ.พง. | M37: 18000 | N37: -364.93 | O37: 17635.07 | P37: =SUM(M22:M37) -> 253935
B39: * | C39: หมวดสินทรัพย์ 12061600 คุรภัณฑ์อื่นๆ | M39: 6924925 | N39: -6660886 | O39: 264038.98
B41: ** | C41: บัญชีงบดุล APC 1206160101 ครุภัณฑ์อื่น | M41: 6924925 | N41: -6660886 | O41: 264038.98
B43: *** | C43: รายการงบดุล ?????????? | M43: 6924925 | N43: -6660886 | O43: 264038.98
B45: **** | C45: รหัสจังหวัด 8200 พังงา | M45: 6924925 | N45: -6660886 | O45: 264038.98
B47: ***** | C47: รหัสหน่วยงาน G072 งบจังหวัดพังงา | M47: 6924925 | N47: -6660886 | O47: 264038.98

Sheet ค.กีฬา
A1: 22.10.2021 การแสดงรายการไดนามิก 1
A3: 22.10.2021 | D3: ยอดสินทรัพย์คงเหลือ | P3: 1
A5: วันที่รายงาน : | E5: 30.09.2021 | H5: ยอดสินทรัพย์คงเหลือ - 01 คส.ตามบัญชี
A6: สร้างเมื่อ : | E6: 22.10.2021 | Q6: 1
A8: รหัสหน่วยงาน | F8: รหัสจังหวัด | J8: รายการงบดุล | L8: บัญชีงบดุลAPC | N8: หมวดสินทรัพย์
A9: G072 | F9: 8200 | J9: ?????????? | L9: 1206130101 | N9: 12061300
C11: สินทรัพย์ | E11: SNo. | G11: Cap.date | I11: คำอธิบายของสินทรัพย์ | K11: มูลค่าการได้มา | M11: ค่าเสื่อมสะสม | O11: มูลค่าตามบัญชี
C13: 100000000347 | E13: 0 | G13: 15.09.2014 | I13: เรือคายัค-สนง.พัฒนาชุมชน | K13: 191100 | M13: -191099 | O13: 1
B15: * | C15: 12061300 คุรภัณฑ์กีฬา | K15: 191100 | M15: -191099 | O15: 1
B17: ** | C17: 1206130101 ครุภัณฑ์กีฬา | K17: 191100 | M17: -191099 | O17: 1
B19: *** | C19: ?????????? | K19: 191100 | M19: -191099 | O19: 1
B21: **** | C21: รหัส 8200 พังงา | K21: 191100 | M21: -191099 | O21: 1
B23: ***** | C23: รหัสหน G072 งบจังหวัดพังงา | K23: 191100 | M23: -191099 | O23: 1

Sheet ค.ก่อสร้าง
A1: 22.10.2021 การแสดงรายการไดนามิก 1
A3: 22.10.2021 | D3: ยอดสินทรัพย์คงเหลือ | P3: 1
A5: วันที่รายงาน : | E5: 30.09.2021 | H5: ยอดสินทรัพย์คงเหลือ - 01 คส.ตามบัญชี
A6: สร้างเมื่อ : | E6: 22.10.2021 | Q6: 1
A8: รหัสหน่วยงาน | F8: รหัสจังหวัด | J8: รายการงบดุล | K8: บัญชีงบดุลAPC | N8: หมวดสินทรัพย์
A9: G072 | F9: 8200 | J9: ?????????? | K9: 1206070101 | N9: 12060700
C11: สินทรัพย์ | E11: SNo. | G11: Cap.date | I11: คำอธิบายของสินทรัพย์ | L11: มูลค่าการได้มา | M11: ค่าเสื่อมสะสม | O11: มูลค่าตามบัญชี
C13: 100000000808 | E13: 0 | G13: 01.03.2020 | I13: เครื่องเชื่อมไฟฟ้าขนาด 300 แอมป์ | L13: 13000 | M13: -12999 | O13: 1
B15: * | C15: คลาส 12060700 คุรภัณฑ์ก่อสร้าง | L15: 13000 | M15: -12999 | O15: 1
B17: ** | C17: APC 1206070101 ครุภัณฑ์ก่อสร้าง | L17: 13000 | M17: -12999 | O17: 1
B19: *** | C19: รก.งบดุล ?????????? | L19: 13000 | M19: -12999 | O19: 1
B21: **** | C21: รหัสจังหวัด 8200 พังงา | L21: 13000 | M21: -12999 | O21: 1
B23: ***** | C23: รหัสหน่วยงาน G072 งบจังหวัดพังงา | L23: 13000 | M23: -12999 | O23: 1

Sheet ค.การศึกษา
A1: 22.10.2021 การแสดงรายการไดนามิก 1
A3: 22.10.2021 | D3: ยอดสินทรัพย์คงเหลือ | P3: 1
A5: วันที่รายงาน : | E5: 30.09.2021 | H5: ยอดสินทรัพย์คงเหลือ - 01 คส.ตามบัญชี
A6: สร้างเมื่อ : | E6: 22.10.2021 | Q6: 1
A8: รหัสหน่วยงาน | F8: รหัสจังหวัด | J8: รายการงบดุล | K8: บัญชีงบดุลAPC | N8: หมวดสินทรัพย์
A9: G072 | F9: 8200 | J9: ?????????? | K9: 1206110101 | N9: 12061100
C11: สินทรัพย์ | E11: SNo. | G11: Cap.date | I11: คำอธิบายของสินทรัพย์ | L11: มูลค่าการได้มา | M11: ค่าเสื่อมสะสม | O11: มูลค่าตามบัญชี
C13: 100000000809 | E13: 0 | G13: 01.03.2020 | I13: จักรเย็บผ้าไฟฟ้าชนิดตั้งโต๊ะ | L13: 10000 | M13: -9999 | O13: 1
C14: 100000000810 | E14: 0 | G14: 01.03.2020 | I14: จักรโพ้ง (จักรพันริม) | L14: 7500 | M14: -7499 | O14: 1
B16: * | C16: คลาส 12061100 คุรภัณฑ์การศึกษา | L16: 17500 | M16: -17498 | O16: 2
B18: ** | C18: APC 1206110101 ครุภัณฑ์การศึกษา | L18: 17500 | M18: -17498 | O18: 2
B20: *** | C20: ?????????? | L20: 17500 | M20: -17498 | O20: 2
B22: **** | C22: รหัสจังหวัด 8200 พังงา | L22: 17500 | M22: -17498 | O22: 2
B24: ***** | C24: รหัสหน G072 งบจังหวัดพังงา | L24: 17500 | M24: -17498 | O24: 2
