Workbook

Sheet บัญชีครุภัณฑ์ 30 ก.ย.64
A1: บัญชีทรัพย์สิน (ครุภัณฑ์)
A2: กรมจังหวัดพังงา
A3: ประจำปีงบประมาณ 2552
A4: 2552 - 1.โครงการผลิตปาล์มน้ำมันจังหวัดพังงา กิจกรรม สร้างศูนย์รวบรวมผลผลิตปาล์มน้ำมัน (ลานเท) 2 ลาน หน่วยดำเนินการ สนง.เกษตร จ.พังงา
A5: ลำดับ | B5: วันที่ได้มา | C5: รหัสสินทรัพย์ใน | E5: ชื่อและรายละเอียดสินทรัพย์ | F5: จำนวน | G5: ราคาต่อหน่วย | H5: มูลค่าทรัพย์สิน | I5: ค่าเสื่อมราคาสะสม | J5: ราคาตามบัญชี | K5: หน่วยงานผู้รับโอน
A6: ที่ | C6: ระบบ GFMIS | I6: ณ 31 ก.ค. 64
A7: 1 | B7: 01.03.2020 | C7: 100000000838 | D7: 0 | E7: เครื่องชั่งขนาด 50 ตัน | F7: 1 เครื่อง | G7: 1296000 | H7: 1296000 | I7: -1295999 | J7: 1
L8: =SUM(H7:H7) -> 1296000
A9: 2552 - 2.โครงการผลิตปาล์มน้ำมันจังหวัดพังงา กิจกรรม ส่งเสริมการเลี้ยงสัตว์ในสวนปาล์มน้ำมัน หน่วยดำเนินการ สนง.ปศุสัตว์ จ.พังงา
A10: ลำดับ | B10: วันที่ได้มา | C10: รหัสสินทรัพย์ใน | E10: ชื่อและรายละเอียดสินทรัพย์ | F10: จำนวน | G10: ราคาต่อหน่วย | H10: มูลค่าทรัพย์สิน | I10: ค่าเสื่อมราคาสะสม | J10: ราคาตามบัญชี | K10: หน่วยงานผู้รับโอน
A11: ที่ | C11: ระบบ GFMIS | I11: ณ 31 ก.ค. 64
A12: 1 | B12: 01.03.2020 | C12: 100000000834 | D12: 0 | E12: เครื่องย่อยพืชสด | F12: 4 เครื่อง | G12: =+H12/4 -> 116000 | H12: 464000 | I12: -463999 | J12: 1
L13: =SUM(H12:H12) -> 464000
A14: 2552 - 3. โครงการพัฒนาเกษตรอินทรีย์ กิจกรรม จัดคลีนิคดินเคลื่อนที่ หน่วยดำเนินการ สนง.เกษตร จ.พังงา
A15: ลำดับ | B15: วันที่ได้มา | C15: รหัสสินทรัพย์ใน | E15: ชื่อและรายละเอียดสินทรัพย์ | F15: จำนวน | G15: ราคาต่อหน่วย | H15: มูลค่าทรัพย์สิน | I15: ค่าเสื่อมราคาสะสม | J15: ราคาตามบัญชี | K15: หน่วยงานผู้รับโอน
A16: ที่ | C16: ระบบ GFMIS | I16: ณ 30 ก.ย. 64
A17: 1 | B17: 10.03.2009 | C17: 100000000002 | D17: 0 | E17: รถยนต์ตู้ ยี่ห้อ TOYOTA | F17: 1 คัน | G17: 1290000 | H17: 1290000 | I17: -1289999 | J17: 1
A18: 2 | B18: 01.03.2020 | C18: 100000000833 | D18: 0 | E18: เครื่องมือวิเคราะห์ดินพร้อมคอมพิวเตอร์ | F18: 1 ชุด | G18: 657000 | H18: 657000 | I18: -656999 | J18: 1
A19: 3 | B19: 01.03.2020 | C19: 100000000836 | D19: 0 | E19: ถังน้ำกลั่นขนาด 50 ลิตร | F19: 1 ถัง | G19: 6800 | H19: 6800 | I19: -6799 | J19: 1
A20: 4 | B20: 01.03.2020 | C20: 100000000837 | D20: 0 | E20: อ่างไฟเบอร์กลาส | F20: 1 ชุด | G20: 19800 | H20: 19800 | I20: -19799 | J20: 1
A21: 5 | B21: 01.03.2020 | C21: 100000000822 | D21: 0 | E21: เครื่องไมโครคอมพิวเตอร์พร้อมอุปกรณ์ | F21: 1 ชุด | G21: 34360 | H21: 34360 | I21: -34359 | J21: 1
A22: 6 | B22: 01.03.2020 | C22: 100000000823 | D22: 0 | E22: เครื่องพิมพ์ Laserjet | F22: 1 เครื่อง | G22: 5190 | H22: 5190 | I22: -5189 | J22: 1
L23: =SUM(H17:H22) -> 2013150
A24: 2552 - 4. โครงการสนับสนุนครัวเรือนยากจนที่มีรายได้ต่ำกว่าเกณฑ์ จปฏ. หน่วยดำเนินการ สนง.พัฒนาชุมชน จ.พังงา
A25: ลำดับ | B25: วันที่ได้มา | C25: รหัสสินทรัพย์ใน | E25: ชื่อและรายละเอียดสินทรัพย์ | F25: จำนวน | G25: ราคาต่อหน่วย | H25: มูลค่าทรัพย์สิน | I25: ค่าเสื่อมราคาสะสม | J25: ราคาตามบัญชี | K25: หน่วยงานผู้รับโอน
A26: ที่ | C26: ระบบ GFMIS | I26: ณ 30 ก.ย. 64
A27: 1 | B27: 27.11.2009 | C27: 100000000045 | D27: 0 | E27: เรือไม้ขนาด 1.5*8 ม. | F27: 2 ลำ | G27: 40000 | H27: 80000 | I27: -79999 | J27: 1
A28: 2 | B28: 27.11.2009 | C28: 100000000046 | D28: 0 | E28: เรือไฟเบอร์คลาสขนาด 1.10*4.90 ม. | F28: 1 ลำ | G28: 30000 | H28: 30000 | I28: -29999 | J28: 1
A29: 3 | B29: 27.11.2009 | C29: 100000000047 | D29: 0 | E29: เรือไม้ขนาด 1*5 ม. | F29: 4 ลำ | G29: =+H29/4 -> 10500 | H29: 42000 | I29: -41999 | J29: 1
A30: 4 | B30: 27.11.2009 | C30: 100000000048 | D30: 0 | E30: เครื่องเรือเบนซินไม่น้อยกว่า 389 ซีซี | F30: 4 เครื่อง | G30: =+H30/4 -> 18500 | H30: 74000 | I30: -73999 | J30: 1
A31: 5 | B31: 27.11.2009 | C31: 100000000049 | D31: 0 | E31: เครื่องเรือเบนซินขนาด 5.5 แรงม้า | F31: 4 เครื่อง | G31: 10000 | H31: 40000 | I31: -39999 | J31: 1
A32: 6 | B32: 27.11.2009 | C32: 100000000050 | D32: 0 | E32: เครื่องยนต์ดีเซลขนาด 85 แรงม้า-สนง.พัฒนาชุมชน | F32: 2 เครื่อง | G32: 5000 | H32: 10000 | I32: -9999 | J32: 1
A33: 7 | B33: 01.03.2020 | C33: 100000000808 | E33: เครื่องเชื่อมไฟฟ้าขนาด 300 แอมป์ | F33: 1 เครื่อง | G33: 13000 | H33: 13000 | I33: -12999 | J33: 1
A34: 8 | B34: 01.03.2020 | C34: 100000000809 | D34: 0 | E34: จักรเย็บผ้าไฟฟ้าชนิดตั้งโต๊ะ | F34: 1 หลัง | G34: 10000 | H34: 10000 | I34: -9999 | J34: 1
A35: 9 | B35: 01.03.2020 | C35: 100000000810 | D35: 0 | E35: จักรโพ้ง (จักรพันริม) | F35: 1 หลัง | G35: 7500 | H35: 7500 | I35: -7499 | J35: 1
A36: 10 | B36: 01.03.2020 | C36: 100000000811 | D36: 0 | E36: ชุดเขี่ยกุญแจพร้อมอุปกรณ์ | F36: 1 ชุด | G36: 21500 | H36: 21500 | I36: -21499 | J36: 1
A37: 11 | B37: 01.03.2020 | C37: 100000000812 | D37: 0 | E37: เครื่องซักผ้าขนาด 15 กก. | F37: 2 เครื่อง | G37: 20000 | H37: 40000 | I37: -39999 | J37: 1
A38: 12 | B38: 01.03.2020 | C38: 100000000813 | D38: 0 | E38: เตาแก๊ส ชนิด 2 หัวเตา | F38: 3 ชุด | G38: 3000 | H38: 9000 | I38: -8999 | J38: 1
A39: 13 | B39: 01.03.2020 | C39: 100000000814 | D39: 0 | E39: ตู้แช่แข็งฝาทึบพร้อมเครื่องกันไฟตกตัด | F39: 1 ตู้ | G39: 11000 | H39: 11000 | I39: -10999 | J39: 1
A40: 14 | B40: 01.03.2020 | C40: 100000000815 | D40: 0 | E40: เตาอบแก๊ส 7 หัว มีถาดได้ไม่น้อยกว่า 2 ชั้น | F40: 1 เครื่อง | G40: 8000 | H40: 8000 | I40: -7999 | J40: 1
...

Sheet บัญชีสิ่งก่อสร้าง กย64
A1: บัญชีสินทรัพย์ (ที่ดินและสิ่งก่อสร้าง)
A2: กรมจังหวัดพังงา
A3: ประจำปีงบประมาณ 2552
A4: 2552-1 โครงการผลิดปาล์มน้ำมันจังหวัดพังงา กิจกรรมสร้างศูนย์รวบรวมผลผลิตปาล์มน้ำมัน (ลานเท) 2 ลาน หน่วยดำเนินการ สำนักงานเกษตร จ.พังงา
A5: ลำดับ | B5: รหัสสินทรัพย์ใน | C5: สท.หลัก | D5: วันที่ได้มา | E5: ชื่อและรายละเอียดสินทรัพย์ | F5: มูลค่าทรัพย์สิน | G5: ค่าเสื่อมราคาสะสม | H5: ราคาตามบัญชี | I5: หน่วยงานผู้รับโอน
A6: ที่ | B6: ระบบ GFMIS | C6: สท.ย่อย | G6: ณ 30 ก.ย.64
B7: 100000000520 | C7: 0 | D7: 01.09.2017 | E7: อาคารสำนักงานลานเทปาล์มน้ำมันพร้อมอุปกรณ์ อ.เมือง,อ.ตะกั่วป่า-สนง.เกษตร | F7: 1706666.7 | G7: -870867.58 | H7: 835799.09
B8: 100000000520 | C8: 1 | D8: 01.09.2017 | E8: อาคารสำนักงานลานเทปาล์มน้ำมันพร้อมอุปกรณ์ อ.เมือง,อ.ตะกั่วป่า-สนง.เกษตร | F8: 1493333.3 | G8: -1493332.3 | H8: 1
A9: 1 | B9: 100000000520 | C9: 0 | D9: 01.09.2017 | E9: อาคารสำนักงานลานเทปาล์มน้ำมันพร้อมอุปกรณ์ อ.เมือง,อ.ตะกั่วป่า | F9: =SUM(F7:F8) -> 3200000 | G9: =SUM(G7:G8) -> -2364199.9 | H9: =SUM(H7:H8) -> 835800.09
A11: 2552-2 โครงการผลิดปาล์มน้ำมันจังหวัดพังงา กิจกรรมแปลงเพาะกล้าปาล์มน้ำมันพันธุ์ดี 1 แปลง หน่วยดำเนินการ สำนักงานสหกรณ์ จ.พังงา
A12: ลำดับ | B12: รหัสสินทรัพย์ใน | C12: สท.หลัก | D12: วันที่ได้มา | E12: ชื่อและรายละเอียดสินทรัพย์ | F12: มูลค่าทรัพย์สิน | G12: ค่าเสื่อมราคาสะสม | H12: ราคาตามบัญชี | I12: หน่วยงานผู้รับโอน
A13: ที่ | B13: ระบบ GFMIS | C13: สท.ย่อย | G13: ณ 30 ก.ย.64
A14: 1 | B14: 100000000024 | C14: 0 | D14: 26.08.2009 | E14: โรงเพาะชำกล้าปาล์ม | F14: 1290000 | G14: -1040482.2 | H14: 249517.85
A15: 2 | B15: 100000000026 | C15: 0 | D15: 09.07.2009 | E15: โรงเพาะชำกล้าปาล์ม | F15: 232000 | G15: -189159.37 | H15: 42840.63
A17: 2552-3 โครงการผลิดปาล์มน้ำมันจังหวัดพังงา กิจกรรมขยายพื้นที่ปลูกปาล์มน้ำมันในเขตชลประทาน 1000 ไร่ หน่วยดำเนินการ โครงการชลประทานจังหวัดพังงา
A18: ลำดับ | B18: รหัสสินทรัพย์ใน | C18: สท.หลัก | D18: วันที่ได้มา | E18: ชื่อและรายละเอียดสินทรัพย์ | F18: มูลค่าทรัพย์สิน | G18: ค่าเสื่อมราคาสะสม | H18: ราคาตามบัญชี | I18: หน่วยงานผู้รับโอน
A19: ที่ | B19: ระบบ GFMIS | C19: สท.ย่อย | G19: ณ 30 ก.ย.64
B20: 100000000667 | C20: 0 | D20: 01.03.2019 | E20: ก่อสร้างระบบส่งน้ำโดยระบบท่อ- โครงการชลประทาน พง. | F20: 498674.47 | G20: -234436.61 | H20: 264237.86
B21: 100000000667 | C21: 1 | D21: 01.03.2019 | E21: ก่อสร้างระบบส่งน้ำโดยระบบท่อ- โครงการชลประทาน พง. | F21: 852262.07 | G21: -852261.07 | H21: 1
A22: 1 | B22: 100000000667 | C22: 0 | D22: 01.03.2019 | E22: ก่อสร้างระบบส่งน้ำโดยระบบท่อ | F22: =SUM(F20:F21) -> 1350936.5 | G22: =SUM(G20:G21) -> -1086697.7 | H22: =SUM(H20:H21) -> 264238.86
A24: 2552-4 โครงการโครงการเพิ่มประสิทธิภาพการผลิตยางพารา กิจกรรมพัฒนาวิสาหกิจชุมชนยางพารา หน่วยดำเนินการ สำนักงานเกษตร จ.พังงา
A25: ลำดับ | B25: รหัสสินทรัพย์ใน | C25: สท.หลัก | D25: วันที่ได้มา | E25: ชื่อและรายละเอียดสินทรัพย์ | F25: มูลค่าทรัพย์สิน | G25: ค่าเสื่อมราคาสะสม | H25: ราคาตามบัญชี | I25: หน่วยงานผู้รับโอน
A26: ที่ | B26: ระบบ GFMIS | C26: สท.ย่อย | G26: ณ 30 ก.ย.64
A27: 1 | B27: 100000000023 | C27: 0 | D27: 14.07.2009 | E27: อาคารศูนย์รวบรวมน้ำยางสด | F27: 1000000 | G27: -814429.17 | H27: 185570.83
A29: 2552-5 โครงการสร้างโรงเก็บเรือยนต์เร็วตรวจการ หน่วยดำเนินการ ที่ทำการปกครอง อ.คุระบุรี
A30: ลำดับ | B30: รหัสสินทรัพย์ใน | C30: สท.หลัก | D30: วันที่ได้มา | E30: ชื่อและรายละเอียดสินทรัพย์ | F30: มูลค่าทรัพย์สิน | G30: ค่าเสื่อมราคาสะสม | H30: ราคาตามบัญชี | I30: หน่วยงานผู้รับโอน
A31: ที่ | B31: ระบบ GFMIS | C31: สท.ย่อย | G31: ณ 30 ก.ย.64
A32: 1 | B32: 100000000022 | C32: 0 | D32: 21.08.2009 | E32: โรงเก็บเรือยนต์เร็วตรวจการณ์ อ.คุระบุรี | F32: 69551 | G32: -56161.66 | H32: 13389.34
A34: 2552-6 โครงการอนุรักษ์และพัฒนาแหล่งท่องเที่ยวทางวัฒนธรรมตามเส้นทางแม่น้ำตะกั่วป่า กิจกรรมอนุรักษ์และพัฒนาแหล่งโบราณคดีทุ่งตึก ต.เกาะคอเขา หน่วยดำเนินการ สนง.วัฒนธรรม จ.พังงา
A35: ลำดับ | B35: รหัสสินทรัพย์ใน | C35: สท.หลัก | D35: วันที่ได้มา | E35: ชื่อและรายละเอียดสินทรัพย์ | F35: มูลค่าทรัพย์สิน | G35: ค่าเสื่อมราคาสะสม | H35: ราคาตามบัญชี | I35: หน่วยงานผู้รับโอน
A36: ที่ | B36: ระบบ GFMIS | C36: สท.ย่อย | G36: ณ 30 ก.ย.64
B37: 100000000640 | C37: 0 | D37: 01.03.2019 | E37: อาคารศูนย์ข้อมูลบริการพิพิธภัณฑ์เอเชีย-วัฒนธรรม | F37: 1304109.6 | G37: -518786.11 | H37: 785323.48
B38: 100000000640 | C38: 1 | D38: 01.03.2019 | E38: อาคารศูนย์ข้อมูลบริการพิพิธภัณฑ์เอเชีย-วัฒนธรรม | F38: 1695890.4 | G38: -1695889.4 | H38: 1 | J38: =SUM(F37:F37) -> 1304109.6
B39: 100000000640 | C39: 0 | D39: 01.03.2019 | E39: อาคารศูนย์ข้อมูลบริการพิพิธภัณฑ์เอเชีย | F39: =SUM(F37:F38) -> 3000000 | G39: =SUM(G37:G38) -> -2214675.5 | H39: =SUM(H37:H38) -> 785324.48
A41: 2552-7 โครงการชาวพังงารักษ์ป่าคุ้มครองสิ่งแวดล้อม กิจกรรมเพราะชำกล้าไม้เพื่อเพิ่มพื้นที่สีเขียวจังหวัดพังงา สำนักงานทรัพยากรธรรมชาติและสิ่งแวดล้อม จ.พังงา
A42: ลำดับ | B42: รหัสสินทรัพย์ใน | C42: สท.หลัก | D42: วันที่ได้มา | E42: ชื่อและรายละเอียดสินทรัพย์ | F42: มูลค่าทรัพย์สิน | G42: ค่าเสื่อมราคาสะสม | H42: ราคาตามบัญชี | I42: หน่วยงานผู้รับโอน
A43: ที่ | B43: ระบบ GFMIS | C43: สท.ย่อย | G43: ณ 30 ก.ย.64
A44: 1 | B44: 100000000025 | C44: 0 | D44: 17.02.2009 | E44: โรงเพาะชำกล้าไม้ | F44: 45715.75 | G44: -38459.63 | H44: 7256.12
A46: 2552-8 โครงการการรักษาทรัพยากรธรรมชาติและสิ่งแวดล้อม หน่วยดำเนินการ สำนักงาน โยธาธิการและผังเมือง จ.พังงา
A47: ลำดับ | B47: รหัสสินทรัพย์ใน | C47: สท.หลัก | D47: วันที่ได้มา | E47: ชื่อและรายละเอียดสินทรัพย์ | F47: มูลค่าทรัพย์สิน | G47: ค่าเสื่อมราคาสะสม | H47: ราคาตามบัญชี | I47: หน่วยงานผู้รับโอน
...

Sheet กลุ่มจังหวัด
A1: บัญชีสินทรัพย์ (ที่ดินและสิ่งก่อสร้าง)
A2: งบกลุ่มจังหวัด
A3: ประจำปีงบประมาณ 2553
A4: ไทยเข้มแข็ง 2553 -โครงการศึกษาและดำเนินการสร้างมูลค่าเพิ่มจากการท่องเที่ยวเชิงนิเวศน์ของกลุ่มจังหวัด หน่วยดำเนินการ สำนักงานโยธาธิการและผังเมือง จ.พังงา
A5: ลำดับ | B5: รหัสสินทรัพย์ใน | C5: สท.หลัก | D5: วันที่ได้มา | E5: ชื่อและรายละเอียดสินทรัพย์ | F5: มูลค่าทรัพย์สิน | G5: ค่าเสื่อมราคาสะสม | H5: ราคาตามบัญชี | I5: หน่วยงานผู้รับโอน
A6: ที่ | B6: ระบบ GFMIS | C6: สท.ย่อย | G6: ณ 30 ก.ย.64
B7: 100000000649 | C7: 0 | D7: 01.03.2019 | E7: อาคารศูนย์กลางการท่องเที่ยวเชิงนิเวศน์-โยธา | F7: 3387861.4 | G7: -982531.83 | H7: 2405329.5
B8: 100000000649 | C8: 1 | D8: 01.03.2019 | E8: อาคารศูนย์กลางการท่องเที่ยวเชิงนิเวศน์-โยธา | F8: 2321138.6 | G8: -2321137.6 | H8: 1
A9: 1 | B9: 100000000649 | C9: 0 | D9: 01.03.2019 | E9: อาคารศูนย์กลางการท่องเที่ยวเชิงนิเวศน์ | F9: =SUM(F7:F8) -> 5709000 | G9: =SUM(G7:G8) -> -3303669.5 | H9: =SUM(H7:H8) -> 2405330.5
A11: ไทยเข้มแข็ง 2553 - โครงการก่อสร้างอาคารหอช่วยเหลือผู้ประสบภัยสึนามิจังหวัดพังงา หน่วยดำเนินการ สนง.ป้องกันและบรรเทาสาธารณภัยจังหวัดพังงา
A12: ลำดับ | B12: รหัสสินทรัพย์ใน | C12: สท.หลัก | D12: วันที่ได้มา | E12: ชื่อและรายละเอียดสินทรัพย์ | F12: มูลค่าทรัพย์สิน | G12: ค่าเสื่อมราคาสะสม | H12: ราคาตามบัญชี | I12: หน่วยงานผู้รับโอน
A13: ที่ | B13: ระบบ GFMIS | C13: สท.ย่อย | G13: ณ 30 ก.ย.64
B14: 100000000644 | C14: 0 | D14: 01.03.2019 | E14: อาคารหอช่วยเหลือผู้ประสบภัยสึนามิ-ปพ. | F14: 4815318.2 | G14: -1698042.7 | H14: 3117275.5
B15: 100000000644 | C15: 1 | D15: 01.03.2019 | E15: อาคารหอช่วยเหลือผู้ประสบภัยสึนามิ-ปพ. | F15: 4999971.1 | G15: -4999970.1 | H15: 1
A16: 1 | B16: 100000000644 | C16: 0 | D16: 01.03.2019 | E16: อาคารหอช่วยเหลือผู้ประสบภัยสึนามิ | F16: =SUM(F14:F15) -> 9815289.3 | G16: =SUM(G14:G15) -> -6698012.9 | H16: =SUM(H14:H15) -> 3117276.5
A18: บัญชีสินทรัพย์ (ที่ดินและสิ่งก่อสร้าง)
A19: งบกลุ่มจังหวัด
A20: ประจำปีงบประมาณ 2562
A21: โครงการแหล่งเรียนรู้ประมงเพื่อการท่องเที่ยว หน่วยดำเนินการ ศูนย์วิจัยและพัฒนาการเพาะเลี้ยงสัตว์น้ำชายฝั่งพังงา
A22: ลำดับ | B22: รหัสสินทรัพย์ใน | C22: สท.หลัก | D22: วันที่ได้มา | E22: ชื่อและรายละเอียดสินทรัพย์ | F22: มูลค่าทรัพย์สิน | G22: ค่าเสื่อมราคาสะสม | H22: ราคาตามบัญชี | I22: หน่วยงานผู้รับโอน
A23: ที่ | B23: ระบบ GFMIS | C23: สท.ย่อย | G23: ณ 30 ก.ย.64
A24: 1 | B24: 100000000801 | C24: 0 | D24: 03.02.2020 | E24: บ่อคอนกรีตพร้อมหลังคาคลุม | F24: 878000 | G24: -72810.93 | H24: 805189.07
A27: บัญชีสินทรัพย์ (ที่ดินและสิ่งก่อสร้าง)
A28: งบกลุ่มจังหวัด
A29: ประจำปีงบประมาณ 2564
A30: โครงการยกระดับและพัฒนาด้านการท่องเที่ยวคุณภาพสูงฝั่งอันดามัน (Premium Tourism Andaman) พัฒนาแหล่งท่องเที่ยวเขาหลัก (หนองมูลตะกั่ว) หน่วยดำเนินการ สำนักงานโยธาธิการและผังเมือง จ.พังงา
A31: ลำดับ | B31: รหัสสินทรัพย์ใน | C31: สท.หลัก | D31: วันที่ได้มา | E31: ชื่อและรายละเอียดสินทรัพย์ | F31: มูลค่าทรัพย์สิน | G31: ค่าเสื่อมราคาสะสม | H31: ราคาตามบัญชี | I31: หน่วยงานผู้รับโอน
A32: ที่ | B32: ระบบ GFMIS | C32: สท.ย่อย | G32: ณ 30 ก.ย.64
A33: 1 | B33: 100000001696 | C33: 0 | D33: 21.06.2021 | E33: เขื่อนป้องกันตลิ่ง ต.คึกคัก อ.ตะกั่วป่า จ.พังงา | F33: 4530000 | G33: -63295.89 | H33: 4466704.1

Sheet สิ่งก่อสร้าง ที่จะโอน (2)
B1: รายการที่ดินและสิ่งก่อสร้างคงค้างที่ประสงค์จะโอน
A3: รายการ | B3: หมวดสินทรัพย์ | C3: รายการสินทรัพย์ | D3: วันที่บันทึก | E3: มูลค่าสินทรัพย์ | F3: ปีงบประมาณ | G3: โครงการ
B4: ปี 2009 (พ.ศ.2552)
A5: 1 | B5: อาคารเพื่อประโยชน์อื่น | C5: อาคารศูนย์รวบรวมน้ำยางสด-สนง.เกษตร | D5: 14.07.2009 | E5: 1000000 | F5: 2552 | G5: โครงการเพิ่มประสิทธิภาพการผลิตยางพารา กิจกรรมพัฒนาวิสาหกิจชุมชนยางพารา | H5: สนง.เกษตร จ.พังงา
A6: 2 | B6: สิ่งปลูกสร้าง | C6: โรงเก็บเรือยนต์เร็วตรวจการณ์ อ.คุระบุรี | D6: 21.08.2009 | E6: 69551 | F6: เหลือจ่าย 2552 | G6: โครงการสร้างโรงเก็บเรือยนต์เร็วตรวจการ | H6: อ.คุระบุรี
A7: 3 | B7: สิ่งปลูกสร้าง | C7: โรงเพาะชำกล้าปาล์ม-สนง.สหกรณ์ | D7: 26.08.2009 | E7: 1290000 | F7: 2552 | G7: โครงการผลิดปาล์มน้ำมันจังหวัดพังงา กิจกรรมแปลงเพาะกล้าปาล์มน้ำมันพันธุ์ดี 1 แปลง | H7: สำนักงานสหกรณ์จังหวัดพังงา
A8: 4 | B8: สิ่งปลูกสร้าง | C8: โรงเพาะชำกล้าปาล์ม-สนง.สหกรณ์ | D8: 09.07.2009 | E8: 232000 | F8: 2552 | G8: โครงการผลิดปาล์มน้ำมันจังหวัดพังงา กิจกรรมแปลงเพาะกล้าปาล์มน้ำมันพันธุ์ดี 1 แปลง | H8: สำนักงานสหกรณ์จังหวัดพังงา
A9: 5 | B9: สิ่งปลูกสร้าง | C9: โรงเพาะชำกล้าไม้-สนง.ทสจ. | D9: 17.02.2009 | E9: 45715.75 | F9: 2552 | G9: โครงการชาวพังงารักษ์ป่าคุ้มครองสิ่งแวดล้อม กิจกรรมเพราะชำกล้าไม้เพื่อเพิ่มพื้นที่สีเขียวจังหวัดพังงา | H9: สนง.ทรัพยากรธรรมชาติและสิ่งแวดล้อม จ.พังงา
C10: รวม 4 โครงการ | E10: =SUM(E5:E9) -> 2637266.8
B11: ปี 2010 (พ.ศ.2553)
A12: 1 | B12: สิ่งปลูกสร้าง | C12: เตาเผาขยะ รพ.ท้ายเหมือง-สนง.สาธารณสุข | D12: 08.06.2010 | E12: 997000 | F12: ไทยเข้มแข็ง 2553 | G12: โครงการก่อสร้างเตาเผาขยะติดเชื้อพร้อมโรงเรือน | H12: สนง.สาธารณสุข จ.พังงา
A13: 2 | B13: สิ่งปลูกสร้าง | C13: เตาเผาขยะ รพ.บางไทร-สนง.สาธารณสุข | D13: 08.06.2010 | E13: 997000 | F13: ไทยเข้มแข็ง 2553 | G13: โครงการก่อสร้างเตาเผาขยะติดเชื้อพร้อมโรงเรือน | H13: สนง.สาธารณสุข จ.พังงา
A14: 3 | B14: สิ่งปลูกสร้าง | C14: โรงผลิตปุ๋ยและโกดังเก็บปุ๋ยอินทรีย์-อ.ท้ายเหมือง | D14: 03.06.2010 | E14: 250000 | F14: 2553 | G14: โครงการส่งเสริมการผลิตสินค้าเกษตรอินทรีย์ | H14: สนง.เกษตร จ.พังงา
C15: รวม 2 โครงการ | E15: =SUM(E12:E14) -> 2244000
B16: ปี 2012 (พ.ศ.2555)
A17: 1 | B17: สิ่งปลูกสร้าง | C17: เสาไฟแสงสว่าง สูง 25 ม. หน้า อ.คุระบุรี-สนง.โยธาฯ | D17: 06.07.2012 | E17: 820000 | F17: 2555 | G17: โครงการปรับปรุงระบบแสงสว่างในแหล่งท่องเที่ยวสำคัญ | H17: สนง.โยธา
A18: 2 | B18: สิ่งปลูกสร้าง | C18: เสาไฟแสงสว่าง สูง 25 ม. ปากทางทับละมุ-สนง.โยธาฯ | D18: 06.07.2012 | E18: 830000 | F18: 2555 | G18: โครงการปรับปรุงระบบแสงสว่างในแหล่งท่องเที่ยวสำคัญ | H18: สนง.โยธา
A19: 3 | B19: สิ่งปลูกสร้าง | C19: เสาไฟแสงสว่าง สูง 25 ม. เกาะกลางทางโค้ง ต.หล่อยูง | D19: 06.07.2012 | E19: 830000 | F19: 2555 | G19: โครงการปรับปรุงระบบแสงสว่างในแหล่งท่องเที่ยวสำคัญ | H19: สนง.โยธา
A20: 4 | B20: สิ่งปลูกสร้าง | C20: เสาไฟแสงสว่าง สูง 25 ม. ตรงข้ามเรือสำเภาวังหม้อแกง | D20: 06.07.2012 | E20: 830000 | F20: 2555 | G20: โครงการปรับปรุงระบบแสงสว่างในแหล่งท่องเที่ยวสำคัญ | H20: สนง.โยธา
A21: 5 | B21: สิ่งปลูกสร้าง | C21: เสาไฟแสงสว่าง สูง 25 ม. ตลาดเก่าโคกกลอย-สนง.โยธาฯ | D21: 06.07.2012 | E21: 830000 | F21: 2555 | G21: โครงการปรับปรุงระบบแสงสว่างในแหล่งท่องเที่ยวสำคัญ | H21: สนง.โยธา
A22: 6 | B22: สิ่งปลูกสร้าง | C22: เสาไฟแสงสว่าง สูง 25 ม. บขส.โคกกลอย-สนง.โยธาฯ | D22: 06.07.2012 | E22: 830000 | F22: 2555 | G22: โครงการปรับปรุงระบบแสงสว่างในแหล่งท่องเที่ยวสำคัญ | H22: สนง.โยธา
A23: 7 | B23: สิ่งปลูกสร้าง | C23: ก่อสร้างห้องน้ำ-ห้องสุขา ของศูนย์เรียนรู้การเกษตร | D23: 18.10.2012 | E23: 432000 | F23: 2555 | G23: โครงการพัฒนาเกษตรกรรมตามแนวเศรษฐกิจพอเพียง กิจกรรมศูนย์เรียนรู้การเกษตรตามแนวเศรษฐกิจพอเพียงจังหวัดพังงา | H23: สนง.เกษตร จ.พังงา
C24: รวม 2 โครงการ | E24: =SUM(E17:E23) -> 5402000
B25: ปี 2013 (พ.ศ.2556)
A26: 1 | B26: สินทรัพย์โครงสร้างพื้นฐาน | C26: ป้ายจราจรและป้ายแนะนำสถานที่ท่องเที่ยว-บำรุงทาง | D26: 04.01.2013 | E26: 1861347 | F26: 2555 | G26: ติดตั้งป้ายแนะนำสถานที่ท่องเที่ยวจังหวัดพังงา | H26: สนง.บำรุงทางพังงา
A27: 2 | B27: สินทรัพย์โครงสร้างพื้นฐาน | C27: ปรับปรุงภูมิทัศน์ศาลเจ้าแม่นางหงส์-บำรุงทาง | D27: 24.01.2013 | E27: 2989321 | F27: 2555 | G27: โครงการพัฒนาแหล่งท่องเที่ยวหลักในพื้นที่จังหวัดพังงา | H27: สนง.บำรุงทางพังงา
A28: 3 | B28: สินทรัพย์โครงสร้างพื้นฐาน | C28: ปรับปรุงภูมิทัศน์แหล่งท่องเที่ยวบ้านสามช่อง-อ.ตะกั่วทุ่ง | D28: 09.01.2013 | E28: 1180000 | F28: เหลือจ่าย 2555 | G28: พัฒนาแหล่งท่องเที่ยวชุมชนบ้านสามช่อง อ.ตะกั่วทุ่ง | H28: อ.ตะกั่วทุ่ง
A29: 4 | B29: สินทรัพย์โครงสร้างพื้นฐาน | C29: ระบบประปาโคกกลอยระยะที่ 2-อ.ตะกั่วทุ่ง | D29: 12.02.2013 | E29: 8950000 | F29: 2555 | G29: โครงการพัฒนาระบบประปาโคกกลอยระยะที่ 2 | H29: อ.ตะกั่วทุ่ง
A30: 5 | B30: สินทรัพย์โครงสร้างพื้นฐาน | C30: พัฒนาภูมิทัศน์พิพิธภัณฑ์กลางแจ้งเรือเกยตื้นฯ-วัฒนธรรม | D30: 26.02.2013 | E30: 1932128.9 | F30: 2555 | G30: โครงการพัฒนาภูมิทัศน์พิพิธภัณฑ์กลางแจ้งเรือเกยตื้นธรณีพิบัติภัยสึนามิ | H30: สนง.วัฒนธรรม จ.พังงา
A31: 6 | B31: สินทรัพย์โครงสร้างพื้นฐาน | C31: เขาตะปูจำลอง-สนง.เกษตร จ.พังงา | D31: 09.05.2013 | E31: 994000 | F31: 2555 | G31: โครงการพัฒนาขีดความสามารถในการแปรรูปผลผลิตทางการเกษตร กิจกรรมก่อสร้างเขาตะปูและปรับปรุงภูมิทัศน์วังหม้อแกง | H31: สนง.เกษตร จ.พังงา
A32: 7 | B32: สินทรัพย์โครงสร้างพื้นฐาน | C32: ปรับปรุงภูมิทัศน์ทางขึ้น-ลง จุดล่องแก่งสองแพรก | D32: 13.06.2013 | E32: 499000 | F32: 2556 | G32: โครงการพัฒนาแหล่งท่องเที่ยวจังหวัดพังงา | H32: อ.เมืองพังงา
A33: 8 | B33: สินทรัพย์โครงสร้างพื้นฐาน | C33: ปรับปรุงภูมิทัศน์และถนนขึ้นจุดชมวิวเขานางหงส์ | D33: 01.08.2013 | E33: 1895000 | F33: เหลือจ่าย 2556 | G33: โครงการปรับปรุงภูมิทัศน์และถนนขึ้นจุดชมวิวเขานางหงส์ | H33: อ.ทับปุด
A34: 9 | B34: สินทรัพย์โครงสร้างพื้นฐาน | C34: พัฒนาแหล่งท่องเที่ยวหนองน้ำค้างคาว-อ.กะปง | D34: 06.08.2013 | E34: 1975000 | F34: เหลือจ่าย 2556 | G34: โครงการพัฒนาแหล่งท่องเที่ยวหนองน้ำค้างคาว | H34: อ.กะปง
A35: 10 | B35: สินทรัพย์โครงสร้างพื้นฐาน | C35: ปรับปรุงภูมิทัศน์แหล่งท่องเที่ยวน้ำตกวัดเขา-อ.ตะกั่วป่า | D35: 06.08.2013 | E35: 1975000 | F35: 2556 | G35: โครงการพัฒนาแหล่งท่องเที่ยวจังหวัดพังงา | H35: อ.ตะกั่วทุ่ง
A36: 11 | B36: สินทรัพย์โครงสร้างพื้นฐาน | C36: ปรับปรุงทางระบายน้ำแหล่งท่องเที่ยวเรือ ต.813-อ.ตะกั่วป่า | D36: 02.08.2013 | E36: 1500000 | F36: เหลือจ่าย 2556 | G36: โครงการปรับปรุงทางระบายน้ำแหล่งท่องเที่ยวเรือ ต.813 | H36: อ.ตะกั่วป่า
A37: 12 | B37: สินทรัพย์โครงสร้างพื้นฐาน | C37: นิทรรศการถาวรพิพิธภัณฑ์ท้องถิ่นจ.พังงา-วัฒนธรรม | D37: 02.08.2013 | E37: 1965000 | F37: 2556 | G37: โครงการพังงาน่าอยู่คู่วิถีชีวิตวัฒนธรรมสร้างสรรค์จริยธรรมและเศรษฐกิจประชาชน | H37: สนง.วัฒนธรรม จ.พังงา
A38: 13 | B38: สินทรัพย์โครงสร้างพื้นฐาน | C38: ปรับปรุงภูมิทัศน์แหล่งท่องเที่ยวหานป่าสะตอ-อ.ตะกั่วป่า | D38: 10.09.2013 | E38: 1184600 | F38: 2556 | G38: โครงการพัฒนาแหล่งท่องเที่ยวจังหวัดพังงา | H38: อ.ตะกั่วทุ่ง
A39: 14 | B39: สินทรัพย์โครงสร้างพื้นฐาน | C39: พัฒนาแหล่งน้ำหานบัว-อ.ตะกั่วทุ่ง | D39: 11.09.2013 | E39: 1970000 | F39: 2556 | G39: โครงการพัฒนาแหล่งน้ำหานบัว ตำบลโคกกลอย เพื่อการท่องเที่ยวเชิงนิเวศ | H39: อ.ตะกั่วทุ่ง
A40: 15 | B40: สินทรัพย์โครงสร้างพื้นฐาน | C40: ปรับปรุงภูมิทัศน์แหล่งท่องเที่ยวหาดบางสัก-อ.ตะกั่วป่า | D40: 20.09.2013 | E40: 1199100 | F40: เหลือจ่าย 2556 | G40: โครงการปรับปรุงภูมิทัศน์แหล่งท่องเที่ยวหาดบางสักอำเภอตะกั่วป่า | H40: อ.ตะกั่วป่า
A41: 16 | B41: สินทรัพย์โครงสร้างพื้นฐาน | C41: ทางเท้าและคูระบายน้ำตลาดน้ำเค็มวังหม้อแกง-สนจ.พง. | D41: 01.09.2013 | E41: 150000 | F41: เหลือจ่าย 2556 | G41: โครงการบริหารจัดการตลาดน้ำเค็มวังหม้อแกงเมืองพังงา หน่วยดำเนินการ สำนักงานจังหวัดพังงา
...

Sheet ไม่โอน
B1: บัญชีสินทรัพย์ที่จังหวัดบริหารจัดการเอง (ไม่โอน)
A2: ที่ดินสิ่งก่อสร้าง
A3: รายการ | B3: หมวดสินทรัพย์ | C3: รายการสินทรัพย์ | D3: วันที่บันทึก | E3: มูลค่าสินทรัพย์
A4: 1 | B4: สิ่งปลูกสร้าง | C4: โรงจอดรถยนต์ประจำจวน ผวจ. | D4: 17.11.2009 | E4: 350000
A5: 2 | B5: สินทรัพย์พื้นฐานอื่น | C5: ปรับปรุงภูมิทัศน์บ้านพักหัวหน้าสำนักงานจังหวัด | D5: 01.11.2012 | E5: 295000
A6: 3 | B6: ส่วนปรับปรุงอาคาร | C6: ปรับปรุงอาคารจวน ผวจ.พง. หลังเก่า | D6: 25.12.2012 | E6: 320000
A7: 4 | B7: ส่วนปรับปรุงอาคาร | C7: ปรับปรุงบ้านพักผู้ว่าราชการจังหวัดพังงา | D7: 10.05.2019 | E7: 201000
A8: 5 | B8: สินทรัพย์โครงสร้างพื้นฐาน | C8: ปรับปรุงภูมิทัศน์หน้าศาลากลางจังหวัดพังงาหลังเก่า | D8: 01.03.2019 | E8: 1700000
A9: 6 | B9: สินทรัพย์โครงสร้างพื้นฐาน | C9: ปรับปรุงภูมิทัศน์บริเวณศูนย์ราชการ จ.พังงา | D9: 05.06.2019 | E9: 34500000
A10: 7 | B10: สิ่งปลูกสร้าง | C10: ก่อสร้างรางระบายน้ำ คสล.พร้อมบ่อพัก-สนจ.พง. | D10: 01.03.2019 | E10: 125000
C11: รวม | E11: =SUM(E4:E10) -> 37491000 | H11: 0
A12: ครุภัณฑ์
A13: รายการ | B13: ประเภทสินทรัพย์ | C13: รายการสินทรัพย์ | D13: วันที่บันทึก | E13: มูลค่าสินทรัพย์
B14: ปี 2009 (พ.ศ.2552)
A15: 1 | B15: ครุภัณฑ์ยานพาหนะ | C15: รถยนต์ตู้ ยี่ห้อ TOYOTA-สนจ.พง. | D15: 14.09.2009 | E15: 1210000
A16: 2 | B16: ครุภัณฑ์โฆษณา | C16: กล้อง Syber-shot Sony รุ่น DSC-HX1 สนจ.พง. | D16: 28.09.2009 | E16: 19990
C17: รวม | E17: =SUM(E15:E16) -> 1229990
B18: ปี 2010 (พ.ศ.2553)
A19: 1 | B19: ครุภัณฑ์สำนักงาน | C19: ชั้นวางหนังสือ-สนจ.พง. | D19: 13.09.2010 | E19: 34500
C20: รวม | E20: =+E19 -> 34500
B21: ปี 2011 (พ.ศ.2554)
A22: 1 | B22: ครุภัณฑ์สำนักงาน | C22: ตู้เหล็กบานเลื่อนทรงสูง 4 ฟุต - สนง.จ.พังงา | D22: 10.11.2011 | E22: 27600
C23: รวม | E23: =SUM(E22) -> 27600
B24: ปี 2012 (พ.ศ.2555)
A25: 1 | B25: ครุภัณฑ์คอมพิวเตอร์ | C25: เครื่องพิมพ์ Printer Inkjet รุ่น EPSON STYLUS T60 | D25: 25.06.2012 | E25: 6000
A26: 2 | B26: ครุภัณฑ์คอมพิวเตอร์ | C26: เครื่องพิมพ์เลเซอร์ LED ขาวดำ Brother HL-2240D-ยธ | D26: 21.09.2012 | E26: 8400
C27: รวม | E27: =SUM(E25:E26) -> 14400
B28: ปี 2013 (พ.ศ.2556)
A29: 1 | B29: ครุภัณฑ์สำนักงาน | C29: ตู้ลอยติดผนังห้องปฏิบัิติการ-สนจ.พง. | D29: 08.01.2013 | E29: 76000
A30: 2 | B30: ครุภัณฑ์สำนักงาน | C30: โต๊ะประชุมขนาด 120*2.1 - สนจ.พง. | D30: 28.01.2013 | E30: 7900
A31: 3 | B31: ครุภัณฑ์คอมพิวเตอร์ | C31: Tablet (7.9") Mini Ipad wifi 4G 32GB-สนจ.พง. | D31: 21.06.2013 | E31: 99500
A32: 4 | B32: ครุภัณฑ์คอมพิวเตอร์ | C32: คอมพิวเตอร์ LENOVO ThinkCentre E72z-สนจ.พง. | D32: 21.06.2013 | E32: 52500
C33: รวม | E33: =SUM(E29:E32) -> 235900
B34: ปี 2014 (พ.ศ.2557)
A35: 1 | B35: ครุภัณฑ์โฆษณา | C35: ไมโครโฟน ทีวี โต๊ะ เก้าอี้ ชั้นวาง เคาท์เตอร์. | D35: 01.03.2014 | E35: 225900
A36: 2 | B36: ครุภัณฑ์โฆษณา | C36: Smart LED TV 55 นิ้ว-สนง.จ.พังงา | D36: 28.05.2014 | E36: 130000
A37: 3 | B37: ครุภัณฑ์คอมพิวเตอร์ | C37: คอมพิวเตอร์ตั้งโต๊ะ ยี่ห้อ LENOVO สีขาว-สนจ.พง. | D37: 28.03.2014 | E37: 60000
A38: 4 | B38: ครุภัณฑ์คอมพิวเตอร์ | C38: Notebook พร้อมโปรแกรมจัดการภาพเคลื่อนไหว-สนจ.พง. | D38: 28.05.2014 | E38: 81000
A39: 5 | B39: ครุภัณฑ์คอมพิวเตอร์ | C39: คอมพิวเตอร์ LENOVO พร้อมเครื่องพิมพ์-ศูนย์ดำรงธรรม | D39: 23.09.2014 | E39: 18590
A40: 6 | B40: ครุภัณฑ์คอมพิวเตอร์ | C40: Notebook ASUS X550DP-XX075D-สนจ.พง. | D40: 26.09.2014 | E40: 25000
...

Sheet สิ่งก่อสร้าง ที่จะโอน
B1: รายการที่ดินและสิ่งก่อสร้างคงค้างที่ประสงค์จะโอน
A3: รายการ | B3: หมวดสินทรัพย์ | C3: รายการสินทรัพย์ | D3: วันที่บันทึก | E3: มูลค่าสินทรัพย์
B4: ปี 2009 (พ.ศ.2552)
A5: 1 | B5: อาคารเพื่อประโยชน์อื่น | C5: อาคารศูนย์รวบรวมน้ำยางสด-สนง.เกษตร | D5: 14.07.2009 | E5: 1000000
A6: 2 | B6: สิ่งปลูกสร้าง | C6: โรงเก็บเรือยนต์เร็วตรวจการณ์ อ.คุระบุรี | D6: 21.08.2009 | E6: 69551
A7: 3 | B7: สิ่งปลูกสร้าง | C7: โรงเพาะชำกล้าปาล์ม-สนง.สหกรณ์ | D7: 26.08.2009 | E7: 1290000
A8: 4 | B8: สิ่งปลูกสร้าง | C8: โรงเพาะชำกล้าไม้-สนง.ทสจ. | D8: 17.02.2009 | E8: 45715.75
A9: 5 | B9: สิ่งปลูกสร้าง | C9: โรงเพาะชำกล้าปาล์ม-สนง.สหกรณ์ | D9: 09.07.2009 | E9: 232000
C10: รวม | E10: =SUM(E5:E9) -> 2637266.8
B11: ปี 2010 (พ.ศ.2553)
A12: 1 | B12: สิ่งปลูกสร้าง | C12: เตาเผาขยะ รพ.ท้ายเหมือง-สนง.สาธารณสุข | D12: 08.06.2010 | E12: 997000
A13: 2 | B13: สิ่งปลูกสร้าง | C13: เตาเผาขยะ รพ.บางไทร-สนง.สาธารณสุข | D13: 08.06.2010 | E13: 997000
A14: 3 | B14: สิ่งปลูกสร้าง | C14: โรงผลิตปุ๋ยและโกดังเก็บปุ๋ยอินทรีย์-อ.ท้ายเหมือง | D14: 03.06.2010 | E14: 250000
C15: รวม | E15: =SUM(E12:E14) -> 2244000
B16: ปี 2012 (พ.ศ.2555)
A17: 1 | B17: สิ่งปลูกสร้าง | C17: เสาไฟแสงสว่าง สูง 25 ม. หน้า อ.คุระบุรี-สนง.โยธาฯ | D17: 06.07.2012 | E17: 820000
A18: 2 | B18: สิ่งปลูกสร้าง | C18: เสาไฟแสงสว่าง สูง 25 ม. ปากทางทับละมุ-สนง.โยธาฯ | D18: 06.07.2012 | E18: 830000
A19: 3 | B19: สิ่งปลูกสร้าง | C19: เสาไฟแสงสว่าง สูง 25 ม. เกาะกลางทางโค้ง ต.หล่อยูง | D19: 06.07.2012 | E19: 830000
A20: 4 | B20: สิ่งปลูกสร้าง | C20: เสาไฟแสงสว่าง สูง 25 ม. ตรงข้ามเรือสำเภาวังหม้อแกง | D20: 06.07.2012 | E20: 830000
A21: 5 | B21: สิ่งปลูกสร้าง | C21: เสาไฟแสงสว่าง สูง 25 ม. ตลาดเก่าโคกกลอย-สนง.โยธาฯ | D21: 06.07.2012 | E21: 830000
A22: 6 | B22: สิ่งปลูกสร้าง | C22: เสาไฟแสงสว่าง สูง 25 ม. บขส.โคกกลอย-สนง.โยธาฯ | D22: 06.07.2012 | E22: 830000
A23: 7 | B23: สิ่งปลูกสร้าง | C23: ก่อสร้างห้องน้ำ-ห้องสุขา ของศูนย์เรียนรู้การเกษตร | D23: 18.10.2012 | E23: 432000
C24: รวม | E24: =SUM(E17:E23) -> 5402000
B25: ปี 2013 (พ.ศ.2556)
A26: 1 | B26: สินทรัพย์โครงสร้างพื้นฐาน | C26: ป้ายจราจรและป้ายแนะนำสถานที่ท่องเที่ยว-บำรุงทาง | D26: 04.01.2013 | E26: 1861347
A27: 2 | B27: สินทรัพย์โครงสร้างพื้นฐาน | C27: ปรับปรุงภูมิทัศน์ศาลเจ้าแม่นางหงส์-บำรุงทาง | D27: 24.01.2013 | E27: 2989321
A28: 3 | B28: สินทรัพย์โครงสร้างพื้นฐาน | C28: ปรับปรุงภูมิทัศน์แหล่งท่องเที่ยวบ้านสามช่อง-อ.ตะกั | D28: 09.01.2013 | E28: 1180000
A29: 4 | B29: สินทรัพย์โครงสร้างพื้นฐาน | C29: ระบบประปาโคกกลอยระยะที่ 2-อ.ตะกั่วทุ่ง | D29: 12.02.2013 | E29: 8950000
A30: 5 | B30: สินทรัพย์โครงสร้างพื้นฐาน | C30: พัฒนาภูมิทัศน์พิพิธภัณฑ์กลางแจ้งเรือเกยตื้นฯ-วัฒนธ | D30: 26.02.2013 | E30: 1932128.9
A31: 6 | B31: สินทรัพย์โครงสร้างพื้นฐาน | C31: เขาตะปูจำลอง-สนง.เกษตร จ.พังงา | D31: 09.05.2013 | E31: 994000
A32: 7 | B32: สินทรัพย์โครงสร้างพื้นฐาน | C32: ปรับปรุงภูมิทัศน์ทางขึ้น-ลง จุดล่องแก่งสองแพรก | D32: 13.06.2013 | E32: 499000
A33: 8 | B33: สินทรัพย์โครงสร้างพื้นฐาน | C33: ปรับปรุงภูมิทัศน์และถนนขึ้นจุดชมวิวเขานางหงส์ | D33: 01.08.2013 | E33: 1895000
A34: 9 | B34: สินทรัพย์โครงสร้างพื้นฐาน | C34: พัฒนาแหล่งท่องเที่ยวหนองน้ำค้างคาว-อ.กะปง | D34: 06.08.2013 | E34: 1975000
A35: 10 | B35: สินทรัพย์โครงสร้างพื้นฐาน | C35: ปรับปรุงภูมิทัศน์แหล่งท่องเที่ยวน้ำตกวัดเขา-อ.ตะกั | D35: 06.08.2013 | E35: 1975000
A36: 11 | B36: สินทรัพย์โครงสร้างพื้นฐาน | C36: ปรับปรุงทางระบายน้ำแหล่งท่องเที่ยวเรือ ต.813-อ.ตะก | D36: 02.08.2013 | E36: 1500000
A37: 12 | B37: สินทรัพย์โครงสร้างพื้นฐาน | C37: นิทรรศการถาวรพิพิธภัณฑ์ท้องถิ่นจ.พังงา-วัฒนธรรม | D37: 02.08.2013 | E37: 1965000
... A45: 20 | B45: สิ่งปลูกสร้าง | C45: เสาไฟสูงแสงสว่าง 15 ต้น - โยธา | D45: 25.09.2013 | E45: 8800000
C46: รวม | E46: =SUM(E26:E45) -> 51486297
B47: ปี 2014 (พ.ศ.2557)
A48: 1 | B48: สินทรัพย์โครงสร้างพื้นฐาน | C48: ปรับปรุงท่าเทียบเรือบ้านท่าด่าน-สนง.โยธาฯ | D48: 12.03.2014 | E48: 4986000
...

Sheet สะพาน
A1: 22.10.2021 การแสดงรายการไดนามิก 1
A3: 22.10.2021 | D3: ยอดสินทรัพย์คงเหลือ | J3: 1
A5: วันที่รายงาน : | D5: 30.09.2021 | F5: ยอดสินทรัพย์คงเหลือ - 01 คส.ตามบัญชี
A6: สร้างเมื่อ : | D6: 22.10.2021 | K6: 1
A8: รหัสหน่วยงาน | G8: รายการงบดุล | H8: บัญชีงบดุลAPC | I8: หมวดสินทรัพย์
A9: G072 | G9: ?????????? | H9: 1208020101 | I9: 12080200
C11: สินทรัพย์ | E11: Cap.date | F11: คำอธิบายของสินทรัพย์ | G11: มูลค่าการได้มา | H11: ค่าเสื่อมสะสม | I11: มูลค่าตามบัญชี
C13: 100000000449 | E13: 10.10.2016 | F13: สะพานท่าเทียบเรือบ้านสามช่อง-สนจ.พง. | G13: 29900000 | H13: -5950509.6 | I13: 23949490 | J13: 2558 - 1.โครงการพัฒนาแหล่งท่องเที่ยวเชิงนิเวศจังหวัดพังงาสู่สากล กิจกรรม ก่อสร้างสะพานท่าเทียบเรือ พร้อมปรับภูมิทัศน์โดยรอบ พร้อมสิ่งก่อสร้างประกอบ แหล่งท่องเที่ยวบ้านสามช่องเหนือหมู่ที่ 9 ตำบลกะไหล อำเภอตะกั่วทุ่ง จังหวัดพังงา หน่วยดำเนินการ สำนักงานจังหวัดพังงา
B15: * | C15: หมวดสินทรัพย์ 12080200 สะพาน | G15: 29900000 | H15: -5950509.6 | I15: 23949490
B17: ** | C17: บัญชี: APC 1208020101 สะพาน | G17: 29900000 | H17: -5950509.6 | I17: 23949490
B19: *** | C19: รายการงบดุล ?????????? | G19: 29900000 | H19: -5950509.6 | I19: 23949490
B21: **** | C21: รหัสจังหวัด 8200 พังงา | G21: 29900000 | H21: -5950509.6 | I21: 23949490
B23: ***** | C23: รหัสหน่วยงาน G072 งบจังหวัดพังงา | G23: 29900000 | H23: -5950509.6 | I23: 23949490

Sheet สิ่งปลูกสร้าง
A1: 22.10.2021 การแสดงรายการไดนามิก 1
A3: 22.10.2021
A5: วันที่รายงาน : | C5: 30.09.2021 | E5: ยอดสินทรัพย์คงเหลือ - 01 คส.ตามบัญชี
A6: สร้างเมื่อ : | C6: 22.10.2021 | J6: 1
A8: รหัสหน่วยงาน | B8: รหัสจังหวัด | D8: รายการงบดุล | E8: บัญชีงบดุลAPC | G8: หมวดสินทรัพย์
A9: G072 | B9: 8200 | D9: ?????????? | F9: 1205040101 | G9: 12050400
B11: สินทรัพย์ | C11: SNo. | D11: Cap.date | E11: คำอธิบายของสินทรัพย์ | F11: มูลค่าการได้มา | G11: ค่าเสื่อมสะสม | H11: มูลค่าตามบัญชี
B13: 100000000022 | C13: 0 | D13: 21.08.2009 | E13: โรงเก็บเรือยนต์เร็วตรวจการณ์ อ.คุระบุรี | F13: 69551 | G13: -56161.66 | H13: 13389.34 | J13: 2552-5 โครงการสร้างโรงเก็บเรือยนต์เร็วตรวจการ หน่วยดำเนินการ ที่ทำการปกครอง อ.คุระบุรี
B14: 100000000024 | C14: 0 | D14: 26.08.2009 | E14: โรงเพาะชำกล้าปาล์ม-สนง.สหกรณ์ | F14: 1290000 | G14: -1040482.2 | H14: 249517.85 | J14: 2552-2 โครงการผลิดปาล์มน้ำมันจังหวัดพังงา กิจกรรมแปลงเพาะกล้าปาล์มน้ำมันพันธุ์ดี 1 แปลง หน่วยดำเนินการ สำนักงานสหกรณ์ จ.พังงา
B15: 100000000026 | C15: 0 | D15: 09.07.2009 | E15: โรงเพาะชำกล้าปาล์ม-สนง.สหกรณ์ | F15: 232000 | G15: -189159.37 | H15: 42840.63 | J15: 2552-2 โครงการผลิดปาล์มน้ำมันจังหวัดพังงา กิจกรรมแปลงเพาะกล้าปาล์มน้ำมันพันธุ์ดี 1 แปลง หน่วยดำเนินการ สำนักงานสหกรณ์ จ.พังงา
B16: 100000000025 | C16: 0 | D16: 17.02.2009 | E16: โรงเพาะชำกล้าไม้-สนง.ทสจ. | F16: 45715.75 | G16: -38459.63 | H16: 7256.12 | J16: 2552-7 โครงการชาวพังงารักษ์ป่าคุ้มครองสิ่งแวดล้อม กิจกรรมเพราะชำกล้าไม้เพื่อเพิ่มพื้นที่สีเขียวจังหวัดพังงา สำนักงานทรัพยากรธรรมชาติและสิ่งแวดล้อม จ.พังงา
A17: ไม่โอน | B17: 100000000030 | C17: 0 | D17: 17.11.2009 | E17: โรงจอดรถยนต์ประจำจวน ผวจ .-สนจ.พง. | F17: 350000 | G17: -276995.43 | H17: 73004.57 | J17: ไม่โอน
B19: 100000000079 | C19: 0 | D19: 08.06.2010 | E19: เตาเผาขยะ รพ.ท้ายเหมือง-สนง.สาธารณสุข | F19: 997000 | G19: -752074.89 | H19: 244925.11 | J19: ไทยเข็มแข็ง 2553 โครงการก่อสร้างเตาเผาขยะติดเชื้อพร้อมโรงเรือน หน่วยดำเนินการ สนง.สาธารณสุข จ.พังงา
B20: 100000000080 | C20: 0 | D20: 08.06.2010 | E20: เตาเผาขยะ รพ.บางไทร-สนง.สาธารณสุข | F20: 997000 | G20: -752074.89 | H20: 244925.11 | J20: ไทยเข็มแข็ง 2553 โครงการก่อสร้างเตาเผาขยะติดเชื้อพร้อมโรงเรือน หน่วยดำเนินการ สนง.สาธารณสุข จ.พังงา
B21: 100000000081 | C21: 0 | D21: 03.06.2010 | E21: โรงผลิตปุ๋ยและโกดังเก็บปุ๋ยอินทรีย์-อ.ท้ายเหมือง | F21: 250000 | G21: -188812.79 | H21: 61187.21 | J21: 2553 โครงการส่งเสริมการผลิตสินค้าเกษตรอินทรีย์ กิจกรรม โรงผลิตปุ๋ยอินทรีย์ชีวภาพอำเภอท้ายเหมือง หน่วยดำเนินการ สนง.เกษตร จ.พังงา
B23: 100000000243 | C23: 0 | D23: 06.07.2012 | E23: เสาไฟแสงสว่าง สูง 25 ม. หน้า อ.คุระบุรี-สนง.โยธาฯ | F23: 820000 | G23: -505016.26 | H23: 314983.74 | J23: 2555-โครงการปรับปรุงระบบแสงสว่างในแหล่งท่องเที่ยวสำคัญ หน่วยดำเนินการ สนง.โยธาธิการและผังเมือง จ.พังงา
B24: 100000000244 | C24: 0 | D24: 06.07.2012 | E24: เสาไฟแสงสว่าง สูง 25 ม. ปากทางทับละมุ-สนง.โยธาฯ | F24: 830000 | G24: -511174.97 | H24: 318825.03 | J24: 2555-โครงการปรับปรุงระบบแสงสว่างในแหล่งท่องเที่ยวสำคัญ หน่วยดำเนินการ สนง.โยธาธิการและผังเมือง จ.พังงา
B25: 100000000245 | C25: 0 | D25: 06.07.2012 | E25: เสาไฟแสงสว่าง สูง 25 ม. เกาะกลางทางโค้ง ต.หล่อยูง | F25: 830000 | G25: -511174.97 | H25: 318825.03 | J25: 2555-โครงการปรับปรุงระบบแสงสว่างในแหล่งท่องเที่ยวสำคัญ หน่วยดำเนินการ สนง.โยธาธิการและผังเมือง จ.พังงา
B26: 100000000246 | C26: 0 | D26: 06.07.2012 | E26: เสาไฟแสงสว่าง สูง 25 ม. ตรงข้ามเรือสำเภาวังหม้อแกง | F26: 830000 | G26: -511174.97 | H26: 318825.03 | J26: 2555-โครงการปรับปรุงระบบแสงสว่างในแหล่งท่องเที่ยวสำคัญ หน่วยดำเนินการ สนง.โยธาธิการและผังเมือง จ.พังงา
B27: 100000000247 | C27: 0 | D27: 06.07.2012 | E27: เสาไฟแสงสว่าง สูง 25 ม. ตลาดเก่าโคกกลอย-สนง.โยธาฯ | F27: 830000 | G27: -511174.97 | H27: 318825.03 | J27: 2555-โครงการปรับปรุงระบบแสงสว่างในแหล่งท่องเที่ยวสำคัญ หน่วยดำเนินการ สนง.โยธาธิการและผังเมือง จ.พังงา
B28: 100000000248 | C28: 0 | D28: 06.07.2012 | E28: เสาไฟแสงสว่าง สูง 25 ม. บขส.โคกกลอย-สนง.โยธาฯ | F28: 830000 | G28: -511174.97 | H28: 318825.03 | J28: 2555-โครงการปรับปรุงระบบแสงสว่างในแหล่งท่องเที่ยวสำคัญ หน่วยดำเนินการ สนง.โยธาธิการและผังเมือง จ.พังงา
B29: 100000000267 | C29: 0 | D29: 18.10.2012 | E29: ก่อสร้างห้องน้ำ-ห้องสุขา ของศูนย์เรียนรู้การเกษตร | F29: 432000 | G29: -257858.63 | H29: 174141.37 | J29: 2555-โครงการพัฒนาเกษตรกรรมตามแนวเศรษฐกิจพอเพียง กิจกรรมศูนย์เรียนรู้การเกษตรตามแนวเศรษฐกิจพอเพียงจังหวัดพังงา
B31: 100000000311 | C31: 0 | D31: 11.09.2013 | E31: ป้ายแนะนำสถานที่ท่องเที่ยว - สนง.บำรุงทางพังงา | F31: 1497800 | G31: -804298.07 | H31: 693501.93 | J31: เหลือจ่าย 2556 | K31: โครงการจัดทำป้ายบอกแหล่งท่องเที่ยว
B32: 100000000313 | C32: 0 | D32: 01.09.2013 | E32: เสาไฟสูงแสงสว่าง 6 ต้น - โยธา | F32: 4000000 | G32: -2155251.1 | H32: 1844748.9 | J32: เหลือจ่าย 2556 | K32: โครงการติดตั้งไฟฟ้าเสาสูง เพิ่มเติม (6 ต้น)
B33: 100000000314 | C33: 0 | D33: 25.09.2013 | E33: เสาไฟสูงแสงสว่าง 15 ต้น - โยธา | F33: 8800000 | G33: -4702977.2 | H33: 4097022.8 | J33: 2556 | K33: โครงการติดตั้งแสงสว่างในแหล่งท่องเที่ยวและชุมชนเมือง
B35: 100000000344 | C35: 0 | D35: 28.09.2014 | E35: ป้ายประชาสัมพันธ์ OVERHEAD SIGN-แขวงการทางภูเก็ต | F35: 1899800 | G35: -887614.31 | H35: 1012185.7 | J35: 2557 | K35: ค.ประชาสัมพันธ์แหล่งท่องเที่ยว
B36: 100000000348 | C36: 0 | D36: 28.10.2014 | E36: ป้ายประชาสัมพันธ์ OVERHEAD SIGN-บำรุงทางพังงา | F36: 1926933.8 | G36: -889733.11 | H36: 1037200.7 | J36: 2557 | K36: ค.ประชาสัมพันธ์แหล่งท่องเที่ยว
B37: 100000000356 | C37: 0 | D37: 04.12.2014 | E37: โรงอบแห้งชนิดกรีนเฮ้าท์ | F37: 1214700 | G37: -331596.46 | H37: 883103.54 | J37: 2557 | K37: โครงการส่งเสริมเศรษฐกิจพอเพียงโดยใช้พลังงานทดแทนในกลุ่มอาชีพเกษตรกรรม หน่วยดำเนินการ สนง.พลังงาน จ.พังงา
B38: 100000000357 | C38: 0 | D38: 04.12.2014 | E38: โรงอบแห้งยางพารา-พลังงาน | F38: 335300 | G38: -91532.31 | H38: 243767.69 | J38: 2557 | K38: โครงการส่งเสริมเศรษฐกิจพอเพียงโดยใช้พลังงานทดแทนในกลุ่มอาชีพเกษตรกรรม หน่วยดำเนินการ สนง.พลังงาน จ.พังงา
B39: 100000000358 | C39: 0 | D39: 08.12.2014 | E39: ระบบผลิตก๊าซชีวภาพ-พลังงาน | F39: 800000 | G39: -218038.36 | H39: 581961.64 | J39: 2557 | K39: โครงการส่งเสริมเศรษฐกิจพอเพียงโดยใช้พลังงานทดแทนในกลุ่มอาชีพเกษตรกรรม หน่วยดำเนินการ สนง.พลังงาน จ.พังงา
B41: 100000000386 | C41: 0 | D41: 01.08.2015 | E41: ก่อสร้างอาคารศูนย์บริการนักท่องเที่ยวคลองสังเน่ห์ | F41: 5255700 | G41: -2160836.7 | H41: 3094863.3 | J41: 2558 | K41: โครงการพัฒนาแหล่งท่องเที่ยว อำเภอตะกั่วป่า
B42: 100000000387 | C42: 0 | D42: 06.08.2015 | E42: ปรับปรุงภูมิทัศน์บ่อน้ำศักดิ์สิทธิ์-อ.เมืองพังงา | F42: 539000 | G42: -331669.59 | H42: 207330.41 | J42: 2558 | K42: โครงการพัฒนาแหล่งท่องเที่ยวเชิงนิเวศจังหวัดพังงาสู่สากล
B43: 100000000391 | C43: 0 | D43: 21.09.2015 | E43: เสาไฟฟ้าแสงสว่าง - แขวงทางหลวงพังงา | F43: 3981497 | G43: -1599870.9 | H43: 2381626.1 | J43: เบิกแทน 2558 | K43: 2558-5 โครงการพัฒนาแหล่งท่องเที่ยว หน่วยดำเนินการ แขวงทางหลวงพังงา
B45: 100000000402 | C45: 0 | D45: 15.01.2016 | E45: ป้ายประชาสัมพันธ์ประเภทเคลื่อนไหวบนจอภาพไฟฟ้า-สนจ. | F45: 1845000 | G45: -702460.82 | H45: 1142539.2 | J45: 2558 - 4.โครงการสนับสนุนกิจกรรมเพื่อกระตุ้นตลาดด้านการท่องเที่ยวจังหวัดพังงา กิจกรรม ติดตั้งป้ายประชาสัมพันธ์ประเภทภาพเคลื่อนไหวบนจอภาพไฟฟ้า (LED FULL) หน่วยดำเนินการ สำนักงานจังหวัดพังงา
B46: 100000000451 | C46: 0 | D46: 02.10.2016 | E46: ติดตั้งพลังงานแสงอาทิตย์เกาะพระทอง อ.คุระบุรี | F46: 3961500 | G46: -1320500 | H46: 2641000 | J46: 2559 | K46: โครงการติดตั้งพลังงานแสงอาทิตย์ศูนย์การท่องเที่ยวเกาะพระทอง
B48: 100000000454 | C48: 0 | D48: 01.02.2017 | E48: หลังคาคลุมอัฒจันทร์ - สนจ.พง. | F48: 7560000 | G48: -1410095.3 | H48: 6149904.7 | J48: 2559 | K48: โครงการส่งเสริมและพัฒนาเด็กและเยาวชนด้วยการกีฬา
B49: 100000000456 | C49: 0 | D49: 01.03.2017 | E49: สัญลักษณ์หมู่บ้านรูปหอยมุก ม.2 ต.เกาะปันหยี-สนง.พช | F49: 300000 | G49: -55035.62 | H49: 244964.38 | J49: 2559 | K49: สนง.พัฒนาชุมชน จ.พังงา
B50: 100000000457 | C50: 0 | D50: 01.03.2017 | E50: สัญลักษณ์หมู่บ้านรูปเรือมอแกน บ้านทุ่งรัก -พช. | F50: 300000 | G50: -55035.62 | H50: 244964.38 | J50: 2559 | K50: สนง.พัฒนาชุมชน จ.พังงา
B51: 100000000469 | C51: 0 | D51: 03.04.2017 | E51: สัญลักษณ์หมู่บ้านรูปเต่า บ้านในไร่ ม.7 นาเตย-พช. | F51: 300000 | G51: -53950.68 | H51: 246049.32 | J51: 2559 | K51: สนง.พัฒนาชุมชน จ.พังงา
B52: 100000000505 | C52: 0 | D52: 23.08.2017 | E52: ท่าเทียบเรือหางยาวบ้านปากเกาะ-อ.ตะกั่วป่า | F52: 3508030 | G52: -720347.53 | H52: 2787682.5 | J52: 2559 | K52: โครงการก่อสร้างท่าเทียบเรือหางยาวข้ามฟากบ้านปากเกาะ
...

Sheet ส่วนปรับปรุงอาคาร
A1: 22.10.2021 การแสดงรายการไดนามิก 1
A3: 22.10.2021 | D3: ยอดสินทรัพย์คงเหลือ | P3: 1
A5: วันที่รายงาน : | E5: 30.09.2021 | H5: ยอดสินทรัพย์คงเหลือ - 01 คส.ตามบัญชี
A6: สร้างเมื่อ : | E6: 22.10.2021 | Q6: 1
A8: รหัสหน่วยงาน | F8: รหัสจังหวัด | J8: รายการงบดุล | K8: บัญชีงบดุลAPC | L8: หมวดสินทรัพย์
A9: G072 | F9: 8200 | J9: ?????????? | K9: 1205030106 | L9: 12050800
C11: สินทรัพย์ | E11: SNo. | G11: Cap.date | I11: คำอธิบายของสินทรัพย์ | M11: มูลค่าการได้มา | N11: ค่าเสื่อมสะสม | O11: มูลค่าตามบัญชี
C13: 100000000279 | E13: 0 | G13: 25.12.2012 | I13: ปรับปรุงอาคารจวน ผวจ.พง.-สนจ.พง. | M13: 320000 | N13: -70136.99 | O13: 249863.01
C14: 100000000446 | E14: 0 | G14: 08.06.2016 | I14: ปรับปรุงอาคารหลบภัยสึนามิ จ.พังงา บ้านทุ่งตึก-ปพ.พ | M14: 479000 | N14: -254571.85 | O14: 224428.15 | Q14: ตัดเป็น คชจ.
C15: 100000000716 | E15: 0 | G15: 10.05.2019 | I15: ปรับปรุงบ้านพักผู้ว่าราชการจังหวัดพังงา-สนจ.พง. | M15: 201000 | N15: -48129.86 | O15: 152870.14
B17: * | C17: หมวดสินทรัพย์ 12050800 ส่วนปรับปรุงอาคาร | M17: 1000000 | N17: -372838.7 | O17: 627161.3
B19: ** | C19: บัญชีงบดุล APC 1205030106 ส่วนปรับปรุงอาคาร | M19: 1000000 | N19: -372838.7 | O19: 627161.3
B21: *** | C21: รายการงบดุล ?????????? | M21: 1000000 | N21: -372838.7 | O21: 627161.3
B23: **** | C23: รหัสจังหวัด 8200 พังงา | M23: 1000000 | N23: -372838.7 | O23: 627161.3
B25: ***** | C25: รหัสหน่วยงาน G072 งบจังหวัดพังงา | M25: 1000000 | N25: -372838.7 | O25: 627161.3

Sheet เขื่อน
A1: 22.10.2021 การแสดงรายการไดนามิก 1
A3: 22.10.2021 | I3: 1
A5: วันที่รายงาน : | C5: 30.09.2021 | E5: ยอดสินทรัพย์คงเหลือ - 01 คส.ตามบัญชี
A6: สร้างเมื่อ : | C6: 22.10.2021 | J6: 1
A8: รหัสหน่วยงาน | D8: รหัสจังหวัด | F8: รายการงบดุล | G8: บัญชีงบดุลAPC | H8: หมวดสินทรัพย์
A9: G072 | D9: 8200 | F9: ?????????? | G9: 1208030101 | H9: 12080300
B11: สินทรัพย์ | C11: SNo. | D11: Cap.date | E11: คำอธิบายของสินทรัพย์ | F11: มูลค่าการได้มา | G11: ค่าเสื่อมสะสม | H11: มูลค่าตามบัญชี
B13: 100000000452 | C13: 0 | D13: 01.12.2016 | E13: อาคารบังคับน้ำฝายกั้นคลองพังงา-โยธา | F13: 44160000 | G13: -4639561.6 | H13: 39520438 | J13: 2552 | K13: โครงการก่อสร้างอาคารบังคับน้ำฝายกั้นคลองพังงา | L13: สนง.โยธาธิการและผังเมือง จ.พังงา
B14: 100000000452 | C14: 1 | D14: 01.12.2016 | E14: อาคารบังคับน้ำฝายกั้นคลองพังงา-โยธา | F14: 3840000 | G14: -3839999 | H14: 1 | I14: =SUM(F13:F14) -> 48000000 | J14: 2552 | K14: โครงการก่อสร้างอาคารบังคับน้ำฝายกั้นคลองพังงา | L14: สนง.โยธาธิการและผังเมือง จ.พังงา
B16: 100000000525 | C16: 0 | D16: 01.09.2017 | E16: ระบบน้ำล้นฝายสันมน | F16: 9065333 | G16: -849091.4 | H16: 8216241.6 | J16: 2552 โครงการการรักษาทรัพยากรธรรมชาติและสิ่งแวดล้อม หน่วยดำเนินการ สำนักงาน โยธาธิการและผังเมือง จ.พังงา
B17: 100000000525 | C17: 1 | D17: 01.09.2017 | E17: ระบบน้ำล้นฝายสันมน | F17: 1334667 | G17: -1334666 | H17: 1 | J17: 2552 โครงการการรักษาทรัพยากรธรรมชาติและสิ่งแวดล้อม หน่วยดำเนินการ สำนักงาน โยธาธิการและผังเมือง จ.พังงา
B18: 100000000526 | C18: 0 | D18: 01.09.2017 | E18: เขื่อนหินทิ้งป้องกันตลิ่งริมคลองปากหรา | F18: 570000 | G18: -163295.51 | H18: 406704.49 | I18: 2554 - 12 โครงการก่อสร้างเขื่อนหินทิ้งป้องกันตลิ่งริมคลองปากหรา หน่วยดำเนินการ สนง.ป้องกันและบรรเทาสาธารณภัย จ.พังงา
B19: 100000000526 | C19: 1 | D19: 01.09.2017 | E19: เขื่อนหินทิ้งป้องกันตลิ่งริมคลองปากหรา | F19: 230000 | G19: -229999 | H19: 1 | I19: 2554 - 12 โครงการก่อสร้างเขื่อนหินทิ้งป้องกันตลิ่งริมคลองปากหรา หน่วยดำเนินการ สนง.ป้องกันและบรรเทาสาธารณภัย จ.พังงา
B20: 100000000527 | C20: 0 | D20: 01.09.2017 | E20: เขื่อนหินทิ้งป้องกันตลิ่งริมคลองพังงา ระยะที่ 2 | F20: 283333 | G20: -81641.1 | H20: 201691.9 | J20: 2554-11 โครงการก่อสร้างเขื่อนหินทิ้งป้องกันตลิ่งริมคลองพังงา ระยะที่ 1 และระยะที่ 2 หน่วยดำเนินการ สนง.ป้องกันและบรรเทาสาธารณภัย จ.พังงา
B21: 100000000527 | C21: 1 | D21: 01.09.2017 | E21: เขื่อนหินทิ้งป้องกันตลิ่งริมคลองพังงา ระยะที่ 2 | F21: 116667 | G21: -116666 | H21: 1 | I21: =SUM(F16:F21) -> 11600000 | J21: 2554-11 โครงการก่อสร้างเขื่อนหินทิ้งป้องกันตลิ่งริมคลองพังงา ระยะที่ 1 และระยะที่ 2 หน่วยดำเนินการ สนง.ป้องกันและบรรเทาสาธารณภัย จ.พังงา
B23: หมวดสินทรัพย์ 12080300 เขื่อน | F23: 59600000 | G23: -11254920 | H23: 48345080
B25: บัญชีงบดุล APC 1208030101 เขื่อน | F25: 59600000 | G25: -11254920 | H25: 48345080
B27: รายการงบดุล ?????????? | F27: 59600000 | G27: -11254920 | H27: 48345080
B29: รหัสจังหวัด 8200 พังงา | F29: 59600000 | G29: -11254920 | H29: 48345080
B31: รหัสหน่วยงาน G072 งบจังหวัดพังงา | F31: 59600000 | G31: -11254920 | H31: 48345080

Sheet ถนน
A1: 22.10.2021 การแสดงรายการไดนามิก 1
A3: 22.10.2021 | J3: 1
A5: วันที่รายงาน : | D5: 30.09.2021 | F5: ยอดสินทรัพย์คงเหลือ - 01 คส.ตามบัญชี
A6: สร้างเมื่อ : | D6: 22.10.2021 | K6: 1
A8: รหัสหน่วยงาน | E8: รหัสจังหวัด | G8: รายการงบดุล | H8: บัญชีงบดุลAPC | I8: หมวดสินทรัพย์
A9: G072 | E9: 8200 | G9: ?????????? | H9: 1208010101 | I9: 12080100
C11: สินทรัพย์ | D11: SNo. | E11: Cap.date | F11: คำอธิบายของสินทรัพย์ | G11: มูลค่าการได้มา | H11: ค่าเสื่อมสะสม | I11: มูลค่าตามบัญชี
C13: 100000000522 | D13: 0 | E13: 01.09.2017 | F13: เสริมผิวลาดยาง AC สาย พง.5015 | G13: 1293750 | H13: -1293749 | I13: 1 | J13: ตัดเป็น คชจ.
C14: 100000000522 | D14: 1 | E14: 01.09.2017 | F14: เสริมผิวลาดยาง AC สาย พง.5015 | G14: 5456250 | H14: -5456249 | I14: 1 | J14: ตัดเป็น คชจ.
C15: 100000000523 | D15: 0 | E15: 01.09.2017 | F15: ปรับปรุงจุดบกพร่องทางวิศวกรรมจราจรเขาหลัก | G15: 899280 | H15: -899279 | I15: 1 | J15: ตัดเป็น คชจ. | K15: 2553 โครงการเพิ่มประสิทธิภาพการรักษาความปลอดภัยให้แก่นักท่องเที่ยว กิจกรรมจัดระบบจราจรและคมนาคมแหล่งท่องเที่ยวเขาหลัก หน่วยดำเนินการ แขวงการทางภูเก็ต
C16: 100000000523 | D16: 1 | E16: 01.09.2017 | F16: ปรับปรุงจุดบกพร่องทางวิศวกรรมจราจรเขาหลัก | G16: 2098320 | H16: -2098319 | I16: 1 | J16: ตัดเป็น คชจ. | K16: 2553 โครงการเพิ่มประสิทธิภาพการรักษาความปลอดภัยให้แก่นักท่องเที่ยว กิจกรรมจัดระบบจราจรและคมนาคมแหล่งท่องเที่ยวเขาหลัก หน่วยดำเนินการ แขวงการทางภูเก็ต
C17: 100000000524 | D17: 0 | E17: 01.09.2017 | F17: ยกระดับถนนบริเวณสะพานศรีสุคต | G17: 573333 | H17: -573332 | I17: 1 | K17: 2552 โครงการการรักษาทรัพยากรธรรมชาติและสิ่งแวดล้อม หน่วยดำเนินการ สำนักงาน โยธาธิการและผังเมือง จ.พังงา
C18: 100000000524 | D18: 1 | E18: 01.09.2017 | F18: ยกระดับถนนบริเวณสะพานศรีสุคต | G18: 1026667 | H18: -1026666 | I18: 1 | J18: =SUM(G13:G18) -> 11347600 | K18: 2552 โครงการการรักษาทรัพยากรธรรมชาติและสิ่งแวดล้อม หน่วยดำเนินการ สำนักงาน โยธาธิการและผังเมือง จ.พังงา
C20: 100000000771 | D20: 0 | E20: 01.11.2019 | F20: ถนนทางเข้าอ่างเก็บน้ำบางปุย อ.ทับปุด | G20: 5151054.4 | H20: -986723.96 | I20: 4164330.5 | J20: 2562 - 5 โครงการพัฒนาแหล่งท่องเที่ยวอ่างเก็บน้ำบางปุย หน่วยดำเนินการ ที่ทำการปกครอง อ.ทับปุด
C21: 100000000869 | D21: 0 | E21: 23.06.2020 | F21: ถนนคอนกรีตเสริมเหล็กสายต้นยาง-แหลมแบก | G21: 10485000 | H21: -1335056.1 | I21: 9149943.9 | J21: 2562 - 4 โครงการก่อสร้างถนน คอนกรีตเสริมเหล็ก สายการท่องเที่ยวชุมชนสายต้นยาง-แหลมแบก หมู่ที่ 5 ตำบลเกาะยาวน้อยเพื่อ2562 - 3ส่งเสริมการท่องเที่ยวอำเภอเกาะยาว หน่วยดำเนินการ ที่ทำการปกครอง อ.เกาะยาว
B23: * | C23: หมวดสินทรัพย์ 12080100 ถนน | G23: 26983654 | H23: -13669374 | I23: 13314280
B25: ** | C25: บัญชีงบดุล APC 1208010101 ถนน | G25: 26983654 | H25: -13669374 | I25: 13314280
B27: *** | C27: รายการงบดุล ?????????? | G27: 26983654 | H27: -13669374 | I27: 13314280
B29: **** | C29: รหัสจังหวัด 8200 พังงา | G29: 26983654 | H29: -13669374 | I29: 13314280
B31: ***** | C31: รหัสหน่วยงาน G072 งบจังหวัดพังงา | G31: 26983654 | H31: -13669374 | I31: 13314280

Sheet ส.โครงสร้างพื้นฐาน
A1: 22.10.2021 การแสดงรายการไดนามิก 1
A3: 22.10.2021 | I3: 1
A5: วันที่รายงาน : | C5: 30.09.2021 | E5: ยอดสินทรัพย์คงเหลือ - 01 คส.ตามบัญชี
A6: สร้างเมื่อ : | C6: 22.10.2021 | J6: 1
A8: รหัสหน่วยงาน | D8: รหัสจังหวัด | F8: รายการงบดุล | G8: บัญชีงบดุลAPC | H8: หมวดสินทรัพย์
A9: G072 | D9: 8200 | F9: ?????????? | G9: 1208050101 | H9: 12080500
B11: สินทรัพย์ | C11: SNo. | D11: Cap.date | E11: คำอธิบายของสินทรัพย์ | F11: มูลค่าการได้มา | G11: ค่าเสื่อมสะสม | H11: มูลค่าตามบัญชี
B13: 100000000265 | C13: 0 | D13: 01.11.2012 | E13: ปรับปรุงภูมิทัศน์บ้านพักหัวหน้าสำนักงานจังหวัด | F13: 295000 | G13: -131497.26 | H13: 163502.74 | I13: =+F13 -> 295000 | J13: ไม่โอน
B15: 100000000284 | C15: 0 | D15: 04.01.2013 | E15: ป้ายจราจรและป้ายแนะนำสถานที่ท่องเที่ยว-บำรุงทาง | F15: 1861347 | G15: -813383.14 | H15: 1047963.9 | I15: 2555-ติดตั้งป้ายแนะนำสถานที่ท่องเที่ยวจังหวัดพังงา หน่วยดำเนินการ สนง.บำรุงทางพังงา
B16: 100000000285 | C16: 0 | D16: 24.01.2013 | E16: ปรับปรุงภูมิทัศน์ศาลเจ้าแม่นางหงส์-บำรุงทาง | F16: 2989321 | G16: -1298102.4 | H16: 1691218.6 | I16: 2555-7 โครงการพัฒนาแหล่งท่องเที่ยวหลักในพื้นที่จังหวัดพังงา หน่วยดำเนินการ สนง.บำรุงทางพังงา
B17: 100000000287 | C17: 0 | D17: 09.01.2013 | E17: ปรับปรุงภูมิทัศน์แหล่งท่องเที่ยวบ้านสามช่อง-อ.ตะกั | F17: 1180000 | G17: -514835.62 | H17: 665164.38 | I17: 2555-พัฒนาแหล่งท่องเที่ยวชุมชนบ้านสามช่อง อ.ตะกั่วทุ่ง
B18: 100000000290 | C18: 0 | D18: 12.02.2013 | E18: ระบบประปาโคกกลอยระยะที่ 2-อ.ตะกั่วทุ่ง | F18: 8950000 | G18: -3863212.3 | H18: 5086787.7 | I18: 2555-โครงการพัฒนาระบบประปาโคกกลอยระยะที่ 2
B19: 100000000291 | C19: 0 | D19: 26.02.2013 | E19: พัฒนาภูมิทัศน์พิพิธภัณฑ์กลางแจ้งเรือเกยตื้นฯ-วัฒนธ | F19: 1932128.9 | G19: -830286.05 | H19: 1101842.8 | I19: 2555 โครงการพัฒนาภูมิทัศน์พิพิธภัณฑ์กลางแจ้งเรือเกยตื้นธรณีพิบัติภัยสึนามิ
B20: 100000000294 | C20: 0 | D20: 09.05.2013 | E20: เขาตะปูจำลอง-สนง.เกษตร จ.พังงา | F20: 994000 | G20: -417343.84 | H20: 576656.16 | I20: 2555-โครงการพัฒนาขีดความสามารถในการแปรรูปผลผลิตทางการเกษตร กิจกรรมก่อสร้างเขาตะปูและปรับปรุงภูมิทัศน์วังหม้อแกง
B21: 100000000298 | C21: 0 | D21: 13.06.2013 | E21: ปรับปรุงภูมิทัศน์ทางขึ้น-ลง จุดล่องแก่งสองแพรก | F21: 499000 | G21: -207119.18 | H21: 291880.82 | I21: 2556 | J21: โครงการพัฒนาแหล่งท่องเที่ยวจังหวัดพังงา
B22: 100000000301 | C22: 0 | D22: 01.08.2013 | E22: ปรับปรุงภูมิทัศน์และถนนขึ้นจุดชมวิวเขานางหงส์ | F22: 1895000 | G22: -773834.93 | H22: 1121165.1 | I22: เหลือจ่าย 2556 | J22: โครงการปรับปรุงภูมิทัศน์และถนนขึ้นจุดชมวิวเขานางหงส์
B23: 100000000302 | C23: 0 | D23: 06.08.2013 | E23: พัฒนาแหล่งท่องเที่ยวหนองน้ำค้างคาว-อ.กะปง | F23: 1975000 | G23: -805150.68 | H23: 1169849.3 | I23: 2556 | J23: โครงการพัฒนาแหล่งท่องเที่ยวหนองน้ำค้างคาว หน่วยดำเนินการ ที่ทำการปกครอง อ.กะปง
B24: 100000000303 | C24: 0 | D24: 06.08.2013 | E24: ปรับปรุงภูมิทัศน์แหล่งท่องเที่ยวน้ำตกวัดเขา-อ.ตะกั | F24: 1975000 | G24: -805150.68 | H24: 1169849.3 | I24: 2556 | J24: โครงการพัฒนาแหล่งท่องเที่ยวจังหวัดพังงา
B25: 100000000304 | C25: 0 | D25: 02.08.2013 | E25: ปรับปรุงทางระบายน้ำแหล่งท่องเที่ยวเรือ ต.813-อ.ตะก | F25: 1500000 | G25: -612328.77 | H25: 887671.23 | I25: เหลือจ่าย 2556 | J25: โครงการปรับปรุงทางระบายน้ำแหล่งท่องเที่ยวเรือ ต.813
B26: 100000000305 | C26: 0 | D26: 02.08.2013 | E26: นิทรรศการถาวรพิพิธภัณฑ์ท้องถิ่นจ.พังงา-วัฒนธรรม | F26: 1965000 | G26: -802150.68 | H26: 1162849.3 | I26: 2556 | J26: โครงการพังงาน่าอยู่คู่วิถีชีวิตวัฒนธรรมสร้างสรรค์จริยธรรมและเศรษฐกิจประชาชน กิจกรรมพัฒนาแหล่งเรียนรู้ประวัติศาสตร์โบราณคดีและวิถีชีวิตชาวพังงา หน่วยดำเนินการ สนง.วัฒนธรรม จ.พังงา
B27: 100000000307 | C27: 0 | D27: 10.09.2013 | E27: ปรับปรุงภูมิทัศน์แหล่งท่องเที่ยวหานป่าสะตอ-อ.ตะกั่ | F27: 1184600 | G27: -477247.75 | H27: 707352.25 | I27: 2556 | J27: โครงการพัฒนาแหล่งท่องเที่ยวจังหวัดพังงา
B28: 100000000308 | C28: 0 | D28: 11.09.2013 | E28: พัฒนาแหล่งน้ำหานบัว-อ.ตะกั่วทุ่ง | F28: 1970000 | G28: -793397.26 | H28: 1176602.7 | I28: 2556 | J28: โครงการพัฒนาแหล่งน้ำหานบัว ตำบลโคกกลอย เพื่อการท่องเที่ยวเชิงนิเวศ
B29: 100000000309 | C29: 0 | D29: 20.09.2013 | E29: ปรับปรุงภูมิทัศน์แหล่งท่องเที่ยวหาดบางสัก-อ.ตะกั่ว | F29: 1199100 | G29: -481446.86 | H29: 717653.14 | J29: เหลือจ่าย 2556 | K29: โครงการปรับปรุงภูมิทัศน์แหล่งท่องเที่ยวหาดบางสักอำเภอตะกั่วป่า
B30: 100000000310 | C30: 0 | D30: 01.09.2013 | E30: ทางเท้าและคูระบายน้ำตลาดน้ำเค็มวังหม้อแกง-สนจ.พง. | F30: 150000 | G30: -60616.44 | H30: 89383.56 | J30: เหลือจ่าย 2556 | K30: โครงการบริหารจัดการตลาดน้ำเค็มวังหม้อแกงเมืองพังงา หน่วยดำเนินการ สำนักงานจังหวัดพังงา
B31: 100000000312 | C31: 0 | D31: 13.09.2013 | E31: เขื่อนหินทิ้งป้องกันตลิ่งริมคลองพังงา-สนจ.พง. | F31: 4969000 | G31: -1999852.3 | H31: 2969147.7 | I31: =SUM(F15:F31) -> 37188497 | J31: เหลือจ่าย 2556 | K31: โครงการก่อสร้างเขื่อนป้องกันตลิ่งริมคลองพังงา (บริเวณศูนย์ราชการจังหวัดพังงา)
B33: 100000000320 | C33: 0 | D33: 12.03.2014 | E33: ปรับปรุงท่าเทียบเรือบ้านท่าด่าน-สนง.โยธาฯ | F33: 4986000 | G33: -1883751.8 | H33: 3102248.2 | J33: 2556 | K33: โครงการปรับปรุงท่าเทียบเรือบ้านท่าด่าน (ลงอ่าวพังงา)
B34: 100000000321 | C34: 0 | D34: 01.03.2014 | E34: อาคารจำหน่ายสินค้าโอท็อบลานดนตรีและวัฒนธรรม | F34: 6950000 | G34: -2636239.7 | H34: 4313760.3 | J34: 2556 | K34: โครงการพัฒนาศูนย์จำหน่ายสินค้า OTOP ลานดนตรีและวัฒนธรรมจังหวัดพังงา
B35: 100000000324 | C35: 0 | D35: 30.04.2014 | E35: ปรับปรุงภูมิทัศน์แหล่งท่องเที่ยวบ้านท่าด่าน-โยธา | F35: 1445000 | G35: -536233.56 | H35: 908766.44 | J35: เหลือจ่าย 2556 | K35: โครงการปรับปรุงและพัฒนาแหล่งท่องเที่ยวบ้านท่าด่าน
B36: 100000000325 | C36: 0 | D36: 21.04.2014 | E36: ปรับปรุงภูมิทัศน์แหล่งท่องเที่ยวเขานางหงส์-อ.ทับปุ | F36: 1947000 | G36: -724924.11 | H36: 1222075.9 | J36: 2557 | K36: โครงการพัฒนาแหล่งท่องเที่ยวจังหวัดพังงา
B37: 100000000343 | C37: 0 | D37: 28.08.2014 | E37: ก่อสร้างทางเดินเท้าและจุดชมพลับพลึงธาร-อ.คุระบุรี | F37: 800000 | G37: -283726.03 | H37: 516273.97 | J37: 2557 | K37: โครงการพัฒนาแหล่งท่องเที่ยวจังหวัดพังงา
B38: 100000000352 | C38: 0 | D38: 20.11.2014 | E38: ปรับปรุงภูมิทัศน์หนองน้ำค้างคาว-อ.กะปง | F38: 1499000 | G38: -257191.44 | H38: 1241808.6 | I38: =SUM(F33:F38) -> 17627000 | J38: 2557 | K38: โครงการพัฒนาแหล่งท่องเที่ยวจังหวัดพังงา
B40: 100000000366 | C40: 0 | D40: 02.02.2015 | E40: ปรับปรุงภูมิทัศน์แหล่งท่องเที่ยวเกาะไข่ อ.เกาะยาว | F40: 1799000 | G40: -1198183.3 | H40: 600816.71 | J40: 2557 | K40: โครงการพัฒนาแหล่งท่องเที่ยวจังหวัดพังงา
B41: 100000000367 | C41: 0 | D41: 21.01.2015 | E41: ปรับปรุงภูมิทัศน์ฯ หลวงปู่แช่ม-อ.ทับปุด | F41: 1259999 | G41: -562224.2 | H41: 697774.8 | J41: 2557 | K41: โครงการพัฒนาแหล่งท่องเที่ยวจังหวัดพังงา
B42: 100000000396 | C42: 0 | D42: 14.12.2015 | E42: ปรับปรุงภูมิทัศน์แหลมสนงาม-อ.เกาะยาว | F42: 9950000 | G42: -3783499.6 | H42: 6166500.4 | I42: =SUM(F40:F42) -> 13008999 | J42: 2558 - 3.โครงการพัฒนาแหล่งท่องเที่ยวเชิงนิเวศจังหวัดพังงาสู่สากล กิจกรรม ปรับปรุงภูมิทัศน์แหลมสนงาม หมู่ที่ 5 ต.เกาะยาว อ.เกาะยาว จ.พังงา หน่วยดำเนินการ ที่ทำการปกครอง อ.เกาะยาว
B44: 100000000614 | C44: 0 | D44: 10.09.2018 | E44: โป๊ะพร้อมสะพานท่าเทียบเรือ ต.เกาะปันหยี-อ.เมือง | F44: 10363100 | G44: -1056184.4 | H44: 9306915.6 | I44: =+F44 -> 10363100 | J44: 2561 | K44: โครงการก่อสร้างโป๊ะพร้อมสะพานท่าเทียบเรือ ตำบลเกาะปันหยี
B46: 100000000623 | C46: 0 | D46: 01.06.2019 | E46: ปรับปรุงภมิทัศน์สวนสาธารณะทุ่งพระโพธิ์-อ.ตะกั่วป่า | F46: 3951692 | G46: -473003.88 | H46: 3478688.1 | I46: 2561 | J46: โครงการปรับปรุงภูมิทัศน์สวนสาธารณะทุ่งพระโพธิ์ เมืองตะกั่วป่าอำเภอตะกั่วป่า จังหวัดพังงา
B47: 100000000623 | C47: 1 | D47: 01.06.2019 | E47: ปรับปรุงภมิทัศน์สวนสาธารณะทุ่งพระโพธิ์-อ.ตะกั่วป่า | F47: 102480.47 | G47: -102479.47 | H47: 1 | I47: 2561 | J47: โครงการปรับปรุงภูมิทัศน์สวนสาธารณะทุ่งพระโพธิ์ เมืองตะกั่วป่าอำเภอตะกั่วป่า จังหวัดพังงา
B48: 100000000694 | C48: 0 | D48: 01.03.2019 | E48: ปรับปรุงภูมิทัศน์บ่อน้ำร้อนรมณีย์-ปกครอง | F48: 2621369.9 | G48: -1029784.9 | H48: 1591584.9 | I48: ไทยเข้มแข็ง 2553 | J48: โครงการส่งเสริมและพัฒนาแหล่งท่องเที่ยวและกิจกรรมการท่องเที่ยวที่หลากหลาย | O48: ที่ทำการปกครอง จ.พังงา
B49: 100000000694 | C49: 1 | D49: 01.03.2019 | E49: ปรับปรุงภูมิทัศน์บ่อน้ำร้อนรมณีย์-ปกครอง | F49: 3358630.1 | G49: -3358629.1 | H49: 1 | I49: ไทยเข้มแข็ง 2553 | J49: โครงการส่งเสริมและพัฒนาแหล่งท่องเที่ยวและกิจกรรมการท่องเที่ยวที่หลากหลาย | O49: ที่ทำการปกครอง จ.พังงา
B50: 100000000695 | C50: 0 | D50: 01.03.2019 | E50: ปรับปรุงภูมิทัศน์ถ้ำซำ-ปกครอง | F50: 740410.59 | G50: -294541.76 | H50: 445868.83 | I50: ไทยเข้มแข็ง 2553 | J50: โครงการส่งเสริมและพัฒนาแหล่งท่องเที่ยวและกิจกรรมการท่องเที่ยวที่หลากหลาย | O50: ที่ทำการปกครอง จ.พังงา
...

Sheet อาคารเพื่อประโยชน์อื่น
A1: 22.10.2021 การแสดงรายการไดนามิก 1
A3: 22.10.2021 | I3: 1
A5: วันที่รายงาน : | C5: 30.09.2021 | E5: ยอดสินทรัพย์คงเหลือ - 01 คส.ตามบัญชี
A6: สร้างเมื่อ : | C6: 22.10.2021 | J6: 1
A8: รหัสหน่วยงาน | D8: รหัสจังหวัด | F8: รายการงบดุล | G8: บัญชีงบดุลAPC | H8: หมวดสินทรัพย์
A9: G072 | D9: 8200 | F9: ?????????? | G9: 1205030101 | H9: 12050300
B11: สินทรัพย์ | C11: SNo. | D11: Cap.date | E11: คำอธิบายของสินทรัพย์ | F11: มูลค่าการได้มา | G11: ค่าเสื่อมสะสม | H11: มูลค่าตามบัญชี
B13: 100000000023 | C13: 0 | D13: 14.07.2009 | E13: อาคารศูนย์รวบรวมน้ำยางสด-สนง.เกษตร | F13: 1000000 | G13: -814429.17 | H13: 185570.83 | I13: =+F13 -> 1000000 | J13: 2552 | K13: โครงการเพิ่มประสิทธิภาพการผลิตยางพารา กิจกรรมพัฒนาวิสาหกิจชุมชนยางพารา
B15: 100000000369 | C15: 0 | D15: 18.02.2015 | E15: อาคารศูนย์บริการนักท่องเที่ยวน้ำพุร้อนรมณีย์ | F15: 1899000 | G15: -837641.1 | H15: 1061358.9 | J15: 2557 | K15: โครงการพัฒนาแหล่งท่องเที่ยวจังหวัดพังงา
B16: 100000000385 | C16: 0 | D16: 04.08.2015 | E16: อาคารบริการนักท่องเที่ยวหาดท้ายเหมือง | F16: 1490000 | G16: -917676.71 | H16: 572323.29 | I16: =SUM(F15:F16) -> 3389000 | J16: 2557 | K16: โครงการพัฒนาแหล่งท่องเที่ยวจังหวัดพังงา
B18: 100000000520 | C18: 0 | D18: 01.09.2017 | E18: อาคารลานเทปาล์มน้ำมัน-สนง.เกษตร | F18: 1706666.7 | G18: -870867.58 | H18: 835799.09 | I18: 2552 | J18: โครงการผลิดปาล์มน้ำมันจังหวัดพังงา กิจกรรมสร้างศูนย์รวบรวมผลผลิตปาล์มน้ำมัน (ลานเท) 2 ลาน
B19: 100000000520 | C19: 1 | D19: 01.09.2017 | E19: อาคารลานเทปาล์มน้ำมัน-สนง.เกษตร | F19: 1493333.3 | G19: -1493332.3 | H19: 1 | I19: 2552 | J19: โครงการผลิดปาล์มน้ำมันจังหวัดพังงา กิจกรรมสร้างศูนย์รวบรวมผลผลิตปาล์มน้ำมัน (ลานเท) 2 ลาน
B20: 100000000521 | C20: 0 | D20: 01.09.2017 | E20: อาคารสำนักงาน ลานเทปาล์มน้ำมัน อ.คุระบุรี | F20: 1915666.8 | G20: -893657.95 | H20: 1022008.8 | J20: ไทยเข็มแข็ง 2553 โครงการส่งเสริมการผลิตสินค้าเกษตรที่มีความสำคัญทางเศรษฐกิจของจังหวัด กิจกรรม สร้างศูนย์รวบรวมผลผลิตปาล์มน้ำมัน (ลานเท) อ.คุระบุรี หน่วยดำเนินการ สนง.เกษตร จ.พังงา
B21: 100000000521 | C21: 1 | D21: 01.09.2017 | E21: อาคารสำนักงาน ลานเทปาล์มน้ำมัน อ.คุระบุรี | F21: 1368333.2 | G21: -1368332.2 | H21: 1 | I21: =SUM(F18:F21) -> 6484000 | J21: ไทยเข็มแข็ง 2553 โครงการส่งเสริมการผลิตสินค้าเกษตรที่มีความสำคัญทางเศรษฐกิจของจังหวัด กิจกรรม สร้างศูนย์รวบรวมผลผลิตปาล์มน้ำมัน (ลานเท) อ.คุระบุรี หน่วยดำเนินการ สนง.เกษตร จ.พังงา
B23: 100000000639 | C23: 0 | D23: 01.03.2019 | E23: อาคารโรงปุ๋ยอินทรีย์อัดเม็ด อ.ตะกั่วป่า-สนง.สหกรณ์ | F23: 505139.73 | G23: -209053.88 | H23: 296085.85 | J23: 2553 | K23: โครงการส่งเสริมการผลิตสินค้าเกษตรอินทรีย์ | N23: สนง.สหกรณ์ จ.พังงา
B24: 100000000639 | C24: 1 | D24: 01.03.2019 | E24: อาคารโรงปุ๋ยอินทรีย์อัดเม็ด อ.ตะกั่วป่า-สนง.สหกรณ์ | F24: 707860.27 | G24: -707859.27 | H24: 1 | J24: 2553 | K24: โครงการส่งเสริมการผลิตสินค้าเกษตรอินทรีย์ | N24: สนง.สหกรณ์ จ.พังงา
B25: 100000000640 | C25: 0 | D25: 01.03.2019 | E25: อาคารศูนย์ข้อมูลบริการพิพิธภัณฑ์เอเชีย-วัฒนธรรม | F25: 1304109.6 | G25: -518786.11 | H25: 785323.48 | J25: 2552 | K25: โครงการอนุรักษ์และพัฒนาแหล่งท่องเที่ยวทางวัฒนธรรมตามเส้นทางแม่น้ำตะกั่วป่า กิจกรรมอนุรักษ์และพัฒนาแหล่งโบราณคดีทุ่งตึก ต.เกาะคอเขา หน่วยดำเนินการ สนง.วัฒนธรรม จ.พังงา
B26: 100000000640 | C26: 1 | D26: 01.03.2019 | E26: อาคารศูนย์ข้อมูลบริการพิพิธภัณฑ์เอเชีย-วัฒนธรรม | F26: 1695890.4 | G26: -1695889.4 | H26: 1 | J26: 2552 | K26: โครงการอนุรักษ์และพัฒนาแหล่งท่องเที่ยวทางวัฒนธรรมตามเส้นทางแม่น้ำตะกั่วป่า กิจกรรมอนุรักษ์และพัฒนาแหล่งโบราณคดีทุ่งตึก ต.เกาะคอเขา หน่วยดำเนินการ สนง.วัฒนธรรม จ.พังงา
B27: 100000000641 | C27: 0 | D27: 01.03.2019 | E27: อาคารฝึกอบรมเกษตรกร-สนง.เกษตรและสหกรณ์ | F27: 2047671.2 | G27: -765545.21 | H27: 1282126 | I27: ไทยเข็มแข็ง 2553 โครงการส่งเสริมการเกษตรตามแนวเศรษฐกิจพอเพียง กิจกรรมก่อสร้างอาคารฝึกอบรมเกษตรกรศูนย์เครือข่ายปราชญ์ชาวบ้านและสำนักงานวิสาหกิจชุมชน หน่วยดำเนินการ สนง.เกษตรและสหกรณ์ จ.พังงา
B28: 100000000641 | C28: 1 | D28: 01.03.2019 | E28: อาคารฝึกอบรมเกษตรกร-สนง.เกษตรและสหกรณ์ | F28: 2392328.8 | G28: -2392327.8 | H28: 1 | I28: ไทยเข็มแข็ง 2553 โครงการส่งเสริมการเกษตรตามแนวเศรษฐกิจพอเพียง กิจกรรมก่อสร้างอาคารฝึกอบรมเกษตรกรศูนย์เครือข่ายปราชญ์ชาวบ้านและสำนักงานวิสาหกิจชุมชน หน่วยดำเนินการ สนง.เกษตรและสหกรณ์ จ.พังงา
B29: 100000000642 | C29: 0 | D29: 01.03.2019 | E29: อาคารเก็บวัสดุ-สนง.เกษตร | F29: 279062.28 | G29: -101909.02 | H29: 177153.26 | I29: ไทยเข็มแข็ง 2553 โครงการส่งเสริมการผลิตสินค้าเกษตรที่มีความสำคัญทางเศรษฐกิจของจังหวัด กิจกรรม ส่งเสริมและพัฒนาการผลิตยางพารา หน่วยดำเนินการ สนง.เกษตร จ.พังงา
B30: 100000000642 | C30: 1 | D30: 01.03.2019 | E30: อาคารเก็บวัสดุ-สนง.เกษตร | F30: 309937.72 | G30: -309936.72 | H30: 1 | I30: ไทยเข็มแข็ง 2553 โครงการส่งเสริมการผลิตสินค้าเกษตรที่มีความสำคัญทางเศรษฐกิจของจังหวัด กิจกรรม ส่งเสริมและพัฒนาการผลิตยางพารา หน่วยดำเนินการ สนง.เกษตร จ.พังงา
B31: 100000000643 | C31: 0 | D31: 01.03.2019 | E31: อาคารแปรรูปผลิตภัณฑ์-สนง.เกษตร | F31: 251094.98 | G31: -85633.55 | H31: 165461.43 | I31: ไทยเข็มแข็ง 2553 โครงการส่งเสริมการเกษตรตามแนวเศรษฐกิจพอเพียง กิจกรรมศูนย์การเรียนรู้การเกษตรตามแนวเศรษฐกิจพอเพียงภูมิปัญญาแห่งแผ่นดินขยายผลสู่ปวงชนขาวไทย จังหวัดพังงา หน่วยดำเนินการ สนง.เกษตร จ.พังงา
B32: 100000000643 | C32: 1 | D32: 01.03.2019 | E32: อาคารแปรรูปผลิตภัณฑ์-สนง.เกษตร | F32: 247905.02 | G32: -247904.02 | H32: 1 | I32: ไทยเข็มแข็ง 2553 โครงการส่งเสริมการเกษตรตามแนวเศรษฐกิจพอเพียง กิจกรรมศูนย์การเรียนรู้การเกษตรตามแนวเศรษฐกิจพอเพียงภูมิปัญญาแห่งแผ่นดินขยายผลสู่ปวงชนขาวไทย จังหวัดพังงา หน่วยดำเนินการ สนง.เกษตร จ.พังงา
B33: 100000000644 | C33: 0 | D33: 01.03.2019 | E33: อาคารหอช่วยเหลือผู้ประสบภัยสืนามิ-ปพ. | F33: 4815318.2 | G33: -1698042.7 | H33: 3117275.5 | I33: Tkk กลุ่ม 2553 | J33: โครงการก่อสร้างอาคารหอช่วยเหลือผู้ประสบภัยสึนามิจังหวัดพังงา
B34: 100000000644 | C34: 1 | D34: 01.03.2019 | E34: อาคารหอช่วยเหลือผู้ประสบภัยสืนามิ-ปพ. | F34: 4999971.1 | G34: -4999970.1 | H34: 1 | I34: Tkk กลุ่ม 2553 | J34: โครงการก่อสร้างอาคารหอช่วยเหลือผู้ประสบภัยสึนามิจังหวัดพังงา
B35: 100000000645 | C35: 0 | D35: 01.03.2019 | E35: อาคารศูนย์เรียนรู้ศูนย์ศึกษาสิ่งแวดล้อม ต.บางเตย | F35: 258356.16 | G35: -86210.04 | H35: 172146.12 | I35: 2554 | J35: โครงการพัฒนาศูนย์ศึกษาสิ่งแวดล้อมทางธรรมชาติเพื่อส่งเสริมการท่องเที่ยวเชิงนิเวศ ต.บางเตย หน่วยดำเนินการ ที่ทำการปกครอง อ.เมืองพังงา
